{"text_format":"1","workbook":"xlsx","n_sheets":10,"sheets":["Team Offense","Team Defense","Rush - Rec","Passing","Punt Returns","Kickoff Returns","Punting","Field Goals","Int - Sack","NFC LEADERS"],"not_rendered":{"charts":0,"images":4,"macros":1,"external_links":16,"defined_names":0,"comments":0,"pivot_tables":0},"unopened":[],"bounds":{"document_bytes":16777216,"sheet_cells":100000,"rows_first":2000,"rows_last":500,"rows_between":2000,"halvings":0,"cell_chars":16384,"cell_head_chars":4096},"cells_cut":0,"cells_raw":0,"read":"whole","date_system":"1900"}

{"sheet":"Team Offense","index":0,"n_rows":69,"n_cols":28,"rows_kept":69,"cut":false,"hidden":false,"merged":[]}
["Games Played",128,{"$f":"+B1*2/16","v":16},"AVERAGE GAMES PLAYED"]
["Offensive Stats:","  ",null,"ARI","ATL","CAR","CHI","DAL","DET","GBP","MIN","NOS","NYG","PHI","SEA","SFO","STL","TBB","WAS",null,"Replay","Actual"]
[]
[null,null,null,null,null,null,null,null,null,null,null,null,null,null,null,null,null,null,null,null,null,null,null,null,"Replay","Replay"]
[null,null,null,null,null,null,null,null,null,null,null,null,null,null,null,null,null,null,null,null,null,null,null,"OFFENSE","Rushing","Passing","Total","Average"]
["First Downs",null,null,{"$f":"'[1]Cumulative Stats'!D6","v":305},{"$f":"'[2]Cumulative Stats'!D6","v":296},{"$f":"'[3]Cumulative Stats'!D6","v":346},{"$f":"'[4]Cumulative Stats'!D6","v":234},{"$f":"'[5]Cumulative Stats'!D6","v":304},{"$f":"'[6]Cumulative Stats'!D6","v":252},{"$f":"'[7]Cumulative Stats'!D6","v":274},{"$f":"'[8]Cumulative Stats'!D6","v":324},{"$f":"'[9]Cumulative Stats'!D6","v":363},{"$f":"'[10]Cumulative Stats'!D6","v":358},{"$f":"'[11]Cumulative Stats'!D6","v":328},{"$f":"'[12]Cumulative Stats'!D6","v":234},{"$f":"'[13]Cumulative Stats'!D6","v":263},{"$f":"'[14]Cumulative Stats'!D6","v":263},{"$f":"'[15]Cumulative Stats'!D6","v":293},{"$f":"'[16]Cumulative Stats'!D6","v":318},{"$f":"SUM(D6:S6)","v":4755},{"$f":"T6/$B$1","v":37.1484375},{"$f":"4712/128","v":36.8125},"NOS","New Orleans",{"$f":"HLOOKUP(W6,$D$2:$S$68,11)","v":1568},{"$f":"HLOOKUP(W6,$D$2:$S$68,20)","v":4916},{"$f":"+Z6+Y6","v":6484},{"$f":"+AA6/$C$1","v":405.25}]
["    Rushing",null,null,{"$f":"'[1]Cumulative Stats'!D7","v":86},{"$f":"'[2]Cumulative Stats'!D7","v":133},{"$f":"'[3]Cumulative Stats'!D7","v":173},{"$f":"'[4]Cumulative Stats'!D7","v":106},{"$f":"'[5]Cumulative Stats'!D7","v":102},{"$f":"'[6]Cumulative Stats'!D7","v":79},{"$f":"'[7]Cumulative Stats'!D7","v":104},{"$f":"'[8]Cumulative Stats'!D7","v":158},{"$f":"'[9]Cumulative Stats'!D7","v":107},{"$f":"'[10]Cumulative Stats'!D7","v":189},{"$f":"'[11]Cumulative Stats'!D7","v":116},{"$f":"'[12]Cumulative Stats'!D7","v":112},{"$f":"'[13]Cumulative Stats'!D7","v":105},{"$f":"'[14]Cumulative Stats'!D7","v":84},{"$f":"'[15]Cumulative Stats'!D7","v":113},{"$f":"'[16]Cumulative Stats'!D7","v":133},{"$f":"SUM(D7:S7)","v":1900},{"$f":"T7/$B$1","v":14.84375},{"$f":"1627/128","v":12.7109375},"CAR","Carolina",2763,3551,6314,394.625]
["    Passing",null,null,{"$f":"'[1]Cumulative Stats'!D8","v":193},{"$f":"'[2]Cumulative Stats'!D8","v":151},{"$f":"'[3]Cumulative Stats'!D8","v":155},{"$f":"'[4]Cumulative Stats'!D8","v":113},{"$f":"'[5]Cumulative Stats'!D8","v":164},{"$f":"'[6]Cumulative Stats'!D8","v":158},{"$f":"'[7]Cumulative Stats'!D8","v":148},{"$f":"'[8]Cumulative Stats'!D8","v":149},{"$f":"'[9]Cumulative Stats'!D8","v":230},{"$f":"'[10]Cumulative Stats'!D8","v":144},{"$f":"'[11]Cumulative Stats'!D8","v":196},{"$f":"'[12]Cumulative Stats'!D8","v":110},{"$f":"'[13]Cumulative Stats'!D8","v":141},{"$f":"'[14]Cumulative Stats'!D8","v":147},{"$f":"'[15]Cumulative Stats'!D8","v":162},{"$f":"'[16]Cumulative Stats'!D8","v":155},{"$f":"SUM(D8:S8)","v":2516},{"$f":"T8/$B$1","v":19.65625},{"$f":"2758/128","v":21.546875},"ATL","Atlanta",2267,3563,5830,364.375]
["    Penalty",null,null,{"$f":"'[1]Cumulative Stats'!D9","v":26},{"$f":"'[2]Cumulative Stats'!D9","v":12},{"$f":"'[3]Cumulative Stats'!D9","v":18},{"$f":"'[4]Cumulative Stats'!D9","v":15},{"$f":"'[5]Cumulative Stats'!D9","v":38},{"$f":"'[6]Cumulative Stats'!D9","v":15},{"$f":"'[7]Cumulative Stats'!D9","v":22},{"$f":"'[8]Cumulative Stats'!D9","v":17},{"$f":"'[9]Cumulative Stats'!D9","v":26},{"$f":"'[10]Cumulative Stats'!D9","v":25},{"$f":"'[11]Cumulative Stats'!D9","v":16},{"$f":"'[12]Cumulative Stats'!D9","v":12},{"$f":"'[13]Cumulative Stats'!D9","v":17},{"$f":"'[14]Cumulative Stats'!D9","v":32},{"$f":"'[15]Cumulative Stats'!D9","v":18},{"$f":"'[16]Cumulative Stats'!D9","v":30},{"$f":"SUM(D9:S9)","v":339},{"$f":"T9/$B$1","v":2.6484375},{"$f":"327/128","v":2.5546875},"MIN","Minnesota",2627,3027,5654,353.375]
[null,null,null,null,null,null,null,null,null,null,null,null,null,null,null,null,null,null,null,null,null,null,"NYG","New York",2677,2967,5644,352.75]
["Rushes",null,null,{"$f":"'[1]Cumulative Stats'!D11","v":329},{"$f":"'[2]Cumulative Stats'!D11","v":476},{"$f":"'[3]Cumulative Stats'!D11","v":516},{"$f":"'[4]Cumulative Stats'!D11","v":420},{"$f":"'[5]Cumulative Stats'!D11","v":395},{"$f":"'[6]Cumulative Stats'!D11","v":369},{"$f":"'[7]Cumulative Stats'!D11","v":385},{"$f":"'[8]Cumulative Stats'!D11","v":491},{"$f":"'[9]Cumulative Stats'!D11","v":376},{"$f":"'[10]Cumulative Stats'!D11","v":523},{"$f":"'[11]Cumulative Stats'!D11","v":440},{"$f":"'[12]Cumulative Stats'!D11","v":381},{"$f":"'[13]Cumulative Stats'!D11","v":395},{"$f":"'[14]Cumulative Stats'!D11","v":394},{"$f":"'[15]Cumulative Stats'!D11","v":428},{"$f":"'[16]Cumulative Stats'!D11","v":457},{"$f":"SUM(D11:S11)","v":6775},{"$f":"T11/$B$1","v":52.9296875},{"$f":"7034/128","v":54.953125},"PHI","Philadelphia",1733,3811,5544,346.5]
[" Yards Gained (Net)",null,null,{"$f":"'[1]Cumulative Stats'!D12","v":1200},{"$f":"'[2]Cumulative Stats'!D12","v":2267},{"$f":"'[3]Cumulative Stats'!D12","v":2763},{"$f":"'[4]Cumulative Stats'!D12","v":1564},{"$f":"'[5]Cumulative Stats'!D12","v":1838},{"$f":"'[6]Cumulative Stats'!D12","v":1331},{"$f":"'[7]Cumulative Stats'!D12","v":1687},{"$f":"'[8]Cumulative Stats'!D12","v":2627},{"$f":"'[9]Cumulative Stats'!D12","v":1568},{"$f":"'[10]Cumulative Stats'!D12","v":2677},{"$f":"'[11]Cumulative Stats'!D12","v":1733},{"$f":"'[12]Cumulative Stats'!D12","v":1700},{"$f":"'[13]Cumulative Stats'!D12","v":1614},{"$f":"'[14]Cumulative Stats'!D12","v":1319},{"$f":"'[15]Cumulative Stats'!D12","v":1753},{"$f":"'[16]Cumulative Stats'!D12","v":2044},{"$f":"SUM(D12:S12)","v":29685},{"$f":"T12/$B$1","v":231.9140625},{"$f":"29686/128","v":231.921875},"ARI","Arizona",1200,4282,5482,342.625]
[" Average Gain",null,null,{"$f":"'[1]Cumulative Stats'!D13","v":3.6474164133738602},{"$f":"'[2]Cumulative Stats'!D13","v":4.7626050420168067},{"$f":"'[3]Cumulative Stats'!D13","v":5.3546511627906979},{"$f":"'[4]Cumulative Stats'!D13","v":3.7238095238095239},{"$f":"'[5]Cumulative Stats'!D13","v":4.6531645569620252},{"$f":"'[6]Cumulative Stats'!D13","v":3.6070460704607048},{"$f":"'[7]Cumulative Stats'!D13","v":4.3818181818181818},{"$f":"'[8]Cumulative Stats'!D13","v":5.3503054989816698},{"$f":"'[9]Cumulative Stats'!D13","v":4.1702127659574471},{"$f":"'[10]Cumulative Stats'!D13","v":5.1185468451242828},{"$f":"'[11]Cumulative Stats'!D13","v":3.9386363636363635},{"$f":"'[12]Cumulative Stats'!D13","v":4.4619422572178475},{"$f":"'[13]Cumulative Stats'!D13","v":4.0860759493670882},{"$f":"'[14]Cumulative Stats'!D13","v":3.3477157360406093},{"$f":"'[15]Cumulative Stats'!D13","v":4.0957943925233646},{"$f":"'[16]Cumulative Stats'!D13","v":4.4726477024070022},null,{"$f":"U12/U11","v":4.3815498154981549},{"$f":"V12/V11","v":4.2203582598805802},"DAL","Dallas",1838,3524,5362,335.125]
[null,null,null,null,null,null,null,null,null,null,null,null,null,null,null,null,null,null,null,null,null,null,"TBB","Tampa By",1753,3333,5086,317.875]
["Passes Attempted",null,null,{"$f":"'[1]Cumulative Stats'!D15","v":594},{"$f":"'[2]Cumulative Stats'!D15","v":462},{"$f":"'[3]Cumulative Stats'!D15","v":470},{"$f":"'[4]Cumulative Stats'!D15","v":524},{"$f":"'[5]Cumulative Stats'!D15","v":525},{"$f":"'[6]Cumulative Stats'!D15","v":535},{"$f":"'[7]Cumulative Stats'!D15","v":532},{"$f":"'[8]Cumulative Stats'!D15","v":502},{"$f":"'[9]Cumulative Stats'!D15","v":647},{"$f":"'[10]Cumulative Stats'!D15","v":539},{"$f":"'[11]Cumulative Stats'!D15","v":590},{"$f":"'[12]Cumulative Stats'!D15","v":480},{"$f":"'[13]Cumulative Stats'!D15","v":513},{"$f":"'[14]Cumulative Stats'!D15","v":517},{"$f":"'[15]Cumulative Stats'!D15","v":557},{"$f":"'[16]Cumulative Stats'!D15","v":492},{"$f":"SUM(D15:S15)","v":8479},{"$f":"T15/$B$1","v":66.2421875},{"$f":"8363/128","v":65.3359375},"GBP","Green Bay",1687,3089,4776,298.5]
[" Completed",null,null,{"$f":"'[1]Cumulative Stats'!D16","v":390},{"$f":"'[2]Cumulative Stats'!D16","v":277},{"$f":"'[3]Cumulative Stats'!D16","v":278},{"$f":"'[4]Cumulative Stats'!D16","v":280},{"$f":"'[5]Cumulative Stats'!D16","v":314},{"$f":"'[6]Cumulative Stats'!D16","v":306},{"$f":"'[7]Cumulative Stats'!D16","v":301},{"$f":"'[8]Cumulative Stats'!D16","v":273},{"$f":"'[9]Cumulative Stats'!D16","v":413},{"$f":"'[10]Cumulative Stats'!D16","v":306},{"$f":"'[11]Cumulative Stats'!D16","v":360},{"$f":"'[12]Cumulative Stats'!D16","v":245},{"$f":"'[13]Cumulative Stats'!D16","v":291},{"$f":"'[14]Cumulative Stats'!D16","v":282},{"$f":"'[15]Cumulative Stats'!D16","v":344},{"$f":"'[16]Cumulative Stats'!D16","v":275},{"$f":"SUM(D16:S16)","v":4935},{"$f":"T16/$B$1","v":38.5546875},{"$f":"5061/128","v":39.5390625},"SFO","San Francisco",1614,3156,4770,298.125]
[" Percent Completed",null,null,{"$f":"'[1]Cumulative Stats'!D17","v":65.656565656565661},{"$f":"'[2]Cumulative Stats'!D17","v":59.95670995670995},{"$f":"'[3]Cumulative Stats'!D17","v":59.148936170212764},{"$f":"'[4]Cumulative Stats'!D17","v":53.435114503816791},{"$f":"'[5]Cumulative Stats'!D17","v":59.80952380952381},{"$f":"'[6]Cumulative Stats'!D17","v":57.196261682242991},{"$f":"'[7]Cumulative Stats'!D17","v":56.578947368421048},{"$f":"'[8]Cumulative Stats'!D17","v":54.382470119521912},{"$f":"'[9]Cumulative Stats'!D17","v":63.833075734157653},{"$f":"'[10]Cumulative Stats'!D17","v":56.771799628942489},{"$f":"'[11]Cumulative Stats'!D17","v":61.016949152542374},{"$f":"'[12]Cumulative Stats'!D17","v":51.041666666666664},{"$f":"'[13]Cumulative Stats'!D17","v":56.725146198830409},{"$f":"'[14]Cumulative Stats'!D17","v":54.54545454545454},{"$f":"'[15]Cumulative Stats'!D17","v":61.759425493716336},{"$f":"'[16]Cumulative Stats'!D17","v":55.894308943089435},null,{"$f":"U16/U15*100","v":58.202618233282223},{"$f":"V16/V15*100","v":60.516561042688032},"WAS","Washington",2044,2451,4495,280.9375]
[" Total Yards Gained",null,null,{"$f":"'[1]Cumulative Stats'!D18","v":4445},{"$f":"'[2]Cumulative Stats'!D18","v":3707},{"$f":"'[3]Cumulative Stats'!D18","v":3680},{"$f":"'[4]Cumulative Stats'!D18","v":2846},{"$f":"'[5]Cumulative Stats'!D18","v":3762},{"$f":"'[6]Cumulative Stats'!D18","v":3443},{"$f":"'[7]Cumulative Stats'!D18","v":3381},{"$f":"'[8]Cumulative Stats'!D18","v":3425},{"$f":"'[9]Cumulative Stats'!D18","v":5058},{"$f":"'[10]Cumulative Stats'!D18","v":3232},{"$f":"'[11]Cumulative Stats'!D18","v":4046},{"$f":"'[12]Cumulative Stats'!D18","v":2466},{"$f":"'[13]Cumulative Stats'!D18","v":3611},{"$f":"'[14]Cumulative Stats'!D18","v":3049},{"$f":"'[15]Cumulative Stats'!D18","v":3577},{"$f":"'[16]Cumulative Stats'!D18","v":2878},{"$f":"SUM(D18:S18)","v":56606},{"$f":"T18/$B$1","v":442.234375},{"$f":"58764/128","v":459.09375},"DET","Detroit",1331,3109,4440,277.5]
[" Passer Tackled",null,null,{"$f":"'[1]Cumulative Stats'!D19","v":40},{"$f":"'[2]Cumulative Stats'!D19","v":24},{"$f":"'[3]Cumulative Stats'!D19","v":24},{"$f":"'[4]Cumulative Stats'!D19","v":37},{"$f":"'[5]Cumulative Stats'!D19","v":36},{"$f":"'[6]Cumulative Stats'!D19","v":46},{"$f":"'[7]Cumulative Stats'!D19","v":38},{"$f":"'[8]Cumulative Stats'!D19","v":56},{"$f":"'[9]Cumulative Stats'!D19","v":19},{"$f":"'[10]Cumulative Stats'!D19","v":38},{"$f":"'[11]Cumulative Stats'!D19","v":30},{"$f":"'[12]Cumulative Stats'!D19","v":38},{"$f":"'[13]Cumulative Stats'!D19","v":59},{"$f":"'[14]Cumulative Stats'!D19","v":43},{"$f":"'[15]Cumulative Stats'!D19","v":40},{"$f":"'[16]Cumulative Stats'!D19","v":53},{"$f":"SUM(D19:S19)","v":621},{"$f":"T19/$B$1","v":4.8515625},{"$f":"524/128","v":4.09375},"STL","St. Louis",1319,2762,4081,255.0625]
["    Yards Lost",null,null,{"$f":"'[1]Cumulative Stats'!D20","v":163},{"$f":"'[2]Cumulative Stats'!D20","v":144},{"$f":"'[3]Cumulative Stats'!D20","v":129},{"$f":"'[4]Cumulative Stats'!D20","v":357},{"$f":"'[5]Cumulative Stats'!D20","v":238},{"$f":"'[6]Cumulative Stats'!D20","v":334},{"$f":"'[7]Cumulative Stats'!D20","v":292},{"$f":"'[8]Cumulative Stats'!D20","v":398},{"$f":"'[9]Cumulative Stats'!D20","v":142},{"$f":"'[10]Cumulative Stats'!D20","v":265},{"$f":"'[11]Cumulative Stats'!D20","v":235},{"$f":"'[12]Cumulative Stats'!D20","v":257},{"$f":"'[13]Cumulative Stats'!D20","v":455},{"$f":"'[14]Cumulative Stats'!D20","v":287},{"$f":"'[15]Cumulative Stats'!D20","v":244},{"$f":"'[16]Cumulative Stats'!D20","v":427},{"$f":"SUM(D20:S20)","v":4367},{"$f":"T20/$B$1","v":34.1171875},{"$f":"3365/128","v":26.2890625},"CHI","Chicago",1564,2489,4053,253.3125]
[" Net Yards Gained",null,null,{"$f":"'[1]Cumulative Stats'!D21","v":4282},{"$f":"'[2]Cumulative Stats'!D21","v":3563},{"$f":"'[3]Cumulative Stats'!D21","v":3551},{"$f":"'[4]Cumulative Stats'!D21","v":2489},{"$f":"'[5]Cumulative Stats'!D21","v":3524},{"$f":"'[6]Cumulative Stats'!D21","v":3109},{"$f":"'[7]Cumulative Stats'!D21","v":3089},{"$f":"'[8]Cumulative Stats'!D21","v":3027},{"$f":"'[9]Cumulative Stats'!D21","v":4916},{"$f":"'[10]Cumulative Stats'!D21","v":2967},{"$f":"'[11]Cumulative Stats'!D21","v":3811},{"$f":"'[12]Cumulative Stats'!D21","v":2209},{"$f":"'[13]Cumulative Stats'!D21","v":3156},{"$f":"'[14]Cumulative Stats'!D21","v":2762},{"$f":"'[15]Cumulative Stats'!D21","v":3333},{"$f":"'[16]Cumulative Stats'!D21","v":2451},{"$f":"SUM(D21:S21)","v":52239},{"$f":"T21/$B$1","v":408.1171875},{"$f":"53856/128","v":420.75},"SEA","Seattle",1700,2209,3909,244.3125]
[" Yards Gained (Net) Per Pass Play",null,null,{"$f":"'[1]Cumulative Stats'!D22","v":6.7539432176656149},{"$f":"'[2]Cumulative Stats'!D22","v":7.3312757201646095},{"$f":"'[3]Cumulative Stats'!D22","v":7.1882591093117405},{"$f":"'[4]Cumulative Stats'!D22","v":4.4367201426024954},{"$f":"'[5]Cumulative Stats'!D22","v":6.2816399286987519},{"$f":"'[6]Cumulative Stats'!D22","v":5.3511187607573154},{"$f":"'[7]Cumulative Stats'!D22","v":5.4192982456140353},{"$f":"'[8]Cumulative Stats'!D22","v":5.424731182795699},{"$f":"'[9]Cumulative Stats'!D22","v":7.3813813813813818},{"$f":"'[10]Cumulative Stats'!D22","v":5.1421143847486999},{"$f":"'[11]Cumulative Stats'!D22","v":6.1467741935483868},{"$f":"'[12]Cumulative Stats'!D22","v":4.2644787644787643},{"$f":"'[13]Cumulative Stats'!D22","v":5.5174825174825175},{"$f":"'[14]Cumulative Stats'!D22","v":4.9321428571428569},{"$f":"'[15]Cumulative Stats'!D22","v":5.5829145728643219},{"$f":"'[16]Cumulative Stats'!D22","v":4.4972477064220184},null,{"$f":"U21/(U15+U19)","v":5.7405494505494508},6.2]
[" Yards Gained Per Completion",null,null,{"$f":"'[1]Cumulative Stats'!D23","v":11.397435897435898},{"$f":"'[2]Cumulative Stats'!D23","v":13.382671480144404},{"$f":"'[3]Cumulative Stats'!D23","v":13.237410071942445},{"$f":"'[4]Cumulative Stats'!D23","v":10.164285714285715},{"$f":"'[5]Cumulative Stats'!D23","v":11.980891719745223},{"$f":"'[6]Cumulative Stats'!D23","v":11.251633986928105},{"$f":"'[7]Cumulative Stats'!D23","v":11.232558139534884},{"$f":"'[8]Cumulative Stats'!D23","v":12.545787545787546},{"$f":"'[9]Cumulative Stats'!D23","v":12.246973365617434},{"$f":"'[10]Cumulative Stats'!D23","v":10.562091503267974},{"$f":"'[11]Cumulative Stats'!D23","v":11.238888888888889},{"$f":"'[12]Cumulative Stats'!D23","v":10.06530612244898},{"$f":"'[13]Cumulative Stats'!D23","v":12.40893470790378},{"$f":"'[14]Cumulative Stats'!D23","v":10.812056737588652},{"$f":"'[15]Cumulative Stats'!D23","v":10.398255813953488},{"$f":"'[16]Cumulative Stats'!D23","v":10.465454545454545},null,{"$f":"U21/U16","v":10.585410334346504},11.6]
[]
["Net Yards Gained"]
[" Rushing and Passing",null,null,{"$f":"'[1]Cumulative Stats'!D26","v":5482},{"$f":"'[2]Cumulative Stats'!D26","v":5830},{"$f":"'[3]Cumulative Stats'!D26","v":6314},{"$f":"'[4]Cumulative Stats'!D26","v":4053},{"$f":"'[5]Cumulative Stats'!D26","v":5362},{"$f":"'[6]Cumulative Stats'!D26","v":4440},{"$f":"'[7]Cumulative Stats'!D26","v":4776},{"$f":"'[8]Cumulative Stats'!D26","v":5654},{"$f":"'[9]Cumulative Stats'!D26","v":6484},{"$f":"'[10]Cumulative Stats'!D26","v":5644},{"$f":"'[11]Cumulative Stats'!D26","v":5544},{"$f":"'[12]Cumulative Stats'!D26","v":3909},{"$f":"'[13]Cumulative Stats'!D26","v":4770},{"$f":"'[14]Cumulative Stats'!D26","v":4081},{"$f":"'[15]Cumulative Stats'!D26","v":5086},{"$f":"'[16]Cumulative Stats'!D26","v":4495},{"$f":"SUM(D26:S26)","v":81924},{"$f":"T26/$B$1","v":640.03125},{"$f":"85085/128","v":664.7265625}]
[" Percent Total Yards - Rushing",null,null,{"$f":"'[1]Cumulative Stats'!D27","v":21.889821233126597},{"$f":"'[2]Cumulative Stats'!D27","v":38.885077186963976},{"$f":"'[3]Cumulative Stats'!D27","v":43.759898637947423},{"$f":"'[4]Cumulative Stats'!D27","v":38.588699728596104},{"$f":"'[5]Cumulative Stats'!D27","v":34.278254382693021},{"$f":"'[6]Cumulative Stats'!D27","v":29.977477477477478},{"$f":"'[7]Cumulative Stats'!D27","v":35.322445561139027},{"$f":"'[8]Cumulative Stats'!D27","v":46.462681287584012},{"$f":"'[9]Cumulative Stats'!D27","v":24.18260333127699},{"$f":"'[10]Cumulative Stats'!D27","v":47.430900070871722},{"$f":"'[11]Cumulative Stats'!D27","v":31.259018759018758},{"$f":"'[12]Cumulative Stats'!D27","v":43.489383474034284},{"$f":"'[13]Cumulative Stats'!D27","v":33.836477987421382},{"$f":"'[14]Cumulative Stats'!D27","v":32.320509679000246},{"$f":"'[15]Cumulative Stats'!D27","v":34.467164766024382},{"$f":"'[16]Cumulative Stats'!D27","v":45.472747497219132},{"$f":"SUM(D27:S27)","v":581.62316106039452}]
[" Percent Total Yards - Passing",null,null,{"$f":"'[1]Cumulative Stats'!D28","v":78.110178766873403},{"$f":"'[2]Cumulative Stats'!D28","v":61.114922813036024},{"$f":"'[3]Cumulative Stats'!D28","v":56.240101362052584},{"$f":"'[4]Cumulative Stats'!D28","v":61.411300271403903},{"$f":"'[5]Cumulative Stats'!D28","v":65.721745617306965},{"$f":"'[6]Cumulative Stats'!D28","v":70.022522522522522},{"$f":"'[7]Cumulative Stats'!D28","v":64.67755443886098},{"$f":"'[8]Cumulative Stats'!D28","v":53.537318712415995},{"$f":"'[9]Cumulative Stats'!D28","v":75.817396668723021},{"$f":"'[10]Cumulative Stats'!D28","v":52.569099929128285},{"$f":"'[11]Cumulative Stats'!D28","v":68.740981240981242},{"$f":"'[12]Cumulative Stats'!D28","v":56.510616525965716},{"$f":"'[13]Cumulative Stats'!D28","v":66.163522012578611},{"$f":"'[14]Cumulative Stats'!D28","v":67.679490320999761},{"$f":"'[15]Cumulative Stats'!D28","v":65.532835233975618},{"$f":"'[16]Cumulative Stats'!D28","v":54.527252502780868},{"$f":"SUM(D28:S28)","v":1018.3768389396052}]
[]
["Ball Control Plays",null,null,{"$f":"'[1]Cumulative Stats'!D30","v":963},{"$f":"'[2]Cumulative Stats'!D30","v":962},{"$f":"'[3]Cumulative Stats'!D30","v":1010},{"$f":"'[4]Cumulative Stats'!D30","v":981},{"$f":"'[5]Cumulative Stats'!D30","v":956},{"$f":"'[6]Cumulative Stats'!D30","v":950},{"$f":"'[7]Cumulative Stats'!D30","v":955},{"$f":"'[8]Cumulative Stats'!D30","v":1049},{"$f":"'[9]Cumulative Stats'!D30","v":1042},{"$f":"'[10]Cumulative Stats'!D30","v":1100},{"$f":"'[11]Cumulative Stats'!D30","v":1060},{"$f":"'[12]Cumulative Stats'!D30","v":899},{"$f":"'[13]Cumulative Stats'!D30","v":967},{"$f":"'[14]Cumulative Stats'!D30","v":954},{"$f":"'[15]Cumulative Stats'!D30","v":1025},{"$f":"'[16]Cumulative Stats'!D30","v":1002},{"$f":"SUM(D30:S30)","v":15875},{"$f":"T30/$B$1","v":124.0234375},{"$f":"15921/128","v":124.3828125}]
[" Average Gain (Net)",null,null,{"$f":"'[1]Cumulative Stats'!D31","v":5.6926272066458985},{"$f":"'[2]Cumulative Stats'!D31","v":6.0602910602910605},{"$f":"'[3]Cumulative Stats'!D31","v":6.2514851485148517},{"$f":"'[4]Cumulative Stats'!D31","v":4.1314984709480118},{"$f":"'[5]Cumulative Stats'!D31","v":5.6087866108786608},{"$f":"'[6]Cumulative Stats'!D31","v":4.6736842105263161},{"$f":"'[7]Cumulative Stats'!D31","v":5.001047120418848},{"$f":"'[8]Cumulative Stats'!D31","v":5.3898951382268825},{"$f":"'[9]Cumulative Stats'!D31","v":6.2226487523992322},{"$f":"'[10]Cumulative Stats'!D31","v":5.1309090909090909},{"$f":"'[11]Cumulative Stats'!D31","v":5.2301886792452832},{"$f":"'[12]Cumulative Stats'!D31","v":4.3481646273637375},{"$f":"'[13]Cumulative Stats'!D31","v":4.9327817993795247},{"$f":"'[14]Cumulative Stats'!D31","v":4.2777777777777777},{"$f":"'[15]Cumulative Stats'!D31","v":4.9619512195121951},{"$f":"'[16]Cumulative Stats'!D31","v":4.4860279441117763},null,{"$f":"U26/U30","v":5.1605669291338581},{"$f":"V26/V30","v":5.3441994849569747}]
[]
["Interceptions"]
[" Had Intercepted",null,null,{"$f":"'[1]Cumulative Stats'!D34","v":13},{"$f":"'[2]Cumulative Stats'!D34","v":8},{"$f":"'[3]Cumulative Stats'!D34","v":15},{"$f":"'[4]Cumulative Stats'!D34","v":27},{"$f":"'[5]Cumulative Stats'!D34","v":18},{"$f":"'[6]Cumulative Stats'!D34","v":19},{"$f":"'[7]Cumulative Stats'!D34","v":22},{"$f":"'[8]Cumulative Stats'!D34","v":15},{"$f":"'[9]Cumulative Stats'!D34","v":11},{"$f":"'[10]Cumulative Stats'!D34","v":10},{"$f":"'[11]Cumulative Stats'!D34","v":15},{"$f":"'[12]Cumulative Stats'!D34","v":13},{"$f":"'[13]Cumulative Stats'!D34","v":31},{"$f":"'[14]Cumulative Stats'!D34","v":13},{"$f":"'[15]Cumulative Stats'!D34","v":8},{"$f":"'[16]Cumulative Stats'!D34","v":3},{"$f":"SUM(D34:S34)","v":241},{"$f":"T34/$B$1","v":1.8828125},{"$f":"237/128","v":1.8515625}]
[" Yards Opponents Returned",null,null,{"$f":"'[1]Cumulative Stats'!D35","v":112},{"$f":"'[2]Cumulative Stats'!D35","v":76},{"$f":"'[3]Cumulative Stats'!D35","v":245},{"$f":"'[4]Cumulative Stats'!D35","v":413},{"$f":"'[5]Cumulative Stats'!D35","v":281},{"$f":"'[6]Cumulative Stats'!D35","v":241},{"$f":"'[7]Cumulative Stats'!D35","v":367},{"$f":"'[8]Cumulative Stats'!D35","v":151},{"$f":"'[9]Cumulative Stats'!D35","v":215},{"$f":"'[10]Cumulative Stats'!D35","v":103},{"$f":"'[11]Cumulative Stats'!D35","v":172},{"$f":"'[12]Cumulative Stats'!D35","v":124},{"$f":"'[13]Cumulative Stats'!D35","v":415},{"$f":"'[14]Cumulative Stats'!D35","v":200},{"$f":"'[15]Cumulative Stats'!D35","v":196},{"$f":"'[16]Cumulative Stats'!D35","v":21},{"$f":"SUM(D35:S35)","v":3332},{"$f":"T35/$B$1","v":26.03125},{"$f":"4068/128","v":31.78125}]
[" Returned by Opponents for TD",null,null,{"$f":"'[1]Cumulative Stats'!D36","v":0},{"$f":"'[2]Cumulative Stats'!D36","v":0},{"$f":"'[3]Cumulative Stats'!D36","v":3},{"$f":"'[4]Cumulative Stats'!D36","v":4},{"$f":"'[5]Cumulative Stats'!D36","v":3},{"$f":"'[6]Cumulative Stats'!D36","v":1},{"$f":"'[7]Cumulative Stats'!D36","v":3},{"$f":"'[8]Cumulative Stats'!D36","v":1},{"$f":"'[9]Cumulative Stats'!D36","v":1},{"$f":"'[10]Cumulative Stats'!D36","v":0},{"$f":"'[11]Cumulative Stats'!D36","v":0},{"$f":"'[12]Cumulative Stats'!D36","v":0},{"$f":"'[13]Cumulative Stats'!D36","v":3},{"$f":"'[14]Cumulative Stats'!D36","v":0},{"$f":"'[15]Cumulative Stats'!D36","v":0},{"$f":"'[16]Cumulative Stats'!D36","v":1},{"$f":"SUM(D36:S36)","v":20},{"$f":"T36/$B$1","v":0.15625},{"$f":"25/128","v":0.1953125}]
[]
["Punts",null,null,{"$f":"'[1]Cumulative Stats'!D38","v":83},{"$f":"'[2]Cumulative Stats'!D38","v":79},{"$f":"'[3]Cumulative Stats'!D38","v":67},{"$f":"'[4]Cumulative Stats'!D38","v":111},{"$f":"'[5]Cumulative Stats'!D38","v":78},{"$f":"'[6]Cumulative Stats'!D38","v":88},{"$f":"'[7]Cumulative Stats'!D38","v":93},{"$f":"'[8]Cumulative Stats'!D38","v":81},{"$f":"'[9]Cumulative Stats'!D38","v":77},{"$f":"'[10]Cumulative Stats'!D38","v":74},{"$f":"'[11]Cumulative Stats'!D38","v":88},{"$f":"'[12]Cumulative Stats'!D38","v":93},{"$f":"'[13]Cumulative Stats'!D38","v":87},{"$f":"'[14]Cumulative Stats'!D38","v":95},{"$f":"'[15]Cumulative Stats'!D38","v":98},{"$f":"'[16]Cumulative Stats'!D38","v":93},{"$f":"SUM(D38:S38)","v":1385},{"$f":"T38/$B$1","v":10.8203125},{"$f":"1198/128","v":9.359375}]
["  Yards Punted",null,null,{"$f":"'[1]Cumulative Stats'!D39","v":3392},{"$f":"'[2]Cumulative Stats'!D39","v":2940},{"$f":"'[3]Cumulative Stats'!D39","v":2765},{"$f":"'[4]Cumulative Stats'!D39","v":4441},{"$f":"'[5]Cumulative Stats'!D39","v":3480},{"$f":"'[6]Cumulative Stats'!D39","v":3762},{"$f":"'[7]Cumulative Stats'!D39","v":3716},{"$f":"'[8]Cumulative Stats'!D39","v":3641},{"$f":"'[9]Cumulative Stats'!D39","v":3543},{"$f":"'[10]Cumulative Stats'!D39","v":3118},{"$f":"'[11]Cumulative Stats'!D39","v":3647},{"$f":"'[12]Cumulative Stats'!D39","v":4073},{"$f":"'[13]Cumulative Stats'!D39","v":3844},{"$f":"'[14]Cumulative Stats'!D39","v":4475},{"$f":"'[15]Cumulative Stats'!D39","v":4207},{"$f":"'[16]Cumulative Stats'!D39","v":3470},{"$f":"SUM(D39:S39)","v":58514},{"$f":"T39/$B$1","v":457.140625},{"$f":"52291/128","v":408.5234375}]
["  Average Yards Per Punt",null,null,{"$f":"'[1]Cumulative Stats'!D40","v":40.867469879518069},{"$f":"'[2]Cumulative Stats'!D40","v":37.215189873417721},{"$f":"'[3]Cumulative Stats'!D40","v":41.268656716417908},{"$f":"'[4]Cumulative Stats'!D40","v":40.009009009009006},{"$f":"'[5]Cumulative Stats'!D40","v":44.615384615384613},{"$f":"'[6]Cumulative Stats'!D40","v":42.75},{"$f":"'[7]Cumulative Stats'!D40","v":39.956989247311824},{"$f":"'[8]Cumulative Stats'!D40","v":44.950617283950621},{"$f":"'[9]Cumulative Stats'!D40","v":46.012987012987011},{"$f":"'[10]Cumulative Stats'!D40","v":42.135135135135137},{"$f":"'[11]Cumulative Stats'!D40","v":41.44318181818182},{"$f":"'[12]Cumulative Stats'!D40","v":43.795698924731184},{"$f":"'[13]Cumulative Stats'!D40","v":44.183908045977013},{"$f":"'[14]Cumulative Stats'!D40","v":47.10526315789474},{"$f":"'[15]Cumulative Stats'!D40","v":42.928571428571431},{"$f":"'[16]Cumulative Stats'!D40","v":37.311827956989248},null,{"$f":"U39/U38","v":42.248375451263541},{"$f":"V39/V38","v":43.64858096828047}]
[]
["Punt Returns",null,null,{"$f":"'[1]Cumulative Stats'!D42","v":37},{"$f":"'[2]Cumulative Stats'!D42","v":55},{"$f":"'[3]Cumulative Stats'!D42","v":41},{"$f":"'[4]Cumulative Stats'!D42","v":54},{"$f":"'[5]Cumulative Stats'!D42","v":48},{"$f":"'[6]Cumulative Stats'!D42","v":39},{"$f":"'[7]Cumulative Stats'!D42","v":41},{"$f":"'[8]Cumulative Stats'!D42","v":52},{"$f":"'[9]Cumulative Stats'!D42","v":45},{"$f":"'[10]Cumulative Stats'!D42","v":50},{"$f":"'[11]Cumulative Stats'!D42","v":64},{"$f":"'[12]Cumulative Stats'!D42","v":30},{"$f":"'[13]Cumulative Stats'!D42","v":38},{"$f":"'[14]Cumulative Stats'!D42","v":41},{"$f":"'[15]Cumulative Stats'!D42","v":50},{"$f":"'[16]Cumulative Stats'!D42","v":30},{"$f":"SUM(D42:S42)","v":715},{"$f":"T42/$B$1","v":5.5859375},{"$f":"588/128","v":4.59375}]
[" Yards Returned",null,null,{"$f":"'[1]Cumulative Stats'!D43","v":264},{"$f":"'[2]Cumulative Stats'!D43","v":489},{"$f":"'[3]Cumulative Stats'!D43","v":455},{"$f":"'[4]Cumulative Stats'!D43","v":445},{"$f":"'[5]Cumulative Stats'!D43","v":485},{"$f":"'[6]Cumulative Stats'!D43","v":308},{"$f":"'[7]Cumulative Stats'!D43","v":488},{"$f":"'[8]Cumulative Stats'!D43","v":453},{"$f":"'[9]Cumulative Stats'!D43","v":379},{"$f":"'[10]Cumulative Stats'!D43","v":480},{"$f":"'[11]Cumulative Stats'!D43","v":674},{"$f":"'[12]Cumulative Stats'!D43","v":243},{"$f":"'[13]Cumulative Stats'!D43","v":290},{"$f":"'[14]Cumulative Stats'!D43","v":325},{"$f":"'[15]Cumulative Stats'!D43","v":556},{"$f":"'[16]Cumulative Stats'!D43","v":225},{"$f":"SUM(D43:S43)","v":6559},{"$f":"T43/$B$1","v":51.2421875},{"$f":"5214/128","v":40.734375}]
[" Average Yards Per Return",null,null,{"$f":"'[1]Cumulative Stats'!D44","v":7.1351351351351351},{"$f":"'[2]Cumulative Stats'!D44","v":8.8909090909090907},{"$f":"'[3]Cumulative Stats'!D44","v":11.097560975609756},{"$f":"'[4]Cumulative Stats'!D44","v":8.2407407407407405},{"$f":"'[5]Cumulative Stats'!D44","v":10.104166666666666},{"$f":"'[6]Cumulative Stats'!D44","v":7.8974358974358978},{"$f":"'[7]Cumulative Stats'!D44","v":11.902439024390244},{"$f":"'[8]Cumulative Stats'!D44","v":8.7115384615384617},{"$f":"'[9]Cumulative Stats'!D44","v":8.4222222222222225},{"$f":"'[10]Cumulative Stats'!D44","v":9.6},{"$f":"'[11]Cumulative Stats'!D44","v":10.53125},{"$f":"'[12]Cumulative Stats'!D44","v":8.1},{"$f":"'[13]Cumulative Stats'!D44","v":7.6315789473684212},{"$f":"'[14]Cumulative Stats'!D44","v":7.9268292682926829},{"$f":"'[15]Cumulative Stats'!D44","v":11.12},{"$f":"'[16]Cumulative Stats'!D44","v":7.5},null,{"$f":"U43/U42","v":9.173426573426573},{"$f":"V43/V42","v":8.8673469387755102}]
[" Returned for TD",null,null,{"$f":"'[1]Cumulative Stats'!D45","v":0},{"$f":"'[2]Cumulative Stats'!D45","v":0},{"$f":"'[3]Cumulative Stats'!D45","v":0},{"$f":"'[4]Cumulative Stats'!D45","v":0},{"$f":"'[5]Cumulative Stats'!D45","v":0},{"$f":"'[6]Cumulative Stats'!D45","v":0},{"$f":"'[7]Cumulative Stats'!D45","v":2},{"$f":"'[8]Cumulative Stats'!D45","v":0},{"$f":"'[9]Cumulative Stats'!D45","v":2},{"$f":"'[10]Cumulative Stats'!D45","v":0},{"$f":"'[11]Cumulative Stats'!D45","v":4},{"$f":"'[12]Cumulative Stats'!D45","v":0},{"$f":"'[13]Cumulative Stats'!D45","v":0},{"$f":"'[14]Cumulative Stats'!D45","v":0},{"$f":"'[15]Cumulative Stats'!D45","v":1},{"$f":"'[16]Cumulative Stats'!D45","v":0},{"$f":"SUM(D45:S45)","v":9},{"$f":"T45/$B$1","v":7.03125E-2},{"$f":"10/128","v":7.8125E-2}]
[]
["Kickoff Returns",null,null,{"$f":"'[1]Cumulative Stats'!D47","v":67},{"$f":"'[2]Cumulative Stats'!D47","v":67},{"$f":"'[3]Cumulative Stats'!D47","v":73},{"$f":"'[4]Cumulative Stats'!D47","v":78},{"$f":"'[5]Cumulative Stats'!D47","v":82},{"$f":"'[6]Cumulative Stats'!D47","v":97},{"$f":"'[7]Cumulative Stats'!D47","v":94},{"$f":"'[8]Cumulative Stats'!D47","v":70},{"$f":"'[9]Cumulative Stats'!D47","v":64},{"$f":"'[10]Cumulative Stats'!D47","v":59},{"$f":"'[11]Cumulative Stats'!D47","v":58},{"$f":"'[12]Cumulative Stats'!D47","v":93},{"$f":"'[13]Cumulative Stats'!D47","v":70},{"$f":"'[14]Cumulative Stats'!D47","v":76},{"$f":"'[15]Cumulative Stats'!D47","v":79},{"$f":"'[16]Cumulative Stats'!D47","v":70},{"$f":"SUM(D47:S47)","v":1197},{"$f":"T47/$B$1","v":9.3515625},{"$f":"1079/128","v":8.4296875}]
[" Yards Returned",null,null,{"$f":"'[1]Cumulative Stats'!D48","v":1464},{"$f":"'[2]Cumulative Stats'!D48","v":1826},{"$f":"'[3]Cumulative Stats'!D48","v":1625},{"$f":"'[4]Cumulative Stats'!D48","v":1915},{"$f":"'[5]Cumulative Stats'!D48","v":1387},{"$f":"'[6]Cumulative Stats'!D48","v":2028},{"$f":"'[7]Cumulative Stats'!D48","v":1847},{"$f":"'[8]Cumulative Stats'!D48","v":1493},{"$f":"'[9]Cumulative Stats'!D48","v":1463},{"$f":"'[10]Cumulative Stats'!D48","v":1304},{"$f":"'[11]Cumulative Stats'!D48","v":1430},{"$f":"'[12]Cumulative Stats'!D48","v":2284},{"$f":"'[13]Cumulative Stats'!D48","v":1455},{"$f":"'[14]Cumulative Stats'!D48","v":1750},{"$f":"'[15]Cumulative Stats'!D48","v":1882},{"$f":"'[16]Cumulative Stats'!D48","v":1734},{"$f":"SUM(D48:S48)","v":26887},{"$f":"T48/$B$1","v":210.0546875},{"$f":"24981/128","v":195.1640625}]
[" Average Yards Per Return",null,null,{"$f":"'[1]Cumulative Stats'!D49","v":21.850746268656717},{"$f":"'[2]Cumulative Stats'!D49","v":27.253731343283583},{"$f":"'[3]Cumulative Stats'!D49","v":22.260273972602739},{"$f":"'[4]Cumulative Stats'!D49","v":24.551282051282051},{"$f":"'[5]Cumulative Stats'!D49","v":16.914634146341463},{"$f":"'[6]Cumulative Stats'!D49","v":20.907216494845361},{"$f":"'[7]Cumulative Stats'!D49","v":19.648936170212767},{"$f":"'[8]Cumulative Stats'!D49","v":21.328571428571429},{"$f":"'[9]Cumulative Stats'!D49","v":22.859375},{"$f":"'[10]Cumulative Stats'!D49","v":22.101694915254239},{"$f":"'[11]Cumulative Stats'!D49","v":24.655172413793103},{"$f":"'[12]Cumulative Stats'!D49","v":24.559139784946236},{"$f":"'[13]Cumulative Stats'!D49","v":20.785714285714285},{"$f":"'[14]Cumulative Stats'!D49","v":23.026315789473685},{"$f":"'[15]Cumulative Stats'!D49","v":23.822784810126581},{"$f":"'[16]Cumulative Stats'!D49","v":24.771428571428572},null,{"$f":"U48/U47","v":22.461988304093566},{"$f":"V48/V47","v":23.151992585727527}]
[" Returned for TD",null,null,{"$f":"'[1]Cumulative Stats'!D50","v":2},{"$f":"'[2]Cumulative Stats'!D50","v":0},{"$f":"'[3]Cumulative Stats'!D50","v":0},{"$f":"'[4]Cumulative Stats'!D50","v":1},{"$f":"'[5]Cumulative Stats'!D50","v":0},{"$f":"'[6]Cumulative Stats'!D50","v":0},{"$f":"'[7]Cumulative Stats'!D50","v":0},{"$f":"'[8]Cumulative Stats'!D50","v":0},{"$f":"'[9]Cumulative Stats'!D50","v":0},{"$f":"'[10]Cumulative Stats'!D50","v":0},{"$f":"'[11]Cumulative Stats'!D50","v":4},{"$f":"'[12]Cumulative Stats'!D50","v":0},{"$f":"'[13]Cumulative Stats'!D50","v":0},{"$f":"'[14]Cumulative Stats'!D50","v":0},{"$f":"'[15]Cumulative Stats'!D50","v":2},{"$f":"'[16]Cumulative Stats'!D50","v":0},{"$f":"SUM(D50:S50)","v":9},{"$f":"T50/$B$1","v":7.03125E-2},{"$f":"6/128","v":4.6875E-2}]
[]
["Penalties",null,null,{"$f":"'[1]Cumulative Stats'!D52","v":82},{"$f":"'[2]Cumulative Stats'!D52","v":60},{"$f":"'[3]Cumulative Stats'!D52","v":77},{"$f":"'[4]Cumulative Stats'!D52","v":55},{"$f":"'[5]Cumulative Stats'!D52","v":94},{"$f":"'[6]Cumulative Stats'!D52","v":65},{"$f":"'[7]Cumulative Stats'!D52","v":101},{"$f":"'[8]Cumulative Stats'!D52","v":88},{"$f":"'[9]Cumulative Stats'!D52","v":65},{"$f":"'[10]Cumulative Stats'!D52","v":80},{"$f":"'[11]Cumulative Stats'!D52","v":56},{"$f":"'[12]Cumulative Stats'!D52","v":82},{"$f":"'[13]Cumulative Stats'!D52","v":74},{"$f":"'[14]Cumulative Stats'!D52","v":85},{"$f":"'[15]Cumulative Stats'!D52","v":83},{"$f":"'[16]Cumulative Stats'!D52","v":80},{"$f":"SUM(D52:S52)","v":1227},{"$f":"T52/$B$1","v":9.5859375},{"$f":"1471/128","v":11.4921875}]
[" Yards Penalized",null,null,{"$f":"'[1]Cumulative Stats'!D53","v":646},{"$f":"'[2]Cumulative Stats'!D53","v":482},{"$f":"'[3]Cumulative Stats'!D53","v":651},{"$f":"'[4]Cumulative Stats'!D53","v":471},{"$f":"'[5]Cumulative Stats'!D53","v":756},{"$f":"'[6]Cumulative Stats'!D53","v":537},{"$f":"'[7]Cumulative Stats'!D53","v":846},{"$f":"'[8]Cumulative Stats'!D53","v":790},{"$f":"'[9]Cumulative Stats'!D53","v":532},{"$f":"'[10]Cumulative Stats'!D53","v":739},{"$f":"'[11]Cumulative Stats'!D53","v":434},{"$f":"'[12]Cumulative Stats'!D53","v":705},{"$f":"'[13]Cumulative Stats'!D53","v":668},{"$f":"'[14]Cumulative Stats'!D53","v":749},{"$f":"'[15]Cumulative Stats'!D53","v":609},{"$f":"'[16]Cumulative Stats'!D53","v":662},{"$f":"SUM(D53:S53)","v":10277},{"$f":"T53/$B$1","v":80.2890625},{"$f":"11758/128","v":91.859375}]
[]
["Fumbles",null,null,{"$f":"'[1]Cumulative Stats'!D55","v":20},{"$f":"'[2]Cumulative Stats'!D55","v":20},{"$f":"'[3]Cumulative Stats'!D55","v":11},{"$f":"'[4]Cumulative Stats'!D55","v":9},{"$f":"'[5]Cumulative Stats'!D55","v":30},{"$f":"'[6]Cumulative Stats'!D55","v":26},{"$f":"'[7]Cumulative Stats'!D55","v":20},{"$f":"'[8]Cumulative Stats'!D55","v":29},{"$f":"'[9]Cumulative Stats'!D55","v":9},{"$f":"'[10]Cumulative Stats'!D55","v":27},{"$f":"'[11]Cumulative Stats'!D55","v":11},{"$f":"'[12]Cumulative Stats'!D55","v":21},{"$f":"'[13]Cumulative Stats'!D55","v":43},{"$f":"'[14]Cumulative Stats'!D55","v":19},{"$f":"'[15]Cumulative Stats'!D55","v":15},{"$f":"'[16]Cumulative Stats'!D55","v":20},{"$f":"SUM(D55:S55)","v":330},{"$f":"T55/$B$1","v":2.578125},{"$f":"359/128","v":2.8046875}]
["Lost",null,null,{"$f":"'[1]Cumulative Stats'!D56","v":7},{"$f":"'[2]Cumulative Stats'!D56","v":15},{"$f":"'[3]Cumulative Stats'!D56","v":6},{"$f":"'[4]Cumulative Stats'!D56","v":6},{"$f":"'[5]Cumulative Stats'!D56","v":13},{"$f":"'[6]Cumulative Stats'!D56","v":4},{"$f":"'[7]Cumulative Stats'!D56","v":4},{"$f":"'[8]Cumulative Stats'!D56","v":10},{"$f":"'[9]Cumulative Stats'!D56","v":3},{"$f":"'[10]Cumulative Stats'!D56","v":3},{"$f":"'[11]Cumulative Stats'!D56","v":6},{"$f":"'[12]Cumulative Stats'!D56","v":13},{"$f":"'[13]Cumulative Stats'!D56","v":19},{"$f":"'[14]Cumulative Stats'!D56","v":11},{"$f":"'[15]Cumulative Stats'!D56","v":7},{"$f":"'[16]Cumulative Stats'!D56","v":9},{"$f":"SUM(D56:S56)","v":136},{"$f":"T56/$B$1","v":1.0625},{"$f":"176/128","v":1.375}]
[]
["Total Points Scored",null,null,{"$f":"'[1]Cumulative Stats'!D58","v":360},{"$f":"'[2]Cumulative Stats'!D58","v":445},{"$f":"'[3]Cumulative Stats'!D58","v":467},{"$f":"'[4]Cumulative Stats'!D58","v":204},{"$f":"'[5]Cumulative Stats'!D58","v":361},{"$f":"'[6]Cumulative Stats'!D58","v":266},{"$f":"'[7]Cumulative Stats'!D58","v":326},{"$f":"'[8]Cumulative Stats'!D58","v":390},{"$f":"'[9]Cumulative Stats'!D58","v":508},{"$f":"'[10]Cumulative Stats'!D58","v":421},{"$f":"'[11]Cumulative Stats'!D58","v":482},{"$f":"'[12]Cumulative Stats'!D58","v":202},{"$f":"'[13]Cumulative Stats'!D58","v":261},{"$f":"'[14]Cumulative Stats'!D58","v":212},{"$f":"'[15]Cumulative Stats'!D58","v":344},{"$f":"'[16]Cumulative Stats'!D58","v":290},{"$f":"SUM(D58:S58)","v":5539},{"$f":"T58/$B$1","v":43.2734375},{"$f":"5832/128","v":45.5625}]
[" Touchdowns (Total)",null,null,{"$f":"'[1]Cumulative Stats'!D59","v":36},{"$f":"'[2]Cumulative Stats'!D59","v":47},{"$f":"'[3]Cumulative Stats'!D59","v":50},{"$f":"'[4]Cumulative Stats'!D59","v":20},{"$f":"'[5]Cumulative Stats'!D59","v":39},{"$f":"'[6]Cumulative Stats'!D59","v":23},{"$f":"'[7]Cumulative Stats'!D59","v":36},{"$f":"'[8]Cumulative Stats'!D59","v":40},{"$f":"'[9]Cumulative Stats'!D59","v":58},{"$f":"'[10]Cumulative Stats'!D59","v":43},{"$f":"'[11]Cumulative Stats'!D59","v":55},{"$f":"'[12]Cumulative Stats'!D59","v":14},{"$f":"'[13]Cumulative Stats'!D59","v":27},{"$f":"'[14]Cumulative Stats'!D59","v":18},{"$f":"'[15]Cumulative Stats'!D59","v":35},{"$f":"'[16]Cumulative Stats'!D59","v":27},568,4.4375,{"$f":"644/128","v":5.03125}]
[" Touchdowns Rushing",null,null,{"$f":"'[1]Cumulative Stats'!D60","v":7},{"$f":"'[2]Cumulative Stats'!D60","v":19},{"$f":"'[3]Cumulative Stats'!D60","v":26},{"$f":"'[4]Cumulative Stats'!D60","v":4},{"$f":"'[5]Cumulative Stats'!D60","v":12},{"$f":"'[6]Cumulative Stats'!D60","v":5},{"$f":"'[7]Cumulative Stats'!D60","v":11},{"$f":"'[8]Cumulative Stats'!D60","v":17},{"$f":"'[9]Cumulative Stats'!D60","v":9},{"$f":"'[10]Cumulative Stats'!D60","v":22},{"$f":"'[11]Cumulative Stats'!D60","v":18},{"$f":"'[12]Cumulative Stats'!D60","v":4},{"$f":"'[13]Cumulative Stats'!D60","v":10},{"$f":"'[14]Cumulative Stats'!D60","v":6},{"$f":"'[15]Cumulative Stats'!D60","v":12},{"$f":"'[16]Cumulative Stats'!D60","v":12},194,1.515625,{"$f":"237/128","v":1.8515625}]
[" Touchdowns Passing",null,null,{"$f":"'[1]Cumulative Stats'!D61","v":25},{"$f":"'[2]Cumulative Stats'!D61","v":26},{"$f":"'[3]Cumulative Stats'!D61","v":23},{"$f":"'[4]Cumulative Stats'!D61","v":15},{"$f":"'[5]Cumulative Stats'!D61","v":27},{"$f":"'[6]Cumulative Stats'!D61","v":17},{"$f":"'[7]Cumulative Stats'!D61","v":21},{"$f":"'[8]Cumulative Stats'!D61","v":23},{"$f":"'[9]Cumulative Stats'!D61","v":46},{"$f":"'[10]Cumulative Stats'!D61","v":21},{"$f":"'[11]Cumulative Stats'!D61","v":27},{"$f":"'[12]Cumulative Stats'!D61","v":10},{"$f":"'[13]Cumulative Stats'!D61","v":16},{"$f":"'[14]Cumulative Stats'!D61","v":11},{"$f":"'[15]Cumulative Stats'!D61","v":17},{"$f":"'[16]Cumulative Stats'!D61","v":15},340,2.65625,{"$f":"341/128","v":2.6640625}]
[" TD's on Returns and Recoveries",null,null,{"$f":"'[1]Cumulative Stats'!D62","v":4},{"$f":"'[2]Cumulative Stats'!D62","v":2},{"$f":"'[3]Cumulative Stats'!D62","v":1},{"$f":"'[4]Cumulative Stats'!D62","v":1},{"$f":"'[5]Cumulative Stats'!D62","v":0},{"$f":"'[6]Cumulative Stats'!D62","v":1},{"$f":"'[7]Cumulative Stats'!D62","v":4},{"$f":"'[8]Cumulative Stats'!D62","v":0},{"$f":"'[9]Cumulative Stats'!D62","v":3},{"$f":"'[10]Cumulative Stats'!D62","v":0},{"$f":"'[11]Cumulative Stats'!D62","v":10},{"$f":"'[12]Cumulative Stats'!D62","v":0},{"$f":"'[13]Cumulative Stats'!D62","v":1},{"$f":"'[14]Cumulative Stats'!D62","v":1},{"$f":"'[15]Cumulative Stats'!D62","v":6},{"$f":"'[16]Cumulative Stats'!D62","v":0},34,0.265625,{"$f":"66/128","v":0.515625}]
[" *Extra Points",null,null,{"$f":"'[1]Cumulative Stats'!D63","v":36},{"$f":"'[2]Cumulative Stats'!D63","v":47},{"$f":"'[3]Cumulative Stats'!D63","v":50},{"$f":"'[4]Cumulative Stats'!D63","v":18},{"$f":"'[5]Cumulative Stats'!D63","v":40},{"$f":"'[6]Cumulative Stats'!D63","v":23},{"$f":"'[7]Cumulative Stats'!D63","v":36},{"$f":"'[8]Cumulative Stats'!D63","v":40},{"$f":"'[9]Cumulative Stats'!D63","v":59},{"$f":"'[10]Cumulative Stats'!D63","v":43},{"$f":"'[11]Cumulative Stats'!D63","v":55},{"$f":"'[12]Cumulative Stats'!D63","v":14},{"$f":"'[13]Cumulative Stats'!D63","v":27},{"$f":"'[14]Cumulative Stats'!D63","v":19},{"$f":"'[15]Cumulative Stats'!D63","v":35},{"$f":"'[16]Cumulative Stats'!D63","v":27},569,4.4453125,{"$f":"608/128","v":4.75}]
[" Safeties",null,null,{"$f":"'[1]Cumulative Stats'!D64","v":0},{"$f":"'[2]Cumulative Stats'!D64","v":1},{"$f":"'[3]Cumulative Stats'!D64","v":0},{"$f":"'[4]Cumulative Stats'!D64","v":0},{"$f":"'[5]Cumulative Stats'!D64","v":0},{"$f":"'[6]Cumulative Stats'!D64","v":0},{"$f":"'[7]Cumulative Stats'!D64","v":1},{"$f":"'[8]Cumulative Stats'!D64","v":1},{"$f":"'[9]Cumulative Stats'!D64","v":1},{"$f":"'[10]Cumulative Stats'!D64","v":0},{"$f":"'[11]Cumulative Stats'!D64","v":2},{"$f":"'[12]Cumulative Stats'!D64","v":1},{"$f":"'[13]Cumulative Stats'!D64","v":0},{"$f":"'[14]Cumulative Stats'!D64","v":2},{"$f":"'[15]Cumulative Stats'!D64","v":3},{"$f":"'[16]Cumulative Stats'!D64","v":1},13,0.1015625,{"$f":"12/128","v":9.375E-2}]
[" Field Goals",null,null,{"$f":"'[1]Cumulative Stats'!D65","v":36},{"$f":"'[2]Cumulative Stats'!D65","v":38},{"$f":"'[3]Cumulative Stats'!D65","v":39},{"$f":"'[4]Cumulative Stats'!D65","v":22},{"$f":"'[5]Cumulative Stats'!D65","v":29},{"$f":"'[6]Cumulative Stats'!D65","v":35},{"$f":"'[7]Cumulative Stats'!D65","v":24},{"$f":"'[8]Cumulative Stats'!D65","v":36},{"$f":"'[9]Cumulative Stats'!D65","v":33},{"$f":"'[10]Cumulative Stats'!D65","v":40},{"$f":"'[11]Cumulative Stats'!D65","v":31},{"$f":"'[12]Cumulative Stats'!D65","v":34},{"$f":"'[13]Cumulative Stats'!D65","v":24},{"$f":"'[14]Cumulative Stats'!D65","v":27},{"$f":"'[15]Cumulative Stats'!D65","v":31},{"$f":"'[16]Cumulative Stats'!D65","v":33},512,4,{"$f":"438/128","v":3.421875}]
[" Field Goal Attempts",null,null,{"$f":"'[1]Cumulative Stats'!D66","v":37},{"$f":"'[2]Cumulative Stats'!D66","v":39},{"$f":"'[3]Cumulative Stats'!D66","v":41},{"$f":"'[4]Cumulative Stats'!D66","v":25},{"$f":"'[5]Cumulative Stats'!D66","v":31},{"$f":"'[6]Cumulative Stats'!D66","v":37},{"$f":"'[7]Cumulative Stats'!D66","v":29},{"$f":"'[8]Cumulative Stats'!D66","v":42},{"$f":"'[9]Cumulative Stats'!D66","v":39},{"$f":"'[10]Cumulative Stats'!D66","v":43},{"$f":"'[11]Cumulative Stats'!D66","v":37},{"$f":"'[12]Cumulative Stats'!D66","v":37},{"$f":"'[13]Cumulative Stats'!D66","v":26},{"$f":"'[14]Cumulative Stats'!D66","v":33},{"$f":"'[15]Cumulative Stats'!D66","v":34},{"$f":"'[16]Cumulative Stats'!D66","v":42},572,4.46875,{"$f":"507/128","v":3.9609375}]
[" Percent Successful",null,null,{"$f":"'[1]Cumulative Stats'!D67","v":97.297297297297305},{"$f":"'[2]Cumulative Stats'!D67","v":97.435897435897431},{"$f":"'[3]Cumulative Stats'!D67","v":95.121951219512198},{"$f":"'[4]Cumulative Stats'!D67","v":88},{"$f":"'[5]Cumulative Stats'!D67","v":93.548387096774192},{"$f":"'[6]Cumulative Stats'!D67","v":94.594594594594597},{"$f":"'[7]Cumulative Stats'!D67","v":82.758620689655174},{"$f":"'[8]Cumulative Stats'!D67","v":85.714285714285708},{"$f":"'[9]Cumulative Stats'!D67","v":84.615384615384613},{"$f":"'[10]Cumulative Stats'!D67","v":93.023255813953483},{"$f":"'[11]Cumulative Stats'!D67","v":83.78378378378379},{"$f":"'[12]Cumulative Stats'!D67","v":91.891891891891902},{"$f":"'[13]Cumulative Stats'!D67","v":92.307692307692307},{"$f":"'[14]Cumulative Stats'!D67","v":81.818181818181827},{"$f":"'[15]Cumulative Stats'!D67","v":91.17647058823529},{"$f":"'[16]Cumulative Stats'!D67","v":78.571428571428569},null,{"$f":"U65/U66*100","v":89.510489510489506},{"$f":"V65/V66*100","v":86.390532544378701}]
["Average Possesion:",null,null,{"$f":"'[1]Cumulative Stats'!D68","v":"29:21"},{"$f":"'[2]Cumulative Stats'!D68","v":"29:39"},{"$f":"'[3]Cumulative Stats'!D68","v":"31:20"},{"$f":"'[4]Cumulative Stats'!D68","v":"29:48"},{"$f":"'[5]Cumulative Stats'!D68","v":"29:15"},{"$f":"'[6]Cumulative Stats'!D68","v":"29:13"},{"$f":"'[7]Cumulative Stats'!D68","v":"28:59"},{"$f":"'[8]Cumulative Stats'!D68","v":"31:00"},{"$f":"'[9]Cumulative Stats'!D68","v":"30:50"},{"$f":"'[10]Cumulative Stats'!D68","v":"32:45"},{"$f":"'[11]Cumulative Stats'!D68","v":"31:22"},{"$f":"'[12]Cumulative Stats'!D68","v":"27:32"},{"$f":"'[13]Cumulative Stats'!D68","v":"29:03"},{"$f":"'[14]Cumulative Stats'!D68","v":"29:15"},{"$f":"'[15]Cumulative Stats'!D68","v":"31:00"},{"$f":"'[16]Cumulative Stats'!D68","v":"29:33"}]
["Third Down Efficiency"]

{"sheet":"Team Defense","index":1,"n_rows":69,"n_cols":28,"rows_kept":69,"cut":false,"hidden":false,"merged":[]}
["Games Played",{"$f":"'Team Offense'!B1","v":128}]
["Defensive Stats:","  ",null,"ARI","ATL","CAR","CHI","DAL","DET","GBP","MIN","NOS","NYG","PHI","SEA","SFO","STL","TBB","WAS"]
[]
[null,null,null,null,null,null,null,null,null,null,null,null,null,null,null,null,null,null,null,null,null,null,null,null,"Replay","Replay"]
[null,null,null,null,null,null,null,null,null,null,null,null,null,null,null,null,null,null,null,null,null,null,null,"DEFENSE","Rushing","Passing","Total","Average"]
["First Downs",null,null,{"$f":"'[1]Cumulative Stats'!M6","v":306},{"$f":"'[2]Cumulative Stats'!M6","v":274},{"$f":"'[3]Cumulative Stats'!M6","v":246},{"$f":"'[4]Cumulative Stats'!M6","v":285},{"$f":"'[5]Cumulative Stats'!M6","v":294},{"$f":"'[6]Cumulative Stats'!M6","v":365},{"$f":"'[7]Cumulative Stats'!M6","v":336},{"$f":"'[8]Cumulative Stats'!M6","v":267},{"$f":"'[9]Cumulative Stats'!M6","v":269},{"$f":"'[10]Cumulative Stats'!M6","v":221},{"$f":"'[11]Cumulative Stats'!M6","v":231},{"$f":"'[12]Cumulative Stats'!M6","v":371},{"$f":"'[13]Cumulative Stats'!M6","v":287},{"$f":"'[14]Cumulative Stats'!M6","v":351},{"$f":"'[15]Cumulative Stats'!M6","v":266},{"$f":"'[16]Cumulative Stats'!M6","v":289},null,null,null,"NYG","New York",{"$f":"HLOOKUP(W6,$D$2:$S$68,11)","v":1178},{"$f":"HLOOKUP(W6,$D$2:$S$68,20)","v":2549},{"$f":"+Z6+Y6","v":3727},{"$f":"+AA6/'Team Offense'!$C$1","v":232.9375}]
["    Rushing",null,null,{"$f":"'[1]Cumulative Stats'!M7","v":137},{"$f":"'[2]Cumulative Stats'!M7","v":107},{"$f":"'[3]Cumulative Stats'!M7","v":102},{"$f":"'[4]Cumulative Stats'!M7","v":102},{"$f":"'[5]Cumulative Stats'!M7","v":114},{"$f":"'[6]Cumulative Stats'!M7","v":158},{"$f":"'[7]Cumulative Stats'!M7","v":140},{"$f":"'[8]Cumulative Stats'!M7","v":96},{"$f":"'[9]Cumulative Stats'!M7","v":114},{"$f":"'[10]Cumulative Stats'!M7","v":71},{"$f":"'[11]Cumulative Stats'!M7","v":90},{"$f":"'[12]Cumulative Stats'!M7","v":164},{"$f":"'[13]Cumulative Stats'!M7","v":123},{"$f":"'[14]Cumulative Stats'!M7","v":157},{"$f":"'[15]Cumulative Stats'!M7","v":106},{"$f":"'[16]Cumulative Stats'!M7","v":119},null,null,null,"PHI","Philadelphia",1672,2290,3962,{"$f":"+AA7/'Team Offense'!$C$1","v":247.625}]
["    Passing",null,null,{"$f":"'[1]Cumulative Stats'!M8","v":150},{"$f":"'[2]Cumulative Stats'!M8","v":143},{"$f":"'[3]Cumulative Stats'!M8","v":127},{"$f":"'[4]Cumulative Stats'!M8","v":166},{"$f":"'[5]Cumulative Stats'!M8","v":155},{"$f":"'[6]Cumulative Stats'!M8","v":192},{"$f":"'[7]Cumulative Stats'!M8","v":170},{"$f":"'[8]Cumulative Stats'!M8","v":153},{"$f":"'[9]Cumulative Stats'!M8","v":140},{"$f":"'[10]Cumulative Stats'!M8","v":133},{"$f":"'[11]Cumulative Stats'!M8","v":122},{"$f":"'[12]Cumulative Stats'!M8","v":185},{"$f":"'[13]Cumulative Stats'!M8","v":147},{"$f":"'[14]Cumulative Stats'!M8","v":181},{"$f":"'[15]Cumulative Stats'!M8","v":144},{"$f":"'[16]Cumulative Stats'!M8","v":148},null,null,null,"CAR","Carolina",1615,2663,4278,{"$f":"+AA8/'Team Offense'!$C$1","v":267.375}]
["    Penalty",null,null,{"$f":"'[1]Cumulative Stats'!M9","v":19},{"$f":"'[2]Cumulative Stats'!M9","v":24},{"$f":"'[3]Cumulative Stats'!M9","v":17},{"$f":"'[4]Cumulative Stats'!M9","v":17},{"$f":"'[5]Cumulative Stats'!M9","v":25},{"$f":"'[6]Cumulative Stats'!M9","v":15},{"$f":"'[7]Cumulative Stats'!M9","v":26},{"$f":"'[8]Cumulative Stats'!M9","v":18},{"$f":"'[9]Cumulative Stats'!M9","v":15},{"$f":"'[10]Cumulative Stats'!M9","v":17},{"$f":"'[11]Cumulative Stats'!M9","v":19},{"$f":"'[12]Cumulative Stats'!M9","v":22},{"$f":"'[13]Cumulative Stats'!M9","v":17},{"$f":"'[14]Cumulative Stats'!M9","v":13},{"$f":"'[15]Cumulative Stats'!M9","v":16},{"$f":"'[16]Cumulative Stats'!M9","v":22},null,null,null,"MIN","Minnesota",1566,2934,4500,{"$f":"+AA9/'Team Offense'!$C$1","v":281.25}]
[null,null,null,{"$f":"'[1]Cumulative Stats'!M10","v":0},{"$f":"'[2]Cumulative Stats'!M10","v":0},{"$f":"'[3]Cumulative Stats'!M10","v":0},{"$f":"'[4]Cumulative Stats'!M10","v":0},{"$f":"'[5]Cumulative Stats'!M10","v":0},{"$f":"'[6]Cumulative Stats'!M10","v":0},{"$f":"'[7]Cumulative Stats'!M10","v":0},{"$f":"'[8]Cumulative Stats'!M10","v":0},{"$f":"'[9]Cumulative Stats'!M10","v":0},{"$f":"'[10]Cumulative Stats'!M10","v":0},{"$f":"'[11]Cumulative Stats'!M10","v":0},{"$f":"'[12]Cumulative Stats'!M10","v":0},{"$f":"'[13]Cumulative Stats'!M10","v":0},{"$f":"'[14]Cumulative Stats'!M10","v":0},{"$f":"'[15]Cumulative Stats'!M10","v":0},{"$f":"'[16]Cumulative Stats'!M10","v":0},null,null,null,"WAS","Washington",1801,3009,4810,{"$f":"+AA10/'Team Offense'!$C$1","v":300.625}]
["Rushes",null,null,{"$f":"'[1]Cumulative Stats'!M11","v":439},{"$f":"'[2]Cumulative Stats'!M11","v":427},{"$f":"'[3]Cumulative Stats'!M11","v":394},{"$f":"'[4]Cumulative Stats'!M11","v":418},{"$f":"'[5]Cumulative Stats'!M11","v":439},{"$f":"'[6]Cumulative Stats'!M11","v":434},{"$f":"'[7]Cumulative Stats'!M11","v":435},{"$f":"'[8]Cumulative Stats'!M11","v":395},{"$f":"'[9]Cumulative Stats'!M11","v":415},{"$f":"'[10]Cumulative Stats'!M11","v":374},{"$f":"'[11]Cumulative Stats'!M11","v":423},{"$f":"'[12]Cumulative Stats'!M11","v":458},{"$f":"'[13]Cumulative Stats'!M11","v":422},{"$f":"'[14]Cumulative Stats'!M11","v":424},{"$f":"'[15]Cumulative Stats'!M11","v":432},{"$f":"'[16]Cumulative Stats'!M11","v":433},null,null,null,"DAL","Dallas",1883,2995,4878,{"$f":"+AA11/'Team Offense'!$C$1","v":304.875}]
[" Yards Gained (Net)",null,null,{"$f":"'[1]Cumulative Stats'!M12","v":2244},{"$f":"'[2]Cumulative Stats'!M12","v":1885},{"$f":"'[3]Cumulative Stats'!M12","v":1615},{"$f":"'[4]Cumulative Stats'!M12","v":1651},{"$f":"'[5]Cumulative Stats'!M12","v":1883},{"$f":"'[6]Cumulative Stats'!M12","v":2585},{"$f":"'[7]Cumulative Stats'!M12","v":2008},{"$f":"'[8]Cumulative Stats'!M12","v":1566},{"$f":"'[9]Cumulative Stats'!M12","v":1909},{"$f":"'[10]Cumulative Stats'!M12","v":1178},{"$f":"'[11]Cumulative Stats'!M12","v":1672},{"$f":"'[12]Cumulative Stats'!M12","v":2089},{"$f":"'[13]Cumulative Stats'!M12","v":1910},{"$f":"'[14]Cumulative Stats'!M12","v":2290},{"$f":"'[15]Cumulative Stats'!M12","v":1739},{"$f":"'[16]Cumulative Stats'!M12","v":1801},null,null,null,"SFO","San Francisco",1910,2985,4895,{"$f":"+AA12/'Team Offense'!$C$1","v":305.9375}]
[" Average Gain",null,null,{"$f":"'[1]Cumulative Stats'!M13","v":5.1116173120728927},{"$f":"'[2]Cumulative Stats'!M13","v":4.4145199063231848},{"$f":"'[3]Cumulative Stats'!M13","v":4.0989847715736039},{"$f":"'[4]Cumulative Stats'!M13","v":3.9497607655502391},{"$f":"'[5]Cumulative Stats'!M13","v":4.2892938496583142},{"$f":"'[6]Cumulative Stats'!M13","v":5.9562211981566824},{"$f":"'[7]Cumulative Stats'!M13","v":4.6160919540229886},{"$f":"'[8]Cumulative Stats'!M13","v":3.9645569620253163},{"$f":"'[9]Cumulative Stats'!M13","v":4.5999999999999996},{"$f":"'[10]Cumulative Stats'!M13","v":3.1497326203208558},{"$f":"'[11]Cumulative Stats'!M13","v":3.9527186761229314},{"$f":"'[12]Cumulative Stats'!M13","v":4.5611353711790397},{"$f":"'[13]Cumulative Stats'!M13","v":4.5260663507109005},{"$f":"'[14]Cumulative Stats'!M13","v":5.4009433962264151},{"$f":"'[15]Cumulative Stats'!M13","v":4.0254629629629628},{"$f":"'[16]Cumulative Stats'!M13","v":4.159353348729792},null,null,null,"ATL","Atlanta",1885,3053,4938,{"$f":"+AA13/'Team Offense'!$C$1","v":308.625}]
[null,null,null,{"$f":"'[1]Cumulative Stats'!M14","v":0},{"$f":"'[2]Cumulative Stats'!M14","v":0},{"$f":"'[3]Cumulative Stats'!M14","v":0},{"$f":"'[4]Cumulative Stats'!M14","v":0},{"$f":"'[5]Cumulative Stats'!M14","v":0},{"$f":"'[6]Cumulative Stats'!M14","v":0},{"$f":"'[7]Cumulative Stats'!M14","v":0},{"$f":"'[8]Cumulative Stats'!M14","v":0},{"$f":"'[9]Cumulative Stats'!M14","v":0},{"$f":"'[10]Cumulative Stats'!M14","v":0},{"$f":"'[11]Cumulative Stats'!M14","v":0},{"$f":"'[12]Cumulative Stats'!M14","v":0},{"$f":"'[13]Cumulative Stats'!M14","v":0},{"$f":"'[14]Cumulative Stats'!M14","v":0},{"$f":"'[15]Cumulative Stats'!M14","v":0},{"$f":"'[16]Cumulative Stats'!M14","v":0},null,null,null,"TBB","Tampa By",1739,3269,5008,{"$f":"+AA14/'Team Offense'!$C$1","v":313}]
["Passes Attempted",null,null,{"$f":"'[1]Cumulative Stats'!M15","v":521},{"$f":"'[2]Cumulative Stats'!M15","v":562},{"$f":"'[3]Cumulative Stats'!M15","v":503},{"$f":"'[4]Cumulative Stats'!M15","v":541},{"$f":"'[5]Cumulative Stats'!M15","v":532},{"$f":"'[6]Cumulative Stats'!M15","v":510},{"$f":"'[7]Cumulative Stats'!M15","v":559},{"$f":"'[8]Cumulative Stats'!M15","v":520},{"$f":"'[9]Cumulative Stats'!M15","v":530},{"$f":"'[10]Cumulative Stats'!M15","v":490},{"$f":"'[11]Cumulative Stats'!M15","v":513},{"$f":"'[12]Cumulative Stats'!M15","v":559},{"$f":"'[13]Cumulative Stats'!M15","v":561},{"$f":"'[14]Cumulative Stats'!M15","v":537},{"$f":"'[15]Cumulative Stats'!M15","v":480},{"$f":"'[16]Cumulative Stats'!M15","v":543},null,null,null,"NOS","New Orleans",1909,3182,5091,{"$f":"+AA15/'Team Offense'!$C$1","v":318.1875}]
[" Completed",null,null,{"$f":"'[1]Cumulative Stats'!M16","v":302},{"$f":"'[2]Cumulative Stats'!M16","v":305},{"$f":"'[3]Cumulative Stats'!M16","v":289},{"$f":"'[4]Cumulative Stats'!M16","v":317},{"$f":"'[5]Cumulative Stats'!M16","v":315},{"$f":"'[6]Cumulative Stats'!M16","v":343},{"$f":"'[7]Cumulative Stats'!M16","v":347},{"$f":"'[8]Cumulative Stats'!M16","v":289},{"$f":"'[9]Cumulative Stats'!M16","v":288},{"$f":"'[10]Cumulative Stats'!M16","v":261},{"$f":"'[11]Cumulative Stats'!M16","v":246},{"$f":"'[12]Cumulative Stats'!M16","v":371},{"$f":"'[13]Cumulative Stats'!M16","v":310},{"$f":"'[14]Cumulative Stats'!M16","v":337},{"$f":"'[15]Cumulative Stats'!M16","v":285},{"$f":"'[16]Cumulative Stats'!M16","v":317},null,null,null,"CHI","Chicago",1651,3508,5159,{"$f":"+AA16/'Team Offense'!$C$1","v":322.4375}]
[" Percent Completed",null,null,{"$f":"'[1]Cumulative Stats'!M17","v":57.965451055662186},{"$f":"'[2]Cumulative Stats'!M17","v":54.270462633451956},{"$f":"'[3]Cumulative Stats'!M17","v":57.455268389662031},{"$f":"'[4]Cumulative Stats'!M17","v":58.595194085027721},{"$f":"'[5]Cumulative Stats'!M17","v":59.210526315789465},{"$f":"'[6]Cumulative Stats'!M17","v":67.254901960784323},{"$f":"'[7]Cumulative Stats'!M17","v":62.075134168157419},{"$f":"'[8]Cumulative Stats'!M17","v":55.57692307692308},{"$f":"'[9]Cumulative Stats'!M17","v":54.339622641509436},{"$f":"'[10]Cumulative Stats'!M17","v":53.265306122448976},{"$f":"'[11]Cumulative Stats'!M17","v":47.953216374269005},{"$f":"'[12]Cumulative Stats'!M17","v":66.368515205724506},{"$f":"'[13]Cumulative Stats'!M17","v":55.258467023172905},{"$f":"'[14]Cumulative Stats'!M17","v":62.756052141526993},{"$f":"'[15]Cumulative Stats'!M17","v":59.375},{"$f":"'[16]Cumulative Stats'!M17","v":58.3793738489871},null,null,null,"ARI","Arizona",2244,2954,5198,{"$f":"+AA17/'Team Offense'!$C$1","v":324.875}]
[" Total Yards Gained",null,null,{"$f":"'[1]Cumulative Stats'!M18","v":3280},{"$f":"'[2]Cumulative Stats'!M18","v":3333},{"$f":"'[3]Cumulative Stats'!M18","v":2875},{"$f":"'[4]Cumulative Stats'!M18","v":3666},{"$f":"'[5]Cumulative Stats'!M18","v":3442},{"$f":"'[6]Cumulative Stats'!M18","v":4039},{"$f":"'[7]Cumulative Stats'!M18","v":3835},{"$f":"'[8]Cumulative Stats'!M18","v":3280},{"$f":"'[9]Cumulative Stats'!M18","v":3405},{"$f":"'[10]Cumulative Stats'!M18","v":2935},{"$f":"'[11]Cumulative Stats'!M18","v":2750},{"$f":"'[12]Cumulative Stats'!M18","v":4116},{"$f":"'[13]Cumulative Stats'!M18","v":3145},{"$f":"'[14]Cumulative Stats'!M18","v":4010},{"$f":"'[15]Cumulative Stats'!M18","v":3582},{"$f":"'[16]Cumulative Stats'!M18","v":3168},null,null,null,"GBP","Green Bay",2008,3682,5690,{"$f":"+AA18/'Team Offense'!$C$1","v":355.625}]
[" Passer Tackled",null,null,{"$f":"'[1]Cumulative Stats'!M19","v":45},{"$f":"'[2]Cumulative Stats'!M19","v":34},{"$f":"'[3]Cumulative Stats'!M19","v":33},{"$f":"'[4]Cumulative Stats'!M19","v":22},{"$f":"'[5]Cumulative Stats'!M19","v":57},{"$f":"'[6]Cumulative Stats'!M19","v":46},{"$f":"'[7]Cumulative Stats'!M19","v":25},{"$f":"'[8]Cumulative Stats'!M19","v":52},{"$f":"'[9]Cumulative Stats'!M19","v":34},{"$f":"'[10]Cumulative Stats'!M19","v":50},{"$f":"'[11]Cumulative Stats'!M19","v":63},{"$f":"'[12]Cumulative Stats'!M19","v":34},{"$f":"'[13]Cumulative Stats'!M19","v":34},{"$f":"'[14]Cumulative Stats'!M19","v":40},{"$f":"'[15]Cumulative Stats'!M19","v":42},{"$f":"'[16]Cumulative Stats'!M19","v":23},null,null,null,"STL","St. Louis",2290,3643,5933,{"$f":"+AA19/'Team Offense'!$C$1","v":370.8125}]
["    Yards Lost",null,null,{"$f":"'[1]Cumulative Stats'!M20","v":326},{"$f":"'[2]Cumulative Stats'!M20","v":280},{"$f":"'[3]Cumulative Stats'!M20","v":212},{"$f":"'[4]Cumulative Stats'!M20","v":158},{"$f":"'[5]Cumulative Stats'!M20","v":447},{"$f":"'[6]Cumulative Stats'!M20","v":311},{"$f":"'[7]Cumulative Stats'!M20","v":153},{"$f":"'[8]Cumulative Stats'!M20","v":346},{"$f":"'[9]Cumulative Stats'!M20","v":223},{"$f":"'[10]Cumulative Stats'!M20","v":386},{"$f":"'[11]Cumulative Stats'!M20","v":460},{"$f":"'[12]Cumulative Stats'!M20","v":226},{"$f":"'[13]Cumulative Stats'!M20","v":160},{"$f":"'[14]Cumulative Stats'!M20","v":367},{"$f":"'[15]Cumulative Stats'!M20","v":313},{"$f":"'[16]Cumulative Stats'!M20","v":159},null,null,null,"SEA","Seattle",2089,3890,5979,{"$f":"+AA20/'Team Offense'!$C$1","v":373.6875}]
[" Net Yards Gained",null,null,{"$f":"'[1]Cumulative Stats'!M21","v":2954},{"$f":"'[2]Cumulative Stats'!M21","v":3053},{"$f":"'[3]Cumulative Stats'!M21","v":2663},{"$f":"'[4]Cumulative Stats'!M21","v":3508},{"$f":"'[5]Cumulative Stats'!M21","v":2995},{"$f":"'[6]Cumulative Stats'!M21","v":3728},{"$f":"'[7]Cumulative Stats'!M21","v":3682},{"$f":"'[8]Cumulative Stats'!M21","v":2934},{"$f":"'[9]Cumulative Stats'!M21","v":3182},{"$f":"'[10]Cumulative Stats'!M21","v":2549},{"$f":"'[11]Cumulative Stats'!M21","v":2290},{"$f":"'[12]Cumulative Stats'!M21","v":3890},{"$f":"'[13]Cumulative Stats'!M21","v":2985},{"$f":"'[14]Cumulative Stats'!M21","v":3643},{"$f":"'[15]Cumulative Stats'!M21","v":3269},{"$f":"'[16]Cumulative Stats'!M21","v":3009},null,null,null,"DET","Detroit",2585,3728,6313,{"$f":"+AA21/'Team Offense'!$C$1","v":394.5625}]
[" Yards Gained (Net) Per Pass Play",null,null,{"$f":"'[1]Cumulative Stats'!M22","v":5.2190812720848054},{"$f":"'[2]Cumulative Stats'!M22","v":5.1224832214765099},{"$f":"'[3]Cumulative Stats'!M22","v":4.9682835820895521},{"$f":"'[4]Cumulative Stats'!M22","v":6.230905861456483},{"$f":"'[5]Cumulative Stats'!M22","v":5.0848896434634971},{"$f":"'[6]Cumulative Stats'!M22","v":6.7050359712230216},{"$f":"'[7]Cumulative Stats'!M22","v":6.3047945205479454},{"$f":"'[8]Cumulative Stats'!M22","v":5.1293706293706292},{"$f":"'[9]Cumulative Stats'!M22","v":5.6418439716312054},{"$f":"'[10]Cumulative Stats'!M22","v":4.7203703703703708},{"$f":"'[11]Cumulative Stats'!M22","v":3.9756944444444446},{"$f":"'[12]Cumulative Stats'!M22","v":6.5598650927487352},{"$f":"'[13]Cumulative Stats'!M22","v":5.0168067226890756},{"$f":"'[14]Cumulative Stats'!M22","v":6.3136915077989597},{"$f":"'[15]Cumulative Stats'!M22","v":6.2624521072796933},{"$f":"'[16]Cumulative Stats'!M22","v":5.3162544169611303}]
[" Yards Gained Per Completion",null,null,{"$f":"'[1]Cumulative Stats'!M23","v":10.860927152317881},{"$f":"'[2]Cumulative Stats'!M23","v":10.927868852459016},{"$f":"'[3]Cumulative Stats'!M23","v":9.9480968858131487},{"$f":"'[4]Cumulative Stats'!M23","v":11.564668769716087},{"$f":"'[5]Cumulative Stats'!M23","v":10.926984126984127},{"$f":"'[6]Cumulative Stats'!M23","v":11.775510204081632},{"$f":"'[7]Cumulative Stats'!M23","v":11.051873198847263},{"$f":"'[8]Cumulative Stats'!M23","v":11.349480968858131},{"$f":"'[9]Cumulative Stats'!M23","v":11.822916666666666},{"$f":"'[10]Cumulative Stats'!M23","v":11.245210727969349},{"$f":"'[11]Cumulative Stats'!M23","v":11.178861788617887},{"$f":"'[12]Cumulative Stats'!M23","v":11.09433962264151},{"$f":"'[13]Cumulative Stats'!M23","v":10.14516129032258},{"$f":"'[14]Cumulative Stats'!M23","v":11.899109792284866},{"$f":"'[15]Cumulative Stats'!M23","v":12.56842105263158},{"$f":"'[16]Cumulative Stats'!M23","v":9.9936908517350158}]
[null,null,null,{"$f":"'[1]Cumulative Stats'!M24","v":0},{"$f":"'[2]Cumulative Stats'!M24","v":0},{"$f":"'[3]Cumulative Stats'!M24","v":0},{"$f":"'[4]Cumulative Stats'!M24","v":0},{"$f":"'[5]Cumulative Stats'!M24","v":0},{"$f":"'[6]Cumulative Stats'!M24","v":0},{"$f":"'[7]Cumulative Stats'!M24","v":0},{"$f":"'[8]Cumulative Stats'!M24","v":0},{"$f":"'[9]Cumulative Stats'!M24","v":0},{"$f":"'[10]Cumulative Stats'!M24","v":0},{"$f":"'[11]Cumulative Stats'!M24","v":0},{"$f":"'[12]Cumulative Stats'!M24","v":0},{"$f":"'[13]Cumulative Stats'!M24","v":0},{"$f":"'[14]Cumulative Stats'!M24","v":0},{"$f":"'[15]Cumulative Stats'!M24","v":0},{"$f":"'[16]Cumulative Stats'!M24","v":0}]
["Net Yards Gained",null,null,{"$f":"'[1]Cumulative Stats'!M25","v":0},{"$f":"'[2]Cumulative Stats'!M25","v":0},{"$f":"'[3]Cumulative Stats'!M25","v":0},{"$f":"'[4]Cumulative Stats'!M25","v":0},{"$f":"'[5]Cumulative Stats'!M25","v":0},{"$f":"'[6]Cumulative Stats'!M25","v":0},{"$f":"'[7]Cumulative Stats'!M25","v":0},{"$f":"'[8]Cumulative Stats'!M25","v":0},{"$f":"'[9]Cumulative Stats'!M25","v":0},{"$f":"'[10]Cumulative Stats'!M25","v":0},{"$f":"'[11]Cumulative Stats'!M25","v":0},{"$f":"'[12]Cumulative Stats'!M25","v":0},{"$f":"'[13]Cumulative Stats'!M25","v":0},{"$f":"'[14]Cumulative Stats'!M25","v":0},{"$f":"'[15]Cumulative Stats'!M25","v":0},{"$f":"'[16]Cumulative Stats'!M25","v":0}]
[" Rushing and Passing",null,null,{"$f":"'[1]Cumulative Stats'!M26","v":5198},{"$f":"'[2]Cumulative Stats'!M26","v":4938},{"$f":"'[3]Cumulative Stats'!M26","v":4278},{"$f":"'[4]Cumulative Stats'!M26","v":5159},{"$f":"'[5]Cumulative Stats'!M26","v":4878},{"$f":"'[6]Cumulative Stats'!M26","v":6313},{"$f":"'[7]Cumulative Stats'!M26","v":5690},{"$f":"'[8]Cumulative Stats'!M26","v":4500},{"$f":"'[9]Cumulative Stats'!M26","v":5091},{"$f":"'[10]Cumulative Stats'!M26","v":3727},{"$f":"'[11]Cumulative Stats'!M26","v":3962},{"$f":"'[12]Cumulative Stats'!M26","v":5979},{"$f":"'[13]Cumulative Stats'!M26","v":4895},{"$f":"'[14]Cumulative Stats'!M26","v":5933},{"$f":"'[15]Cumulative Stats'!M26","v":5008},{"$f":"'[16]Cumulative Stats'!M26","v":4810}]
[" Percent Total Yards - Rushing",null,null,{"$f":"'[1]Cumulative Stats'!M27","v":43.170450173143514},{"$f":"'[2]Cumulative Stats'!M27","v":38.173349534224386},{"$f":"'[3]Cumulative Stats'!M27","v":37.751285647498833},{"$f":"'[4]Cumulative Stats'!M27","v":32.002326032176782},{"$f":"'[5]Cumulative Stats'!M27","v":38.601886018860185},{"$f":"'[6]Cumulative Stats'!M27","v":40.947251702835416},{"$f":"'[7]Cumulative Stats'!M27","v":35.289982425307556},{"$f":"'[8]Cumulative Stats'!M27","v":34.799999999999997},{"$f":"'[9]Cumulative Stats'!M27","v":37.497544686702021},{"$f":"'[10]Cumulative Stats'!M27","v":31.607190770056349},{"$f":"'[11]Cumulative Stats'!M27","v":42.200908632004037},{"$f":"'[12]Cumulative Stats'!M27","v":34.93895300217428},{"$f":"'[13]Cumulative Stats'!M27","v":39.019407558733398},{"$f":"'[14]Cumulative Stats'!M27","v":38.597674026630706},{"$f":"'[15]Cumulative Stats'!M27","v":34.724440894568694},{"$f":"'[16]Cumulative Stats'!M27","v":37.442827442827443}]
[" Percent Total Yards - Passing",null,null,{"$f":"'[1]Cumulative Stats'!M28","v":56.829549826856486},{"$f":"'[2]Cumulative Stats'!M28","v":61.826650465775614},{"$f":"'[3]Cumulative Stats'!M28","v":62.248714352501167},{"$f":"'[4]Cumulative Stats'!M28","v":67.997673967823218},{"$f":"'[5]Cumulative Stats'!M28","v":61.398113981139815},{"$f":"'[6]Cumulative Stats'!M28","v":59.052748297164584},{"$f":"'[7]Cumulative Stats'!M28","v":64.710017574692444},{"$f":"'[8]Cumulative Stats'!M28","v":65.2},{"$f":"'[9]Cumulative Stats'!M28","v":62.502455313297979},{"$f":"'[10]Cumulative Stats'!M28","v":68.392809229943651},{"$f":"'[11]Cumulative Stats'!M28","v":57.799091367995956},{"$f":"'[12]Cumulative Stats'!M28","v":65.061046997825727},{"$f":"'[13]Cumulative Stats'!M28","v":60.980592441266602},{"$f":"'[14]Cumulative Stats'!M28","v":61.402325973369287},{"$f":"'[15]Cumulative Stats'!M28","v":65.275559105431313},{"$f":"'[16]Cumulative Stats'!M28","v":62.557172557172557}]
[null,null,null,{"$f":"'[1]Cumulative Stats'!M29","v":0},{"$f":"'[2]Cumulative Stats'!M29","v":0},{"$f":"'[3]Cumulative Stats'!M29","v":0},{"$f":"'[4]Cumulative Stats'!M29","v":0},{"$f":"'[5]Cumulative Stats'!M29","v":0},{"$f":"'[6]Cumulative Stats'!M29","v":0},{"$f":"'[7]Cumulative Stats'!M29","v":0},{"$f":"'[8]Cumulative Stats'!M29","v":0},{"$f":"'[9]Cumulative Stats'!M29","v":0},{"$f":"'[10]Cumulative Stats'!M29","v":0},{"$f":"'[11]Cumulative Stats'!M29","v":0},{"$f":"'[12]Cumulative Stats'!M29","v":0},{"$f":"'[13]Cumulative Stats'!M29","v":0},{"$f":"'[14]Cumulative Stats'!M29","v":0},{"$f":"'[15]Cumulative Stats'!M29","v":0},{"$f":"'[16]Cumulative Stats'!M29","v":0}]
["Ball Control Plays",null,null,{"$f":"'[1]Cumulative Stats'!M30","v":1005},{"$f":"'[2]Cumulative Stats'!M30","v":1023},{"$f":"'[3]Cumulative Stats'!M30","v":930},{"$f":"'[4]Cumulative Stats'!M30","v":981},{"$f":"'[5]Cumulative Stats'!M30","v":1028},{"$f":"'[6]Cumulative Stats'!M30","v":990},{"$f":"'[7]Cumulative Stats'!M30","v":1019},{"$f":"'[8]Cumulative Stats'!M30","v":967},{"$f":"'[9]Cumulative Stats'!M30","v":979},{"$f":"'[10]Cumulative Stats'!M30","v":914},{"$f":"'[11]Cumulative Stats'!M30","v":999},{"$f":"'[12]Cumulative Stats'!M30","v":1051},{"$f":"'[13]Cumulative Stats'!M30","v":1017},{"$f":"'[14]Cumulative Stats'!M30","v":1001},{"$f":"'[15]Cumulative Stats'!M30","v":954},{"$f":"'[16]Cumulative Stats'!M30","v":999}]
[" Average Gain (Net)",null,null,{"$f":"'[1]Cumulative Stats'!M31","v":5.1721393034825871},{"$f":"'[2]Cumulative Stats'!M31","v":4.8269794721407626},{"$f":"'[3]Cumulative Stats'!M31","v":4.5999999999999996},{"$f":"'[4]Cumulative Stats'!M31","v":5.2589194699286441},{"$f":"'[5]Cumulative Stats'!M31","v":4.745136186770428},{"$f":"'[6]Cumulative Stats'!M31","v":6.3767676767676766},{"$f":"'[7]Cumulative Stats'!M31","v":5.5839057899901867},{"$f":"'[8]Cumulative Stats'!M31","v":4.6535677352637022},{"$f":"'[9]Cumulative Stats'!M31","v":5.2002042900919303},{"$f":"'[10]Cumulative Stats'!M31","v":4.0776805251641139},{"$f":"'[11]Cumulative Stats'!M31","v":3.9659659659659661},{"$f":"'[12]Cumulative Stats'!M31","v":5.6888677450047576},{"$f":"'[13]Cumulative Stats'!M31","v":4.8131760078662733},{"$f":"'[14]Cumulative Stats'!M31","v":5.9270729270729268},{"$f":"'[15]Cumulative Stats'!M31","v":5.249475890985325},{"$f":"'[16]Cumulative Stats'!M31","v":4.8148148148148149}]
[null,null,null,{"$f":"'[1]Cumulative Stats'!M32","v":0},{"$f":"'[2]Cumulative Stats'!M32","v":0},{"$f":"'[3]Cumulative Stats'!M32","v":0},{"$f":"'[4]Cumulative Stats'!M32","v":0},{"$f":"'[5]Cumulative Stats'!M32","v":0},{"$f":"'[6]Cumulative Stats'!M32","v":0},{"$f":"'[7]Cumulative Stats'!M32","v":0},{"$f":"'[8]Cumulative Stats'!M32","v":0},{"$f":"'[9]Cumulative Stats'!M32","v":0},{"$f":"'[10]Cumulative Stats'!M32","v":0},{"$f":"'[11]Cumulative Stats'!M32","v":0},{"$f":"'[12]Cumulative Stats'!M32","v":0},{"$f":"'[13]Cumulative Stats'!M32","v":0},{"$f":"'[14]Cumulative Stats'!M32","v":0},{"$f":"'[15]Cumulative Stats'!M32","v":0},{"$f":"'[16]Cumulative Stats'!M32","v":0}]
["Interceptions",null,null,{"$f":"'[1]Cumulative Stats'!M33","v":0},{"$f":"'[2]Cumulative Stats'!M33","v":0},{"$f":"'[3]Cumulative Stats'!M33","v":0},{"$f":"'[4]Cumulative Stats'!M33","v":0},{"$f":"'[5]Cumulative Stats'!M33","v":0},{"$f":"'[6]Cumulative Stats'!M33","v":0},{"$f":"'[7]Cumulative Stats'!M33","v":0},{"$f":"'[8]Cumulative Stats'!M33","v":0},{"$f":"'[9]Cumulative Stats'!M33","v":0},{"$f":"'[10]Cumulative Stats'!M33","v":0},{"$f":"'[11]Cumulative Stats'!M33","v":0},{"$f":"'[12]Cumulative Stats'!M33","v":0},{"$f":"'[13]Cumulative Stats'!M33","v":0},{"$f":"'[14]Cumulative Stats'!M33","v":0},{"$f":"'[15]Cumulative Stats'!M33","v":0},{"$f":"'[16]Cumulative Stats'!M33","v":0}]
[" Had Intercepted",null,null,{"$f":"'[1]Cumulative Stats'!M34","v":8},{"$f":"'[2]Cumulative Stats'!M34","v":14},{"$f":"'[3]Cumulative Stats'!M34","v":16},{"$f":"'[4]Cumulative Stats'!M34","v":15},{"$f":"'[5]Cumulative Stats'!M34","v":6},{"$f":"'[6]Cumulative Stats'!M34","v":8},{"$f":"'[7]Cumulative Stats'!M34","v":17},{"$f":"'[8]Cumulative Stats'!M34","v":19},{"$f":"'[9]Cumulative Stats'!M34","v":19},{"$f":"'[10]Cumulative Stats'!M34","v":16},{"$f":"'[11]Cumulative Stats'!M34","v":16},{"$f":"'[12]Cumulative Stats'!M34","v":12},{"$f":"'[13]Cumulative Stats'!M34","v":12},{"$f":"'[14]Cumulative Stats'!M34","v":13},{"$f":"'[15]Cumulative Stats'!M34","v":16},{"$f":"'[16]Cumulative Stats'!M34","v":22}]
[" Yards Opponents Returned",null,null,{"$f":"'[1]Cumulative Stats'!M35","v":145},{"$f":"'[2]Cumulative Stats'!M35","v":232},{"$f":"'[3]Cumulative Stats'!M35","v":272},{"$f":"'[4]Cumulative Stats'!M35","v":94},{"$f":"'[5]Cumulative Stats'!M35","v":43},{"$f":"'[6]Cumulative Stats'!M35","v":114},{"$f":"'[7]Cumulative Stats'!M35","v":288},{"$f":"'[8]Cumulative Stats'!M35","v":172},{"$f":"'[9]Cumulative Stats'!M35","v":230},{"$f":"'[10]Cumulative Stats'!M35","v":189},{"$f":"'[11]Cumulative Stats'!M35","v":265},{"$f":"'[12]Cumulative Stats'!M35","v":163},{"$f":"'[13]Cumulative Stats'!M35","v":18},{"$f":"'[14]Cumulative Stats'!M35","v":159},{"$f":"'[15]Cumulative Stats'!M35","v":269},{"$f":"'[16]Cumulative Stats'!M35","v":187}]
[" Returned by Opponents for TD",null,null,{"$f":"'[1]Cumulative Stats'!M36","v":1},{"$f":"'[2]Cumulative Stats'!M36","v":2},{"$f":"'[3]Cumulative Stats'!M36","v":1},{"$f":"'[4]Cumulative Stats'!M36","v":0},{"$f":"'[5]Cumulative Stats'!M36","v":0},{"$f":"'[6]Cumulative Stats'!M36","v":1},{"$f":"'[7]Cumulative Stats'!M36","v":2},{"$f":"'[8]Cumulative Stats'!M36","v":0},{"$f":"'[9]Cumulative Stats'!M36","v":1},{"$f":"'[10]Cumulative Stats'!M36","v":0},{"$f":"'[11]Cumulative Stats'!M36","v":2},{"$f":"'[12]Cumulative Stats'!M36","v":0},{"$f":"'[13]Cumulative Stats'!M36","v":0},{"$f":"'[14]Cumulative Stats'!M36","v":1},{"$f":"'[15]Cumulative Stats'!M36","v":3},{"$f":"'[16]Cumulative Stats'!M36","v":0}]
[null,null,null,{"$f":"'[1]Cumulative Stats'!M37","v":0},{"$f":"'[2]Cumulative Stats'!M37","v":0},{"$f":"'[3]Cumulative Stats'!M37","v":0},{"$f":"'[4]Cumulative Stats'!M37","v":0},{"$f":"'[5]Cumulative Stats'!M37","v":0},{"$f":"'[6]Cumulative Stats'!M37","v":0},{"$f":"'[7]Cumulative Stats'!M37","v":0},{"$f":"'[8]Cumulative Stats'!M37","v":0},{"$f":"'[9]Cumulative Stats'!M37","v":0},{"$f":"'[10]Cumulative Stats'!M37","v":0},{"$f":"'[11]Cumulative Stats'!M37","v":0},{"$f":"'[12]Cumulative Stats'!M37","v":0},{"$f":"'[13]Cumulative Stats'!M37","v":0},{"$f":"'[14]Cumulative Stats'!M37","v":0},{"$f":"'[15]Cumulative Stats'!M37","v":0},{"$f":"'[16]Cumulative Stats'!M37","v":0}]
["Punts",null,null,{"$f":"'[1]Cumulative Stats'!M38","v":83},{"$f":"'[2]Cumulative Stats'!M38","v":99},{"$f":"'[3]Cumulative Stats'!M38","v":86},{"$f":"'[4]Cumulative Stats'!M38","v":102},{"$f":"'[5]Cumulative Stats'!M38","v":90},{"$f":"'[6]Cumulative Stats'!M38","v":61},{"$f":"'[7]Cumulative Stats'!M38","v":73},{"$f":"'[8]Cumulative Stats'!M38","v":98},{"$f":"'[9]Cumulative Stats'!M38","v":99},{"$f":"'[10]Cumulative Stats'!M38","v":99},{"$f":"'[11]Cumulative Stats'!M38","v":120},{"$f":"'[12]Cumulative Stats'!M38","v":68},{"$f":"'[13]Cumulative Stats'!M38","v":91},{"$f":"'[14]Cumulative Stats'!M38","v":73},{"$f":"'[15]Cumulative Stats'!M38","v":91},{"$f":"'[16]Cumulative Stats'!M38","v":83}]
["  Yards Punted",null,null,{"$f":"'[1]Cumulative Stats'!M39","v":3561},{"$f":"'[2]Cumulative Stats'!M39","v":4354},{"$f":"'[3]Cumulative Stats'!M39","v":3706},{"$f":"'[4]Cumulative Stats'!M39","v":4440},{"$f":"'[5]Cumulative Stats'!M39","v":3711},{"$f":"'[6]Cumulative Stats'!M39","v":2445},{"$f":"'[7]Cumulative Stats'!M39","v":3074},{"$f":"'[8]Cumulative Stats'!M39","v":4102},{"$f":"'[9]Cumulative Stats'!M39","v":4320},{"$f":"'[10]Cumulative Stats'!M39","v":4141},{"$f":"'[11]Cumulative Stats'!M39","v":5103},{"$f":"'[12]Cumulative Stats'!M39","v":2820},{"$f":"'[13]Cumulative Stats'!M39","v":3673},{"$f":"'[14]Cumulative Stats'!M39","v":3035},{"$f":"'[15]Cumulative Stats'!M39","v":3915},{"$f":"'[16]Cumulative Stats'!M39","v":3479}]
["  Average Yards Per Punt",null,null,{"$f":"'[1]Cumulative Stats'!M40","v":42.903614457831324},{"$f":"'[2]Cumulative Stats'!M40","v":43.979797979797979},{"$f":"'[3]Cumulative Stats'!M40","v":43.093023255813954},{"$f":"'[4]Cumulative Stats'!M40","v":43.529411764705884},{"$f":"'[5]Cumulative Stats'!M40","v":41.233333333333334},{"$f":"'[6]Cumulative Stats'!M40","v":40.081967213114751},{"$f":"'[7]Cumulative Stats'!M40","v":42.109589041095887},{"$f":"'[8]Cumulative Stats'!M40","v":41.857142857142854},{"$f":"'[9]Cumulative Stats'!M40","v":43.636363636363633},{"$f":"'[10]Cumulative Stats'!M40","v":41.828282828282831},{"$f":"'[11]Cumulative Stats'!M40","v":42.524999999999999},{"$f":"'[12]Cumulative Stats'!M40","v":41.470588235294116},{"$f":"'[13]Cumulative Stats'!M40","v":40.362637362637365},{"$f":"'[14]Cumulative Stats'!M40","v":41.575342465753423},{"$f":"'[15]Cumulative Stats'!M40","v":43.021978021978022},{"$f":"'[16]Cumulative Stats'!M40","v":41.915662650602407}]
[null,null,null,{"$f":"'[1]Cumulative Stats'!M41","v":0},{"$f":"'[2]Cumulative Stats'!M41","v":0},{"$f":"'[3]Cumulative Stats'!M41","v":0},{"$f":"'[4]Cumulative Stats'!M41","v":0},{"$f":"'[5]Cumulative Stats'!M41","v":0},{"$f":"'[6]Cumulative Stats'!M41","v":0},{"$f":"'[7]Cumulative Stats'!M41","v":0},{"$f":"'[8]Cumulative Stats'!M41","v":0},{"$f":"'[9]Cumulative Stats'!M41","v":0},{"$f":"'[10]Cumulative Stats'!M41","v":0},{"$f":"'[11]Cumulative Stats'!M41","v":0},{"$f":"'[12]Cumulative Stats'!M41","v":0},{"$f":"'[13]Cumulative Stats'!M41","v":0},{"$f":"'[14]Cumulative Stats'!M41","v":0},{"$f":"'[15]Cumulative Stats'!M41","v":0},{"$f":"'[16]Cumulative Stats'!M41","v":0}]
["Punt Returns",null,null,{"$f":"'[1]Cumulative Stats'!M42","v":50},{"$f":"'[2]Cumulative Stats'!M42","v":37},{"$f":"'[3]Cumulative Stats'!M42","v":35},{"$f":"'[4]Cumulative Stats'!M42","v":63},{"$f":"'[5]Cumulative Stats'!M42","v":35},{"$f":"'[6]Cumulative Stats'!M42","v":50},{"$f":"'[7]Cumulative Stats'!M42","v":46},{"$f":"'[8]Cumulative Stats'!M42","v":45},{"$f":"'[9]Cumulative Stats'!M42","v":45},{"$f":"'[10]Cumulative Stats'!M42","v":30},{"$f":"'[11]Cumulative Stats'!M42","v":47},{"$f":"'[12]Cumulative Stats'!M42","v":45},{"$f":"'[13]Cumulative Stats'!M42","v":40},{"$f":"'[14]Cumulative Stats'!M42","v":41},{"$f":"'[15]Cumulative Stats'!M42","v":55},{"$f":"'[16]Cumulative Stats'!M42","v":50}]
[" Yards Returned",null,null,{"$f":"'[1]Cumulative Stats'!M43","v":582},{"$f":"'[2]Cumulative Stats'!M43","v":257},{"$f":"'[3]Cumulative Stats'!M43","v":358},{"$f":"'[4]Cumulative Stats'!M43","v":529},{"$f":"'[5]Cumulative Stats'!M43","v":326},{"$f":"'[6]Cumulative Stats'!M43","v":450},{"$f":"'[7]Cumulative Stats'!M43","v":404},{"$f":"'[8]Cumulative Stats'!M43","v":483},{"$f":"'[9]Cumulative Stats'!M43","v":412},{"$f":"'[10]Cumulative Stats'!M43","v":288},{"$f":"'[11]Cumulative Stats'!M43","v":413},{"$f":"'[12]Cumulative Stats'!M43","v":533},{"$f":"'[13]Cumulative Stats'!M43","v":378},{"$f":"'[14]Cumulative Stats'!M43","v":352},{"$f":"'[15]Cumulative Stats'!M43","v":567},{"$f":"'[16]Cumulative Stats'!M43","v":435}]
[" Average Yards Per Return",null,null,{"$f":"'[1]Cumulative Stats'!M44","v":11.64},{"$f":"'[2]Cumulative Stats'!M44","v":6.9459459459459456},{"$f":"'[3]Cumulative Stats'!M44","v":10.228571428571428},{"$f":"'[4]Cumulative Stats'!M44","v":8.3968253968253972},{"$f":"'[5]Cumulative Stats'!M44","v":9.3142857142857149},{"$f":"'[6]Cumulative Stats'!M44","v":9},{"$f":"'[7]Cumulative Stats'!M44","v":8.7826086956521738},{"$f":"'[8]Cumulative Stats'!M44","v":10.733333333333333},{"$f":"'[9]Cumulative Stats'!M44","v":9.155555555555555},{"$f":"'[10]Cumulative Stats'!M44","v":9.6},{"$f":"'[11]Cumulative Stats'!M44","v":8.787234042553191},{"$f":"'[12]Cumulative Stats'!M44","v":11.844444444444445},{"$f":"'[13]Cumulative Stats'!M44","v":9.4499999999999993},{"$f":"'[14]Cumulative Stats'!M44","v":8.5853658536585371},{"$f":"'[15]Cumulative Stats'!M44","v":10.309090909090909},{"$f":"'[16]Cumulative Stats'!M44","v":8.6999999999999993}]
[" Returned for TD",null,null,{"$f":"'[1]Cumulative Stats'!M45","v":1},{"$f":"'[2]Cumulative Stats'!M45","v":1},{"$f":"'[3]Cumulative Stats'!M45","v":2},{"$f":"'[4]Cumulative Stats'!M45","v":1},{"$f":"'[5]Cumulative Stats'!M45","v":0},{"$f":"'[6]Cumulative Stats'!M45","v":1},{"$f":"'[7]Cumulative Stats'!M45","v":0},{"$f":"'[8]Cumulative Stats'!M45","v":1},{"$f":"'[9]Cumulative Stats'!M45","v":0},{"$f":"'[10]Cumulative Stats'!M45","v":0},{"$f":"'[11]Cumulative Stats'!M45","v":0},{"$f":"'[12]Cumulative Stats'!M45","v":1},{"$f":"'[13]Cumulative Stats'!M45","v":0},{"$f":"'[14]Cumulative Stats'!M45","v":0},{"$f":"'[15]Cumulative Stats'!M45","v":1},{"$f":"'[16]Cumulative Stats'!M45","v":1}]
[null,null,null,{"$f":"'[1]Cumulative Stats'!M46","v":0},{"$f":"'[2]Cumulative Stats'!M46","v":0},{"$f":"'[3]Cumulative Stats'!M46","v":0},{"$f":"'[4]Cumulative Stats'!M46","v":0},{"$f":"'[5]Cumulative Stats'!M46","v":0},{"$f":"'[6]Cumulative Stats'!M46","v":0},{"$f":"'[7]Cumulative Stats'!M46","v":0},{"$f":"'[8]Cumulative Stats'!M46","v":0},{"$f":"'[9]Cumulative Stats'!M46","v":0},{"$f":"'[10]Cumulative Stats'!M46","v":0},{"$f":"'[11]Cumulative Stats'!M46","v":0},{"$f":"'[12]Cumulative Stats'!M46","v":0},{"$f":"'[13]Cumulative Stats'!M46","v":0},{"$f":"'[14]Cumulative Stats'!M46","v":0},{"$f":"'[15]Cumulative Stats'!M46","v":0},{"$f":"'[16]Cumulative Stats'!M46","v":0}]
["Kickoff Returns",null,null,{"$f":"'[1]Cumulative Stats'!M47","v":75},{"$f":"'[2]Cumulative Stats'!M47","v":79},{"$f":"'[3]Cumulative Stats'!M47","v":94},{"$f":"'[4]Cumulative Stats'!M47","v":54},{"$f":"'[5]Cumulative Stats'!M47","v":81},{"$f":"'[6]Cumulative Stats'!M47","v":68},{"$f":"'[7]Cumulative Stats'!M47","v":64},{"$f":"'[8]Cumulative Stats'!M47","v":91},{"$f":"'[9]Cumulative Stats'!M47","v":98},{"$f":"'[10]Cumulative Stats'!M47","v":98},{"$f":"'[11]Cumulative Stats'!M47","v":90},{"$f":"'[12]Cumulative Stats'!M47","v":50},{"$f":"'[13]Cumulative Stats'!M47","v":61},{"$f":"'[14]Cumulative Stats'!M47","v":56},{"$f":"'[15]Cumulative Stats'!M47","v":80},{"$f":"'[16]Cumulative Stats'!M47","v":72}]
[" Yards Returned",null,null,{"$f":"'[1]Cumulative Stats'!M48","v":1610},{"$f":"'[2]Cumulative Stats'!M48","v":1621},{"$f":"'[3]Cumulative Stats'!M48","v":1792},{"$f":"'[4]Cumulative Stats'!M48","v":1049},{"$f":"'[5]Cumulative Stats'!M48","v":1714},{"$f":"'[6]Cumulative Stats'!M48","v":1633},{"$f":"'[7]Cumulative Stats'!M48","v":1401},{"$f":"'[8]Cumulative Stats'!M48","v":2149},{"$f":"'[9]Cumulative Stats'!M48","v":2321},{"$f":"'[10]Cumulative Stats'!M48","v":2515},{"$f":"'[11]Cumulative Stats'!M48","v":1889},{"$f":"'[12]Cumulative Stats'!M48","v":1310},{"$f":"'[13]Cumulative Stats'!M48","v":1512},{"$f":"'[14]Cumulative Stats'!M48","v":1333},{"$f":"'[15]Cumulative Stats'!M48","v":1796},{"$f":"'[16]Cumulative Stats'!M48","v":1561}]
[" Average Yards Per Return",null,null,{"$f":"'[1]Cumulative Stats'!M49","v":21.466666666666665},{"$f":"'[2]Cumulative Stats'!M49","v":20.518987341772153},{"$f":"'[3]Cumulative Stats'!M49","v":19.063829787234042},{"$f":"'[4]Cumulative Stats'!M49","v":19.425925925925927},{"$f":"'[5]Cumulative Stats'!M49","v":21.160493827160494},{"$f":"'[6]Cumulative Stats'!M49","v":24.014705882352942},{"$f":"'[7]Cumulative Stats'!M49","v":21.890625},{"$f":"'[8]Cumulative Stats'!M49","v":23.615384615384617},{"$f":"'[9]Cumulative Stats'!M49","v":23.683673469387756},{"$f":"'[10]Cumulative Stats'!M49","v":25.663265306122447},{"$f":"'[11]Cumulative Stats'!M49","v":20.988888888888887},{"$f":"'[12]Cumulative Stats'!M49","v":26.2},{"$f":"'[13]Cumulative Stats'!M49","v":24.78688524590164},{"$f":"'[14]Cumulative Stats'!M49","v":23.803571428571427},{"$f":"'[15]Cumulative Stats'!M49","v":22.45},{"$f":"'[16]Cumulative Stats'!M49","v":21.680555555555557}]
[" Returned for TD",null,null,{"$f":"'[1]Cumulative Stats'!M50","v":0},{"$f":"'[2]Cumulative Stats'!M50","v":2},{"$f":"'[3]Cumulative Stats'!M50","v":0},{"$f":"'[4]Cumulative Stats'!M50","v":0},{"$f":"'[5]Cumulative Stats'!M50","v":1},{"$f":"'[6]Cumulative Stats'!M50","v":0},{"$f":"'[7]Cumulative Stats'!M50","v":0},{"$f":"'[8]Cumulative Stats'!M50","v":0},{"$f":"'[9]Cumulative Stats'!M50","v":0},{"$f":"'[10]Cumulative Stats'!M50","v":3},{"$f":"'[11]Cumulative Stats'!M50","v":1},{"$f":"'[12]Cumulative Stats'!M50","v":2},{"$f":"'[13]Cumulative Stats'!M50","v":2},{"$f":"'[14]Cumulative Stats'!M50","v":0},{"$f":"'[15]Cumulative Stats'!M50","v":0},{"$f":"'[16]Cumulative Stats'!M50","v":0}]
[null,null,null,{"$f":"'[1]Cumulative Stats'!M51","v":0},{"$f":"'[2]Cumulative Stats'!M51","v":0},{"$f":"'[3]Cumulative Stats'!M51","v":0},{"$f":"'[4]Cumulative Stats'!M51","v":0},{"$f":"'[5]Cumulative Stats'!M51","v":0},{"$f":"'[6]Cumulative Stats'!M51","v":0},{"$f":"'[7]Cumulative Stats'!M51","v":0},{"$f":"'[8]Cumulative Stats'!M51","v":0},{"$f":"'[9]Cumulative Stats'!M51","v":0},{"$f":"'[10]Cumulative Stats'!M51","v":0},{"$f":"'[11]Cumulative Stats'!M51","v":0},{"$f":"'[12]Cumulative Stats'!M51","v":0},{"$f":"'[13]Cumulative Stats'!M51","v":0},{"$f":"'[14]Cumulative Stats'!M51","v":0},{"$f":"'[15]Cumulative Stats'!M51","v":0},{"$f":"'[16]Cumulative Stats'!M51","v":0}]
["Penalties",null,null,{"$f":"'[1]Cumulative Stats'!M52","v":89},{"$f":"'[2]Cumulative Stats'!M52","v":63},{"$f":"'[3]Cumulative Stats'!M52","v":59},{"$f":"'[4]Cumulative Stats'!M52","v":80},{"$f":"'[5]Cumulative Stats'!M52","v":111},{"$f":"'[6]Cumulative Stats'!M52","v":59},{"$f":"'[7]Cumulative Stats'!M52","v":80},{"$f":"'[8]Cumulative Stats'!M52","v":66},{"$f":"'[9]Cumulative Stats'!M52","v":88},{"$f":"'[10]Cumulative Stats'!M52","v":87},{"$f":"'[11]Cumulative Stats'!M52","v":76},{"$f":"'[12]Cumulative Stats'!M52","v":72},{"$f":"'[13]Cumulative Stats'!M52","v":76},{"$f":"'[14]Cumulative Stats'!M52","v":85},{"$f":"'[15]Cumulative Stats'!M52","v":59},{"$f":"'[16]Cumulative Stats'!M52","v":89}]
[" Yards Penalized",null,null,{"$f":"'[1]Cumulative Stats'!M53","v":717},{"$f":"'[2]Cumulative Stats'!M53","v":520},{"$f":"'[3]Cumulative Stats'!M53","v":495},{"$f":"'[4]Cumulative Stats'!M53","v":661},{"$f":"'[5]Cumulative Stats'!M53","v":905},{"$f":"'[6]Cumulative Stats'!M53","v":492},{"$f":"'[7]Cumulative Stats'!M53","v":639},{"$f":"'[8]Cumulative Stats'!M53","v":540},{"$f":"'[9]Cumulative Stats'!M53","v":746},{"$f":"'[10]Cumulative Stats'!M53","v":692},{"$f":"'[11]Cumulative Stats'!M53","v":639},{"$f":"'[12]Cumulative Stats'!M53","v":553},{"$f":"'[13]Cumulative Stats'!M53","v":624},{"$f":"'[14]Cumulative Stats'!M53","v":808},{"$f":"'[15]Cumulative Stats'!M53","v":538},{"$f":"'[16]Cumulative Stats'!M53","v":764}]
[null,null,null,{"$f":"'[1]Cumulative Stats'!M54","v":0},{"$f":"'[2]Cumulative Stats'!M54","v":0},{"$f":"'[3]Cumulative Stats'!M54","v":0},{"$f":"'[4]Cumulative Stats'!M54","v":0},{"$f":"'[5]Cumulative Stats'!M54","v":0},{"$f":"'[6]Cumulative Stats'!M54","v":0},{"$f":"'[7]Cumulative Stats'!M54","v":0},{"$f":"'[8]Cumulative Stats'!M54","v":0},{"$f":"'[9]Cumulative Stats'!M54","v":0},{"$f":"'[10]Cumulative Stats'!M54","v":0},{"$f":"'[11]Cumulative Stats'!M54","v":0},{"$f":"'[12]Cumulative Stats'!M54","v":0},{"$f":"'[13]Cumulative Stats'!M54","v":0},{"$f":"'[14]Cumulative Stats'!M54","v":0},{"$f":"'[15]Cumulative Stats'!M54","v":0},{"$f":"'[16]Cumulative Stats'!M54","v":0}]
["Fumbles",null,null,{"$f":"'[1]Cumulative Stats'!M55","v":34},{"$f":"'[2]Cumulative Stats'!M55","v":11},{"$f":"'[3]Cumulative Stats'!M55","v":25},{"$f":"'[4]Cumulative Stats'!M55","v":11},{"$f":"'[5]Cumulative Stats'!M55","v":36},{"$f":"'[6]Cumulative Stats'!M55","v":28},{"$f":"'[7]Cumulative Stats'!M55","v":14},{"$f":"'[8]Cumulative Stats'!M55","v":27},{"$f":"'[9]Cumulative Stats'!M55","v":14},{"$f":"'[10]Cumulative Stats'!M55","v":19},{"$f":"'[11]Cumulative Stats'!M55","v":42},{"$f":"'[12]Cumulative Stats'!M55","v":19},{"$f":"'[13]Cumulative Stats'!M55","v":12},{"$f":"'[14]Cumulative Stats'!M55","v":17},{"$f":"'[15]Cumulative Stats'!M55","v":18},{"$f":"'[16]Cumulative Stats'!M55","v":12}]
["Lost",null,null,{"$f":"'[1]Cumulative Stats'!M56","v":22},{"$f":"'[2]Cumulative Stats'!M56","v":7},{"$f":"'[3]Cumulative Stats'!M56","v":7},{"$f":"'[4]Cumulative Stats'!M56","v":7},{"$f":"'[5]Cumulative Stats'!M56","v":10},{"$f":"'[6]Cumulative Stats'!M56","v":16},{"$f":"'[7]Cumulative Stats'!M56","v":4},{"$f":"'[8]Cumulative Stats'!M56","v":4},{"$f":"'[9]Cumulative Stats'!M56","v":5},{"$f":"'[10]Cumulative Stats'!M56","v":8},{"$f":"'[11]Cumulative Stats'!M56","v":79},{"$f":"'[12]Cumulative Stats'!M56","v":5},{"$f":"'[13]Cumulative Stats'!M56","v":3},{"$f":"'[14]Cumulative Stats'!M56","v":8},{"$f":"'[15]Cumulative Stats'!M56","v":7},{"$f":"'[16]Cumulative Stats'!M56","v":5}]
[null,null,null,{"$f":"'[1]Cumulative Stats'!M57","v":0},{"$f":"'[2]Cumulative Stats'!M57","v":0},{"$f":"'[3]Cumulative Stats'!M57","v":0},{"$f":"'[4]Cumulative Stats'!M57","v":0},{"$f":"'[5]Cumulative Stats'!M57","v":0},{"$f":"'[6]Cumulative Stats'!M57","v":0},{"$f":"'[7]Cumulative Stats'!M57","v":0},{"$f":"'[8]Cumulative Stats'!M57","v":0},{"$f":"'[9]Cumulative Stats'!M57","v":0},{"$f":"'[10]Cumulative Stats'!M57","v":0},{"$f":"'[11]Cumulative Stats'!M57","v":0},{"$f":"'[12]Cumulative Stats'!M57","v":0},{"$f":"'[13]Cumulative Stats'!M57","v":0},{"$f":"'[14]Cumulative Stats'!M57","v":0},{"$f":"'[15]Cumulative Stats'!M57","v":0},{"$f":"'[16]Cumulative Stats'!M57","v":0}]
["Total Points Scored",null,null,{"$f":"'[1]Cumulative Stats'!M58","v":299},{"$f":"'[2]Cumulative Stats'!M58","v":287},{"$f":"'[3]Cumulative Stats'!M58","v":317},{"$f":"'[4]Cumulative Stats'!M58","v":392},{"$f":"'[5]Cumulative Stats'!M58","v":334},{"$f":"'[6]Cumulative Stats'!M58","v":508},{"$f":"'[7]Cumulative Stats'!M58","v":465},{"$f":"'[8]Cumulative Stats'!M58","v":314},{"$f":"'[9]Cumulative Stats'!M58","v":286},{"$f":"'[10]Cumulative Stats'!M58","v":232},{"$f":"'[11]Cumulative Stats'!M58","v":208},{"$f":"'[12]Cumulative Stats'!M58","v":447},{"$f":"'[13]Cumulative Stats'!M58","v":352},{"$f":"'[14]Cumulative Stats'!M58","v":397},{"$f":"'[15]Cumulative Stats'!M58","v":356},{"$f":"'[16]Cumulative Stats'!M58","v":324}]
[" Touchdowns (Total)",null,null,{"$f":"'[1]Cumulative Stats'!M59","v":30},{"$f":"'[2]Cumulative Stats'!M59","v":29},{"$f":"'[3]Cumulative Stats'!M59","v":31},{"$f":"'[4]Cumulative Stats'!M59","v":43},{"$f":"'[5]Cumulative Stats'!M59","v":30},{"$f":"'[6]Cumulative Stats'!M59","v":60},{"$f":"'[7]Cumulative Stats'!M59","v":52},{"$f":"'[8]Cumulative Stats'!M59","v":33},{"$f":"'[9]Cumulative Stats'!M59","v":28},{"$f":"'[10]Cumulative Stats'!M59","v":20},{"$f":"'[11]Cumulative Stats'!M59","v":19},{"$f":"'[12]Cumulative Stats'!M59","v":48},{"$f":"'[13]Cumulative Stats'!M59","v":34},{"$f":"'[14]Cumulative Stats'!M59","v":44},{"$f":"'[15]Cumulative Stats'!M59","v":38},{"$f":"'[16]Cumulative Stats'!M59","v":34}]
[" Touchdowns Rushing",null,null,{"$f":"'[1]Cumulative Stats'!M60","v":6},{"$f":"'[2]Cumulative Stats'!M60","v":8},{"$f":"'[3]Cumulative Stats'!M60","v":9},{"$f":"'[4]Cumulative Stats'!M60","v":17},{"$f":"'[5]Cumulative Stats'!M60","v":11},{"$f":"'[6]Cumulative Stats'!M60","v":21},{"$f":"'[7]Cumulative Stats'!M60","v":24},{"$f":"'[8]Cumulative Stats'!M60","v":6},{"$f":"'[9]Cumulative Stats'!M60","v":8},{"$f":"'[10]Cumulative Stats'!M60","v":3},{"$f":"'[11]Cumulative Stats'!M60","v":1},{"$f":"'[12]Cumulative Stats'!M60","v":21},{"$f":"'[13]Cumulative Stats'!M60","v":13},{"$f":"'[14]Cumulative Stats'!M60","v":17},{"$f":"'[15]Cumulative Stats'!M60","v":12},{"$f":"'[16]Cumulative Stats'!M60","v":13}]
[" Touchdowns Passing",null,null,{"$f":"'[1]Cumulative Stats'!M61","v":20},{"$f":"'[2]Cumulative Stats'!M61","v":17},{"$f":"'[3]Cumulative Stats'!M61","v":16},{"$f":"'[4]Cumulative Stats'!M61","v":21},{"$f":"'[5]Cumulative Stats'!M61","v":14},{"$f":"'[6]Cumulative Stats'!M61","v":38},{"$f":"'[7]Cumulative Stats'!M61","v":27},{"$f":"'[8]Cumulative Stats'!M61","v":21},{"$f":"'[9]Cumulative Stats'!M61","v":19},{"$f":"'[10]Cumulative Stats'!M61","v":12},{"$f":"'[11]Cumulative Stats'!M61","v":14},{"$f":"'[12]Cumulative Stats'!M61","v":24},{"$f":"'[13]Cumulative Stats'!M61","v":17},{"$f":"'[14]Cumulative Stats'!M61","v":23},{"$f":"'[15]Cumulative Stats'!M61","v":24},{"$f":"'[16]Cumulative Stats'!M61","v":18}]
[" TD's on Returns and Recoveries",null,null,{"$f":"'[1]Cumulative Stats'!M62","v":1},{"$f":"'[2]Cumulative Stats'!M62","v":3},{"$f":"'[3]Cumulative Stats'!M62","v":5},{"$f":"'[4]Cumulative Stats'!M62","v":5},{"$f":"'[5]Cumulative Stats'!M62","v":4},{"$f":"'[6]Cumulative Stats'!M62","v":2},{"$f":"'[7]Cumulative Stats'!M62","v":3},{"$f":"'[8]Cumulative Stats'!M62","v":2},{"$f":"'[9]Cumulative Stats'!M62","v":1},{"$f":"'[10]Cumulative Stats'!M62","v":3},{"$f":"'[11]Cumulative Stats'!M62","v":3},{"$f":"'[12]Cumulative Stats'!M62","v":3},{"$f":"'[13]Cumulative Stats'!M62","v":5},{"$f":"'[14]Cumulative Stats'!M62","v":1},{"$f":"'[15]Cumulative Stats'!M62","v":2},{"$f":"'[16]Cumulative Stats'!M62","v":3}]
[" *Extra Points",null,null,{"$f":"'[1]Cumulative Stats'!M63","v":30},{"$f":"'[2]Cumulative Stats'!M63","v":30},{"$f":"'[3]Cumulative Stats'!M63","v":32},{"$f":"'[4]Cumulative Stats'!M63","v":44},{"$f":"'[5]Cumulative Stats'!M63","v":30},{"$f":"'[6]Cumulative Stats'!M63","v":59},{"$f":"'[7]Cumulative Stats'!M63","v":51},{"$f":"'[8]Cumulative Stats'!M63","v":33},{"$f":"'[9]Cumulative Stats'!M63","v":28},{"$f":"'[10]Cumulative Stats'!M63","v":21},{"$f":"'[11]Cumulative Stats'!M63","v":19},{"$f":"'[12]Cumulative Stats'!M63","v":49},{"$f":"'[13]Cumulative Stats'!M63","v":34},{"$f":"'[14]Cumulative Stats'!M63","v":44},{"$f":"'[15]Cumulative Stats'!M63","v":38},{"$f":"'[16]Cumulative Stats'!M63","v":34}]
[" Safeties",null,null,{"$f":"'[1]Cumulative Stats'!M64","v":1},{"$f":"'[2]Cumulative Stats'!M64","v":1},{"$f":"'[3]Cumulative Stats'!M64","v":0},{"$f":"'[4]Cumulative Stats'!M64","v":0},{"$f":"'[5]Cumulative Stats'!M64","v":2},{"$f":"'[6]Cumulative Stats'!M64","v":1},{"$f":"'[7]Cumulative Stats'!M64","v":0},{"$f":"'[8]Cumulative Stats'!M64","v":1},{"$f":"'[9]Cumulative Stats'!M64","v":0},{"$f":"'[10]Cumulative Stats'!M64","v":2},{"$f":"'[11]Cumulative Stats'!M64","v":0},{"$f":"'[12]Cumulative Stats'!M64","v":1},{"$f":"'[13]Cumulative Stats'!M64","v":0},{"$f":"'[14]Cumulative Stats'!M64","v":1},{"$f":"'[15]Cumulative Stats'!M64","v":0},{"$f":"'[16]Cumulative Stats'!M64","v":1}]
[" Field Goals",null,null,{"$f":"'[1]Cumulative Stats'!M65","v":29},{"$f":"'[2]Cumulative Stats'!M65","v":27},{"$f":"'[3]Cumulative Stats'!M65","v":33},{"$f":"'[4]Cumulative Stats'!M65","v":30},{"$f":"'[5]Cumulative Stats'!M65","v":40},{"$f":"'[6]Cumulative Stats'!M65","v":29},{"$f":"'[7]Cumulative Stats'!M65","v":34},{"$f":"'[8]Cumulative Stats'!M65","v":27},{"$f":"'[9]Cumulative Stats'!M65","v":30},{"$f":"'[10]Cumulative Stats'!M65","v":29},{"$f":"'[11]Cumulative Stats'!M65","v":25},{"$f":"'[12]Cumulative Stats'!M65","v":36},{"$f":"'[13]Cumulative Stats'!M65","v":38},{"$f":"'[14]Cumulative Stats'!M65","v":29},{"$f":"'[15]Cumulative Stats'!M65","v":30},{"$f":"'[16]Cumulative Stats'!M65","v":28}]
[" Field Goal Attempts",null,null,{"$f":"'[1]Cumulative Stats'!M66","v":33},{"$f":"'[2]Cumulative Stats'!M66","v":33},{"$f":"'[3]Cumulative Stats'!M66","v":35},{"$f":"'[4]Cumulative Stats'!M66","v":32},{"$f":"'[5]Cumulative Stats'!M66","v":44},{"$f":"'[6]Cumulative Stats'!M66","v":31},{"$f":"'[7]Cumulative Stats'!M66","v":36},{"$f":"'[8]Cumulative Stats'!M66","v":33},{"$f":"'[9]Cumulative Stats'!M66","v":32},{"$f":"'[10]Cumulative Stats'!M66","v":31},{"$f":"'[11]Cumulative Stats'!M66","v":28},{"$f":"'[12]Cumulative Stats'!M66","v":40},{"$f":"'[13]Cumulative Stats'!M66","v":49},{"$f":"'[14]Cumulative Stats'!M66","v":34},{"$f":"'[15]Cumulative Stats'!M66","v":35},{"$f":"'[16]Cumulative Stats'!M66","v":33}]
[" Percent Successful",null,null,{"$f":"'[1]Cumulative Stats'!M67","v":87.878787878787875},{"$f":"'[2]Cumulative Stats'!M67","v":81.818181818181827},{"$f":"'[3]Cumulative Stats'!M67","v":94.285714285714278},{"$f":"'[4]Cumulative Stats'!M67","v":93.75},{"$f":"'[5]Cumulative Stats'!M67","v":90.909090909090907},{"$f":"'[6]Cumulative Stats'!M67","v":93.548387096774192},{"$f":"'[7]Cumulative Stats'!M67","v":94.444444444444443},{"$f":"'[8]Cumulative Stats'!M67","v":81.818181818181827},{"$f":"'[9]Cumulative Stats'!M67","v":93.75},{"$f":"'[10]Cumulative Stats'!M67","v":93.548387096774192},{"$f":"'[11]Cumulative Stats'!M67","v":89.285714285714292},{"$f":"'[12]Cumulative Stats'!M67","v":90},{"$f":"'[13]Cumulative Stats'!M67","v":77.551020408163268},{"$f":"'[14]Cumulative Stats'!M67","v":85.294117647058826},{"$f":"'[15]Cumulative Stats'!M67","v":85.714285714285708},{"$f":"'[16]Cumulative Stats'!M67","v":84.848484848484844}]
["Average Possesion:",null,null,{"$f":"'[1]Cumulative Stats'!M68","v":"30:39"},{"$f":"'[2]Cumulative Stats'!M68","v":"30:21"},{"$f":"'[3]Cumulative Stats'!M68","v":"28:40"},{"$f":"'[4]Cumulative Stats'!M68","v":"30:12"},{"$f":"'[5]Cumulative Stats'!M68","v":"30:45"},{"$f":"'[6]Cumulative Stats'!M68","v":"30:47"},{"$f":"'[7]Cumulative Stats'!M68","v":"31:01"},{"$f":"'[8]Cumulative Stats'!M68","v":"28:60"},{"$f":"'[9]Cumulative Stats'!M68","v":"29:10"},{"$f":"'[10]Cumulative Stats'!M68","v":"27:15"},{"$f":"'[11]Cumulative Stats'!M68","v":"28:38"},{"$f":"'[12]Cumulative Stats'!M68","v":"32:28"},{"$f":"'[13]Cumulative Stats'!M68","v":"30:57"},{"$f":"'[14]Cumulative Stats'!M68","v":"30:45"},{"$f":"'[15]Cumulative Stats'!M68","v":"28:60"},{"$f":"'[16]Cumulative Stats'!M68","v":"30:27"}]
["Third Down Efficiency",null,null,{"$f":"'[1]Cumulative Stats'!M69","v":34.653465346534652},{"$f":"'[2]Cumulative Stats'!M69","v":32.142857142857146},{"$f":"'[3]Cumulative Stats'!M69","v":32.5},{"$f":"'[4]Cumulative Stats'!M69","v":33.962264150943398},{"$f":"'[5]Cumulative Stats'!M69","v":31.018518518518519},{"$f":"'[6]Cumulative Stats'!M69","v":39.75903614457831},{"$f":"'[7]Cumulative Stats'!M69","v":35.820895522388057},{"$f":"'[8]Cumulative Stats'!M69","v":30},{"$f":"'[9]Cumulative Stats'!M69","v":29.032258064516132},{"$f":"'[10]Cumulative Stats'!M69","v":27.751196172248804},{"$f":"'[11]Cumulative Stats'!M69","v":26.556016597510375},{"$f":"'[12]Cumulative Stats'!M69","v":37.948717948717949},{"$f":"'[13]Cumulative Stats'!M69","v":32.735426008968609},{"$f":"'[14]Cumulative Stats'!M69","v":35.567010309278352},{"$f":"'[15]Cumulative Stats'!M69","v":29.5},{"$f":"'[16]Cumulative Stats'!M69","v":36.697247706422019}]

{"sheet":"Rush - Rec","index":2,"n_rows":205,"n_cols":20,"rows_kept":205,"cut":false,"hidden":false,"merged":[]}
["Rushing:","Team","Att","Yards","Avg.","Long","TD",null,null,"Receiving:","Team","Rec","Yards","Avg.","Long","TD"]
[{"$f":"'[8]Cumulative Stats'!A75","v":"Peterson"},"MIN",{"$f":"'[8]Cumulative Stats'!C75","v":356},{"$f":"'[8]Cumulative Stats'!D75","v":1931},{"$f":"'[8]Cumulative Stats'!E75","v":5.4241573033707864},{"$f":"'[8]Cumulative Stats'!F75","v":67},{"$f":"'[8]Cumulative Stats'!G75","v":13},null,null,{"$f":"'[2]Cumulative Stats'!A94","v":"White"},"ATL",{"$f":"'[2]Cumulative Stats'!C94","v":102},{"$f":"'[2]Cumulative Stats'!D94","v":1571},{"$f":"'[2]Cumulative Stats'!E94","v":15.401960784313726},{"$f":"'[2]Cumulative Stats'!F94","v":57},{"$f":"'[2]Cumulative Stats'!G94","v":14},null,null,null,"Rushing leader based on most yards gained"]
[{"$f":"'[2]Cumulative Stats'!A75","v":"Turner"},"ATL",{"$f":"'[2]Cumulative Stats'!C75","v":365},{"$f":"'[2]Cumulative Stats'!D75","v":1760},{"$f":"'[2]Cumulative Stats'!E75","v":4.8219178082191778},{"$f":"'[2]Cumulative Stats'!F75","v":69},{"$f":"'[2]Cumulative Stats'!G75","v":16},null,null,{"$f":"'[15]Cumulative Stats'!A94","v":"Bryant, A"},"TBB",{"$f":"'[15]Cumulative Stats'!C94","v":99},{"$f":"'[15]Cumulative Stats'!D94","v":1318},{"$f":"'[15]Cumulative Stats'!E94","v":13.313131313131313},{"$f":"'[15]Cumulative Stats'!F94","v":35},{"$f":"'[15]Cumulative Stats'!G94","v":6}]
[{"$f":"'[3]Cumulative Stats'!A75","v":"Williams, D"},"CAR",{"$f":"'[3]Cumulative Stats'!C75","v":281},{"$f":"'[3]Cumulative Stats'!D75","v":1754},{"$f":"'[3]Cumulative Stats'!E75","v":6.2419928825622772},{"$f":"'[3]Cumulative Stats'!F75","v":69},{"$f":"'[3]Cumulative Stats'!G75","v":18},null,null,{"$f":"'[1]Cumulative Stats'!A94","v":"Fitzgerald"},"ARI",{"$f":"'[1]Cumulative Stats'!C94","v":96},{"$f":"'[1]Cumulative Stats'!D94","v":1366},{"$f":"'[1]Cumulative Stats'!E94","v":14.229166666666666},{"$f":"'[1]Cumulative Stats'!F94","v":76},{"$f":"'[1]Cumulative Stats'!G94","v":9},null,null,null,"Leader based on receptions"]
[{"$f":"'[16]Cumulative Stats'!A75","v":"Portis"},"WAS",{"$f":"'[16]Cumulative Stats'!C75","v":342},{"$f":"'[16]Cumulative Stats'!D75","v":1444},{"$f":"'[16]Cumulative Stats'!E75","v":4.2222222222222223},{"$f":"'[16]Cumulative Stats'!F75","v":38},{"$f":"'[16]Cumulative Stats'!G75","v":10},null,null,{"$f":"'[3]Cumulative Stats'!A94","v":"Smith, St"},"CAR",{"$f":"'[3]Cumulative Stats'!C94","v":94},{"$f":"'[3]Cumulative Stats'!D94","v":1523},{"$f":"'[3]Cumulative Stats'!E94","v":16.202127659574469},{"$f":"'[3]Cumulative Stats'!F94","v":36},{"$f":"'[3]Cumulative Stats'!G94","v":10}]
[{"$f":"'[10]Cumulative Stats'!A75","v":"Ward"},"NYG",{"$f":"'[10]Cumulative Stats'!C75","v":217},{"$f":"'[10]Cumulative Stats'!D75","v":1212},{"$f":"'[10]Cumulative Stats'!E75","v":5.5852534562211984},{"$f":"'[10]Cumulative Stats'!F75","v":32},{"$f":"'[10]Cumulative Stats'!G75","v":9},null,null,{"$f":"'[6]Cumulative Stats'!A94","v":"Johnson, C"},"DET",{"$f":"'[6]Cumulative Stats'!C94","v":92},{"$f":"'[6]Cumulative Stats'!D94","v":1427},{"$f":"'[6]Cumulative Stats'!E94","v":15.510869565217391},{"$f":"'[6]Cumulative Stats'!F94","v":75},{"$f":"'[6]Cumulative Stats'!G94","v":13}]
[{"$f":"'[10]Cumulative Stats'!A76","v":"Jacobs"},"NYG",{"$f":"'[10]Cumulative Stats'!C76","v":218},{"$f":"'[10]Cumulative Stats'!D76","v":1128},{"$f":"'[10]Cumulative Stats'!E76","v":5.1743119266055047},{"$f":"'[10]Cumulative Stats'!F76","v":44},{"$f":"'[10]Cumulative Stats'!G76","v":9},null,null,{"$f":"'[9]Cumulative Stats'!A94","v":"Moore"},"NOS",{"$f":"'[9]Cumulative Stats'!C94","v":88},{"$f":"'[9]Cumulative Stats'!D94","v":862},{"$f":"'[9]Cumulative Stats'!E94","v":9.795454545454545},{"$f":"'[9]Cumulative Stats'!F94","v":65},{"$f":"'[9]Cumulative Stats'!G94","v":6}]
[{"$f":"'[4]Cumulative Stats'!A75","v":"Forte"},"CHI",{"$f":"'[4]Cumulative Stats'!C75","v":310},{"$f":"'[4]Cumulative Stats'!D75","v":1122},{"$f":"'[4]Cumulative Stats'!E75","v":3.6193548387096772},{"$f":"'[4]Cumulative Stats'!F75","v":23},{"$f":"'[4]Cumulative Stats'!G75","v":4},null,null,{"$f":"'[1]Cumulative Stats'!A95","v":"Breaston"},"ARI",{"$f":"'[1]Cumulative Stats'!C95","v":86},{"$f":"'[1]Cumulative Stats'!D95","v":1236},{"$f":"'[1]Cumulative Stats'!E95","v":14.372093023255815},{"$f":"'[1]Cumulative Stats'!F95","v":83},{"$f":"'[1]Cumulative Stats'!G95","v":11}]
[{"$f":"'[7]Cumulative Stats'!A75","v":"Grant"},"GBP",{"$f":"'[7]Cumulative Stats'!C75","v":288},{"$f":"'[7]Cumulative Stats'!D75","v":1110},{"$f":"'[7]Cumulative Stats'!E75","v":3.8541666666666665},{"$f":"'[7]Cumulative Stats'!F75","v":47},{"$f":"'[7]Cumulative Stats'!G75","v":10},null,null,{"$f":"'[5]Cumulative Stats'!A94","v":"Witten"},"DAL",{"$f":"'[5]Cumulative Stats'!C94","v":83},{"$f":"'[5]Cumulative Stats'!D94","v":882},{"$f":"'[5]Cumulative Stats'!E94","v":10.626506024096386},{"$f":"'[5]Cumulative Stats'!F94","v":42},{"$f":"'[5]Cumulative Stats'!G94","v":4}]
[{"$f":"'[6]Cumulative Stats'!A75","v":"Smith, Kev"},"DET",{"$f":"'[6]Cumulative Stats'!C75","v":273},{"$f":"'[6]Cumulative Stats'!D75","v":1089},{"$f":"'[6]Cumulative Stats'!E75","v":3.9890109890109891},{"$f":"'[6]Cumulative Stats'!F75","v":50},{"$f":"'[6]Cumulative Stats'!G75","v":5},null,null,{"$f":"'[16]Cumulative Stats'!A94","v":"Moss"},"WAS",{"$f":"'[16]Cumulative Stats'!C94","v":83},{"$f":"'[16]Cumulative Stats'!D94","v":1064},{"$f":"'[16]Cumulative Stats'!E94","v":12.819277108433734},{"$f":"'[16]Cumulative Stats'!F94","v":34},{"$f":"'[16]Cumulative Stats'!G94","v":6}]
[{"$f":"'[11]Cumulative Stats'!A75","v":"Westbrook"},"PHI",{"$f":"'[11]Cumulative Stats'!C75","v":245},{"$f":"'[11]Cumulative Stats'!D75","v":1041},{"$f":"'[11]Cumulative Stats'!E75","v":4.2489795918367346},{"$f":"'[11]Cumulative Stats'!F75","v":39},{"$f":"'[11]Cumulative Stats'!G75","v":8},null,null,{"$f":"'[7]Cumulative Stats'!A94","v":"Jennings"},"GBP",{"$f":"'[7]Cumulative Stats'!C94","v":80},{"$f":"'[7]Cumulative Stats'!D94","v":1036},{"$f":"'[7]Cumulative Stats'!E94","v":12.95},{"$f":"'[7]Cumulative Stats'!F94","v":83},{"$f":"'[7]Cumulative Stats'!G94","v":4}]
[{"$f":"'[13]Cumulative Stats'!A75","v":"Gore"},"SFO",{"$f":"'[13]Cumulative Stats'!C75","v":234},{"$f":"'[13]Cumulative Stats'!D75","v":1018},{"$f":"'[13]Cumulative Stats'!E75","v":4.3504273504273501},{"$f":"'[13]Cumulative Stats'!F75","v":41},{"$f":"'[13]Cumulative Stats'!G75","v":6},null,null,{"$f":"'[3]Cumulative Stats'!A95","v":"Muhammad"},"CAR",{"$f":"'[3]Cumulative Stats'!C95","v":79},{"$f":"'[3]Cumulative Stats'!D95","v":1233},{"$f":"'[3]Cumulative Stats'!E95","v":15.60759493670886},{"$f":"'[3]Cumulative Stats'!F95","v":60},{"$f":"'[3]Cumulative Stats'!G95","v":6}]
[{"$f":"'[5]Cumulative Stats'!A75","v":"Barber"},"DAL",{"$f":"'[5]Cumulative Stats'!C75","v":236},{"$f":"'[5]Cumulative Stats'!D75","v":882},{"$f":"'[5]Cumulative Stats'!E75","v":3.7372881355932202},{"$f":"'[5]Cumulative Stats'!F75","v":35},{"$f":"'[5]Cumulative Stats'!G75","v":9},null,null,{"$f":"'[5]Cumulative Stats'!A95","v":"Owens"},"DAL",{"$f":"'[5]Cumulative Stats'!C95","v":77},{"$f":"'[5]Cumulative Stats'!D95","v":1000},{"$f":"'[5]Cumulative Stats'!E95","v":12.987012987012987},{"$f":"'[5]Cumulative Stats'!F95","v":80},{"$f":"'[5]Cumulative Stats'!G95","v":7}]
[{"$f":"'[3]Cumulative Stats'!A76","v":"Stewart"},"CAR",{"$f":"'[3]Cumulative Stats'!C76","v":180},{"$f":"'[3]Cumulative Stats'!D76","v":847},{"$f":"'[3]Cumulative Stats'!E76","v":4.7055555555555557},{"$f":"'[3]Cumulative Stats'!F76","v":45},{"$f":"'[3]Cumulative Stats'!G76","v":7},null,null,{"$f":"'[7]Cumulative Stats'!A95","v":"Driver"},"GBP",{"$f":"'[7]Cumulative Stats'!C95","v":72},{"$f":"'[7]Cumulative Stats'!D95","v":1049},{"$f":"'[7]Cumulative Stats'!E95","v":14.569444444444445},{"$f":"'[7]Cumulative Stats'!F95","v":92},{"$f":"'[7]Cumulative Stats'!G95","v":7}]
[{"$f":"'[9]Cumulative Stats'!A75","v":"Thomas, P"},"NOS",{"$f":"'[9]Cumulative Stats'!C75","v":129},{"$f":"'[9]Cumulative Stats'!D75","v":712},{"$f":"'[9]Cumulative Stats'!E75","v":5.5193798449612403},{"$f":"'[9]Cumulative Stats'!F75","v":43},{"$f":"'[9]Cumulative Stats'!G75","v":1},null,null,{"$f":"'[1]Cumulative Stats'!A96","v":"Boldin"},"ARI",{"$f":"'[1]Cumulative Stats'!C96","v":69},{"$f":"'[1]Cumulative Stats'!D96","v":675},{"$f":"'[1]Cumulative Stats'!E96","v":9.7826086956521738},{"$f":"'[1]Cumulative Stats'!F96","v":58},{"$f":"'[1]Cumulative Stats'!G96","v":1}]
[{"$f":"'[14]Cumulative Stats'!A75","v":"Jackson"},"STL",{"$f":"'[14]Cumulative Stats'!C75","v":224},{"$f":"'[14]Cumulative Stats'!D75","v":709},{"$f":"'[14]Cumulative Stats'!E75","v":3.1651785714285716},{"$f":"'[14]Cumulative Stats'!F75","v":38},{"$f":"'[14]Cumulative Stats'!G75","v":5},null,null,{"$f":"'[10]Cumulative Stats'!A94","v":"Smith"},"NYG",{"$f":"'[10]Cumulative Stats'!C94","v":68},{"$f":"'[10]Cumulative Stats'!D94","v":653},{"$f":"'[10]Cumulative Stats'!E94","v":9.6029411764705888},{"$f":"'[10]Cumulative Stats'!F94","v":38},{"$f":"'[10]Cumulative Stats'!G94","v":2}]
[{"$f":"'[15]Cumulative Stats'!A75","v":"Dunn"},"TBB",{"$f":"'[15]Cumulative Stats'!C75","v":186},{"$f":"'[15]Cumulative Stats'!D75","v":694},{"$f":"'[15]Cumulative Stats'!E75","v":3.7311827956989245},{"$f":"'[15]Cumulative Stats'!F75","v":46},{"$f":"'[15]Cumulative Stats'!G75","v":3},null,null,{"$f":"'[13]Cumulative Stats'!A94","v":"Bruce"},"SFO",{"$f":"'[13]Cumulative Stats'!C94","v":68},{"$f":"'[13]Cumulative Stats'!D94","v":940},{"$f":"'[13]Cumulative Stats'!E94","v":13.823529411764707},{"$f":"'[13]Cumulative Stats'!F94","v":79},{"$f":"'[13]Cumulative Stats'!G94","v":2}]
[{"$f":"'[12]Cumulative Stats'!A75","v":"Morris"},"SEA",{"$f":"'[12]Cumulative Stats'!C75","v":122},{"$f":"'[12]Cumulative Stats'!D75","v":615},{"$f":"'[12]Cumulative Stats'!E75","v":5.0409836065573774},{"$f":"'[12]Cumulative Stats'!F75","v":44},{"$f":"'[12]Cumulative Stats'!G75","v":1},null,null,{"$f":"'[11]Cumulative Stats'!A94","v":"Westbrook"},"PHI",{"$f":"'[11]Cumulative Stats'!C94","v":68},{"$f":"'[11]Cumulative Stats'!D94","v":542},{"$f":"'[11]Cumulative Stats'!E94","v":7.9705882352941178},{"$f":"'[11]Cumulative Stats'!F94","v":47},{"$f":"'[11]Cumulative Stats'!G94","v":4}]
[{"$f":"'[15]Cumulative Stats'!A76","v":"Graham"},"TBB",{"$f":"'[15]Cumulative Stats'!C76","v":130},{"$f":"'[15]Cumulative Stats'!D76","v":571},{"$f":"'[15]Cumulative Stats'!E76","v":4.3923076923076927},{"$f":"'[15]Cumulative Stats'!F76","v":64},{"$f":"'[15]Cumulative Stats'!G76","v":5},null,null,{"$f":"'[12]Cumulative Stats'!A94","v":"Carlson"},"SEA",{"$f":"'[12]Cumulative Stats'!C94","v":67},{"$f":"'[12]Cumulative Stats'!D94","v":690},{"$f":"'[12]Cumulative Stats'!E94","v":10.298507462686567},{"$f":"'[12]Cumulative Stats'!F94","v":34},{"$f":"'[12]Cumulative Stats'!G94","v":3}]
[{"$f":"'[12]Cumulative Stats'!A76","v":"Jones, J"},"SEA",{"$f":"'[12]Cumulative Stats'!C76","v":146},{"$f":"'[12]Cumulative Stats'!D76","v":566},{"$f":"'[12]Cumulative Stats'!E76","v":3.8767123287671232},{"$f":"'[12]Cumulative Stats'!F76","v":33},{"$f":"'[12]Cumulative Stats'!G76","v":3},null,null,{"$f":"'[11]Cumulative Stats'!A95","v":"Jackson, D"},"PHI",{"$f":"'[11]Cumulative Stats'!C95","v":65},{"$f":"'[11]Cumulative Stats'!D95","v":856},{"$f":"'[11]Cumulative Stats'!E95","v":13.169230769230769},{"$f":"'[11]Cumulative Stats'!F95","v":58},{"$f":"'[11]Cumulative Stats'!G95","v":7}]
[{"$f":"'[1]Cumulative Stats'!A75","v":"James"},"ARI",{"$f":"'[1]Cumulative Stats'!C75","v":125},{"$f":"'[1]Cumulative Stats'!D75","v":493},{"$f":"'[1]Cumulative Stats'!E75","v":3.944},{"$f":"'[1]Cumulative Stats'!F75","v":35},{"$f":"'[1]Cumulative Stats'!G75","v":5},null,null,{"$f":"'[16]Cumulative Stats'!A95","v":"Cooley"},"WAS",{"$f":"'[16]Cumulative Stats'!C95","v":64},{"$f":"'[16]Cumulative Stats'!D95","v":621},{"$f":"'[16]Cumulative Stats'!E95","v":9.703125},{"$f":"'[16]Cumulative Stats'!F95","v":47},{"$f":"'[16]Cumulative Stats'!G95","v":4}]
[{"$f":"'[5]Cumulative Stats'!A76","v":"Choice"},"DAL",{"$f":"'[5]Cumulative Stats'!C76","v":97},{"$f":"'[5]Cumulative Stats'!D76","v":473},{"$f":"'[5]Cumulative Stats'!E76","v":4.8762886597938149},{"$f":"'[5]Cumulative Stats'!F76","v":38},{"$f":"'[5]Cumulative Stats'!G76","v":3},null,null,{"$f":"'[14]Cumulative Stats'!A94","v":"Avery"},"STL",{"$f":"'[14]Cumulative Stats'!C94","v":64},{"$f":"'[14]Cumulative Stats'!D94","v":756},{"$f":"'[14]Cumulative Stats'!E94","v":11.8125},{"$f":"'[14]Cumulative Stats'!F94","v":31},{"$f":"'[14]Cumulative Stats'!G94","v":2}]
[{"$f":"'[9]Cumulative Stats'!A76","v":"McAllister"},"NOS",{"$f":"'[9]Cumulative Stats'!C76","v":122},{"$f":"'[9]Cumulative Stats'!D76","v":450},{"$f":"'[9]Cumulative Stats'!E76","v":3.6885245901639343},{"$f":"'[9]Cumulative Stats'!F76","v":25},{"$f":"'[9]Cumulative Stats'!G76","v":3},null,null,{"$f":"'[4]Cumulative Stats'!A94","v":"Forte"},"CHI",{"$f":"'[4]Cumulative Stats'!C94","v":63},{"$f":"'[4]Cumulative Stats'!D94","v":369},{"$f":"'[4]Cumulative Stats'!E94","v":5.8571428571428568},{"$f":"'[4]Cumulative Stats'!F94","v":32},{"$f":"'[4]Cumulative Stats'!G94","v":2}]
[{"$f":"'[8]Cumulative Stats'!A76","v":"Taylor"},"MIN",{"$f":"'[8]Cumulative Stats'!C76","v":103},{"$f":"'[8]Cumulative Stats'!D76","v":439},{"$f":"'[8]Cumulative Stats'!E76","v":4.2621359223300974},{"$f":"'[8]Cumulative Stats'!F76","v":24},{"$f":"'[8]Cumulative Stats'!G76","v":3},null,null,{"$f":"'[14]Cumulative Stats'!A95","v":"Holt"},"STL",{"$f":"'[14]Cumulative Stats'!C95","v":58},{"$f":"'[14]Cumulative Stats'!D95","v":755},{"$f":"'[14]Cumulative Stats'!E95","v":13.017241379310345},{"$f":"'[14]Cumulative Stats'!F95","v":62},{"$f":"'[14]Cumulative Stats'!G95","v":4}]
[{"$f":"'[1]Cumulative Stats'!A76","v":"Hightower"},"ARI",{"$f":"'[1]Cumulative Stats'!C76","v":147},{"$f":"'[1]Cumulative Stats'!D76","v":390},{"$f":"'[1]Cumulative Stats'!E76","v":2.6530612244897958},{"$f":"'[1]Cumulative Stats'!F76","v":23},{"$f":"'[1]Cumulative Stats'!G76","v":1},null,null,{"$f":"'[8]Cumulative Stats'!A94","v":"Berrian"},"MIN",{"$f":"'[8]Cumulative Stats'!C94","v":57},{"$f":"'[8]Cumulative Stats'!D94","v":1073},{"$f":"'[8]Cumulative Stats'!E94","v":18.82456140350877},{"$f":"'[8]Cumulative Stats'!F94","v":91},{"$f":"'[8]Cumulative Stats'!G94","v":10}]
[{"$f":"'[11]Cumulative Stats'!A76","v":"Buckhalter"},"PHI",{"$f":"'[11]Cumulative Stats'!C76","v":82},{"$f":"'[11]Cumulative Stats'!D76","v":358},{"$f":"'[11]Cumulative Stats'!E76","v":4.3658536585365857},{"$f":"'[11]Cumulative Stats'!F76","v":29},{"$f":"'[11]Cumulative Stats'!G76","v":6},null,null,{"$f":"'[9]Cumulative Stats'!A95","v":"Bush"},"NOS",{"$f":"'[9]Cumulative Stats'!C95","v":55},{"$f":"'[9]Cumulative Stats'!D95","v":460},{"$f":"'[9]Cumulative Stats'!E95","v":8.3636363636363633},{"$f":"'[9]Cumulative Stats'!F95","v":42},{"$f":"'[9]Cumulative Stats'!G95","v":3}]
[{"$f":"'[13]Cumulative Stats'!A76","v":"Foster"},"SFO",{"$f":"'[13]Cumulative Stats'!C76","v":94},{"$f":"'[13]Cumulative Stats'!D76","v":343},{"$f":"'[13]Cumulative Stats'!E76","v":3.6489361702127661},{"$f":"'[13]Cumulative Stats'!F76","v":26},{"$f":"'[13]Cumulative Stats'!G76","v":4},null,null,{"$f":"'[15]Cumulative Stats'!A95","v":"Hilliard"},"TBB",{"$f":"'[15]Cumulative Stats'!C95","v":53},{"$f":"'[15]Cumulative Stats'!D95","v":470},{"$f":"'[15]Cumulative Stats'!E95","v":8.8679245283018862},{"$f":"'[15]Cumulative Stats'!F95","v":47},{"$f":"'[15]Cumulative Stats'!G95","v":4}]
[{"$f":"'[5]Cumulative Stats'!A77","v":"Jones, F"},"DAL",{"$f":"'[5]Cumulative Stats'!C77","v":24},{"$f":"'[5]Cumulative Stats'!D77","v":338},{"$f":"'[5]Cumulative Stats'!E77","v":14.083333333333334},{"$f":"'[5]Cumulative Stats'!F77","v":60},{"$f":"'[5]Cumulative Stats'!G77","v":0},null,null,{"$f":"'[6]Cumulative Stats'!A95","v":"Smith, Kev"},"DET",{"$f":"'[6]Cumulative Stats'!C95","v":53},{"$f":"'[6]Cumulative Stats'!D95","v":349},{"$f":"'[6]Cumulative Stats'!E95","v":6.5849056603773581},{"$f":"'[6]Cumulative Stats'!F95","v":25},{"$f":"'[6]Cumulative Stats'!G95","v":1}]
[{"$f":"'[16]Cumulative Stats'!A76","v":"Campbell, J"},"WAS",{"$f":"'[16]Cumulative Stats'!C76","v":44},{"$f":"'[16]Cumulative Stats'!D76","v":334},{"$f":"'[16]Cumulative Stats'!E76","v":7.5909090909090908},{"$f":"'[16]Cumulative Stats'!F76","v":24},{"$f":"'[16]Cumulative Stats'!G76","v":2},null,null,{"$f":"'[8]Cumulative Stats'!A95","v":"Wade"},"MIN",{"$f":"'[8]Cumulative Stats'!C95","v":52},{"$f":"'[8]Cumulative Stats'!D95","v":647},{"$f":"'[8]Cumulative Stats'!E95","v":12.442307692307692},{"$f":"'[8]Cumulative Stats'!F95","v":52},{"$f":"'[8]Cumulative Stats'!G95","v":4}]
[{"$f":"'[2]Cumulative Stats'!A76","v":"Norwood"},"ATL",{"$f":"'[2]Cumulative Stats'!C76","v":61},{"$f":"'[2]Cumulative Stats'!D76","v":309},{"$f":"'[2]Cumulative Stats'!E76","v":5.0655737704918034},{"$f":"'[2]Cumulative Stats'!F76","v":43},{"$f":"'[2]Cumulative Stats'!G76","v":3},null,null,{"$f":"'[2]Cumulative Stats'!A95","v":"Jenkins"},"ATL",{"$f":"'[2]Cumulative Stats'!C95","v":52},{"$f":"'[2]Cumulative Stats'!D95","v":727},{"$f":"'[2]Cumulative Stats'!E95","v":13.98076923076923},{"$f":"'[2]Cumulative Stats'!F95","v":37},{"$f":"'[2]Cumulative Stats'!G95","v":4}]
[{"$f":"'[9]Cumulative Stats'!A77","v":"Bush"},"NOS",{"$f":"'[9]Cumulative Stats'!C77","v":90},{"$f":"'[9]Cumulative Stats'!D77","v":306},{"$f":"'[9]Cumulative Stats'!E77","v":3.4},{"$f":"'[9]Cumulative Stats'!F77","v":21},{"$f":"'[9]Cumulative Stats'!G77","v":4},null,null,{"$f":"'[10]Cumulative Stats'!A95","v":"Toomer"},"NYG",{"$f":"'[10]Cumulative Stats'!C95","v":52},{"$f":"'[10]Cumulative Stats'!D95","v":499},{"$f":"'[10]Cumulative Stats'!E95","v":9.5961538461538467},{"$f":"'[10]Cumulative Stats'!F95","v":40},{"$f":"'[10]Cumulative Stats'!G95","v":0}]
[{"$f":"'[10]Cumulative Stats'!A77","v":"Bradshaw"},"NYG",{"$f":"'[10]Cumulative Stats'!C77","v":70},{"$f":"'[10]Cumulative Stats'!D77","v":297},{"$f":"'[10]Cumulative Stats'!E77","v":4.2428571428571429},{"$f":"'[10]Cumulative Stats'!F77","v":21},{"$f":"'[10]Cumulative Stats'!G77","v":3},null,null,{"$f":"'[9]Cumulative Stats'!A96","v":"Colston"},"NOS",{"$f":"'[9]Cumulative Stats'!C96","v":49},{"$f":"'[9]Cumulative Stats'!D96","v":753},{"$f":"'[9]Cumulative Stats'!E96","v":15.36734693877551},{"$f":"'[9]Cumulative Stats'!F96","v":79},{"$f":"'[9]Cumulative Stats'!G96","v":7}]
[{"$f":"'[7]Cumulative Stats'!A76","v":"Rodgers"},"GBP",{"$f":"'[7]Cumulative Stats'!C76","v":40},{"$f":"'[7]Cumulative Stats'!D76","v":297},{"$f":"'[7]Cumulative Stats'!E76","v":7.4249999999999998},{"$f":"'[7]Cumulative Stats'!F76","v":31},{"$f":"'[7]Cumulative Stats'!G76","v":1},null,null,{"$f":"'[12]Cumulative Stats'!A95","v":"Engram"},"SEA",{"$f":"'[12]Cumulative Stats'!C95","v":49},{"$f":"'[12]Cumulative Stats'!D95","v":532},{"$f":"'[12]Cumulative Stats'!E95","v":10.857142857142858},{"$f":"'[12]Cumulative Stats'!F95","v":38},{"$f":"'[12]Cumulative Stats'!G95","v":1}]
[{"$f":"'[14]Cumulative Stats'!A76","v":"Pittman"},"STL",{"$f":"'[14]Cumulative Stats'!C76","v":90},{"$f":"'[14]Cumulative Stats'!D76","v":295},{"$f":"'[14]Cumulative Stats'!E76","v":3.2777777777777777},{"$f":"'[14]Cumulative Stats'!F76","v":23},{"$f":"'[14]Cumulative Stats'!G76","v":1},null,null,{"$f":"'[4]Cumulative Stats'!A95","v":"Hester"},"CHI",{"$f":"'[4]Cumulative Stats'!C95","v":45},{"$f":"'[4]Cumulative Stats'!D95","v":591},{"$f":"'[4]Cumulative Stats'!E95","v":13.133333333333333},{"$f":"'[4]Cumulative Stats'!F95","v":78},{"$f":"'[4]Cumulative Stats'!G95","v":4}]
[{"$f":"'[15]Cumulative Stats'!A77","v":"Williams"},"TBB",{"$f":"'[15]Cumulative Stats'!C77","v":66},{"$f":"'[15]Cumulative Stats'!D77","v":271},{"$f":"'[15]Cumulative Stats'!E77","v":4.1060606060606064},{"$f":"'[15]Cumulative Stats'!F77","v":22},{"$f":"'[15]Cumulative Stats'!G77","v":3},null,null,{"$f":"'[9]Cumulative Stats'!A97","v":"Shockey"},"NOS",{"$f":"'[9]Cumulative Stats'!C97","v":45},{"$f":"'[9]Cumulative Stats'!D97","v":459},{"$f":"'[9]Cumulative Stats'!E97","v":10.199999999999999},{"$f":"'[9]Cumulative Stats'!F97","v":36},{"$f":"'[9]Cumulative Stats'!G97","v":4}]
[{"$f":"'[14]Cumulative Stats'!A77","v":"Darby"},"STL",{"$f":"'[14]Cumulative Stats'!C77","v":46},{"$f":"'[14]Cumulative Stats'!D77","v":225},{"$f":"'[14]Cumulative Stats'!E77","v":4.8913043478260869},{"$f":"'[14]Cumulative Stats'!F77","v":19},{"$f":"'[14]Cumulative Stats'!G77","v":0},null,null,{"$f":"'[4]Cumulative Stats'!A96","v":"Clark"},"CHI",{"$f":"'[4]Cumulative Stats'!C96","v":45},{"$f":"'[4]Cumulative Stats'!D96","v":386},{"$f":"'[4]Cumulative Stats'!E96","v":8.5777777777777775},{"$f":"'[4]Cumulative Stats'!F96","v":46},{"$f":"'[4]Cumulative Stats'!G96","v":0}]
[{"$f":"'[8]Cumulative Stats'!A77","v":"Jackson"},"MIN",{"$f":"'[8]Cumulative Stats'!C77","v":19},{"$f":"'[8]Cumulative Stats'!D77","v":217},{"$f":"'[8]Cumulative Stats'!E77","v":11.421052631578947},{"$f":"'[8]Cumulative Stats'!F77","v":24},{"$f":"'[8]Cumulative Stats'!G77","v":1},null,null,{"$f":"'[14]Cumulative Stats'!A96","v":"Jackson"},"STL",{"$f":"'[14]Cumulative Stats'!C96","v":45},{"$f":"'[14]Cumulative Stats'!D96","v":482},{"$f":"'[14]Cumulative Stats'!E96","v":10.71111111111111},{"$f":"'[14]Cumulative Stats'!F96","v":46},{"$f":"'[14]Cumulative Stats'!G96","v":0}]
[{"$f":"'[1]Cumulative Stats'!A77","v":"Arrington"},"ARI",{"$f":"'[1]Cumulative Stats'!C77","v":29},{"$f":"'[1]Cumulative Stats'!D77","v":209},{"$f":"'[1]Cumulative Stats'!E77","v":7.2068965517241379},{"$f":"'[1]Cumulative Stats'!F77","v":25},{"$f":"'[1]Cumulative Stats'!G77","v":1},null,null,{"$f":"'[9]Cumulative Stats'!A98","v":"Miller"},"NOS",{"$f":"'[9]Cumulative Stats'!C98","v":45},{"$f":"'[9]Cumulative Stats'!D98","v":563},{"$f":"'[9]Cumulative Stats'!E98","v":12.511111111111111},{"$f":"'[9]Cumulative Stats'!F98","v":38},{"$f":"'[9]Cumulative Stats'!G98","v":3}]
[{"$f":"'[12]Cumulative Stats'!A77","v":"Duckett"},"SEA",{"$f":"'[12]Cumulative Stats'!C77","v":54},{"$f":"'[12]Cumulative Stats'!D77","v":172},{"$f":"'[12]Cumulative Stats'!E77","v":3.1851851851851851},{"$f":"'[12]Cumulative Stats'!F77","v":19},{"$f":"'[12]Cumulative Stats'!G77","v":0},null,null,{"$f":"'[5]Cumulative Stats'!A96","v":"Barber"},"DAL",{"$f":"'[5]Cumulative Stats'!C96","v":44},{"$f":"'[5]Cumulative Stats'!D96","v":509},{"$f":"'[5]Cumulative Stats'!E96","v":11.568181818181818},{"$f":"'[5]Cumulative Stats'!F96","v":66},{"$f":"'[5]Cumulative Stats'!G96","v":7}]
[{"$f":"'[7]Cumulative Stats'!A77","v":"Jackson"},"GBP",{"$f":"'[7]Cumulative Stats'!C77","v":39},{"$f":"'[7]Cumulative Stats'!D77","v":169},{"$f":"'[7]Cumulative Stats'!E77","v":4.333333333333333},{"$f":"'[7]Cumulative Stats'!F77","v":32},{"$f":"'[7]Cumulative Stats'!G77","v":0},null,null,{"$f":"'[13]Cumulative Stats'!A95","v":"Johnson"},"SFO",{"$f":"'[13]Cumulative Stats'!C95","v":44},{"$f":"'[13]Cumulative Stats'!D95","v":550},{"$f":"'[13]Cumulative Stats'!E95","v":12.5},{"$f":"'[13]Cumulative Stats'!F95","v":58},{"$f":"'[13]Cumulative Stats'!G95","v":2}]
[{"$f":"'[6]Cumulative Stats'!A76","v":"Johnson, R"},"DET",{"$f":"'[6]Cumulative Stats'!C76","v":61},{"$f":"'[6]Cumulative Stats'!D76","v":151},{"$f":"'[6]Cumulative Stats'!E76","v":2.4754098360655736},{"$f":"'[6]Cumulative Stats'!F76","v":20},{"$f":"'[6]Cumulative Stats'!G76","v":0},null,null,{"$f":"'[10]Cumulative Stats'!A96","v":"Hixon"},"NYG",{"$f":"'[10]Cumulative Stats'!C96","v":44},{"$f":"'[10]Cumulative Stats'!D96","v":569},{"$f":"'[10]Cumulative Stats'!E96","v":12.931818181818182},{"$f":"'[10]Cumulative Stats'!F96","v":71},{"$f":"'[10]Cumulative Stats'!G96","v":7}]
[{"$f":"'[12]Cumulative Stats'!A78","v":"Weaver"},"SEA",{"$f":"'[12]Cumulative Stats'!C78","v":32},{"$f":"'[12]Cumulative Stats'!D78","v":148},{"$f":"'[12]Cumulative Stats'!E78","v":4.625},{"$f":"'[12]Cumulative Stats'!F78","v":18},{"$f":"'[12]Cumulative Stats'!G78","v":0},null,null,{"$f":"'[4]Cumulative Stats'!A97","v":"Olsen"},"CHI",{"$f":"'[4]Cumulative Stats'!C97","v":43},{"$f":"'[4]Cumulative Stats'!D97","v":431},{"$f":"'[4]Cumulative Stats'!E97","v":10.023255813953488},{"$f":"'[4]Cumulative Stats'!F97","v":80},{"$f":"'[4]Cumulative Stats'!G97","v":3}]
[{"$f":"'[16]Cumulative Stats'!A77","v":"Betts"},"WAS",{"$f":"'[16]Cumulative Stats'!C77","v":52},{"$f":"'[16]Cumulative Stats'!D77","v":141},{"$f":"'[16]Cumulative Stats'!E77","v":2.7115384615384617},{"$f":"'[16]Cumulative Stats'!F77","v":18},{"$f":"'[16]Cumulative Stats'!G77","v":0},null,null,{"$f":"'[8]Cumulative Stats'!A96","v":"Shiancoe"},"MIN",{"$f":"'[8]Cumulative Stats'!C96","v":43},{"$f":"'[8]Cumulative Stats'!D96","v":624},{"$f":"'[8]Cumulative Stats'!E96","v":14.511627906976743},{"$f":"'[8]Cumulative Stats'!F96","v":38},{"$f":"'[8]Cumulative Stats'!G96","v":4}]
[{"$f":"'[15]Cumulative Stats'!A78","v":"Garcia"},"TBB",{"$f":"'[15]Cumulative Stats'!C78","v":26},{"$f":"'[15]Cumulative Stats'!D78","v":136},{"$f":"'[15]Cumulative Stats'!E78","v":5.2307692307692308},{"$f":"'[15]Cumulative Stats'!F78","v":20},{"$f":"'[15]Cumulative Stats'!G78","v":1},null,null,{"$f":"'[10]Cumulative Stats'!A97","v":"Ward"},"NYG",{"$f":"'[10]Cumulative Stats'!C97","v":42},{"$f":"'[10]Cumulative Stats'!D97","v":426},{"$f":"'[10]Cumulative Stats'!E97","v":10.142857142857142},{"$f":"'[10]Cumulative Stats'!F97","v":48},{"$f":"'[10]Cumulative Stats'!G97","v":6}]
[{"$f":"'[4]Cumulative Stats'!A76","v":"Jones"},"CHI",{"$f":"'[4]Cumulative Stats'!C76","v":39},{"$f":"'[4]Cumulative Stats'!D76","v":133},{"$f":"'[4]Cumulative Stats'!E76","v":3.4102564102564101},{"$f":"'[4]Cumulative Stats'!F76","v":12},{"$f":"'[4]Cumulative Stats'!G76","v":0},null,null,{"$f":"'[16]Cumulative Stats'!A96","v":"Randle El"},"WAS",{"$f":"'[16]Cumulative Stats'!C96","v":42},{"$f":"'[16]Cumulative Stats'!D96","v":496},{"$f":"'[16]Cumulative Stats'!E96","v":11.80952380952381},{"$f":"'[16]Cumulative Stats'!F96","v":37},{"$f":"'[16]Cumulative Stats'!G96","v":2}]
[{"$f":"'[13]Cumulative Stats'!A77","v":"O'Sullivan"},"SFO",{"$f":"'[13]Cumulative Stats'!C77","v":15},{"$f":"'[13]Cumulative Stats'!D77","v":101},{"$f":"'[13]Cumulative Stats'!E77","v":6.7333333333333334},{"$f":"'[13]Cumulative Stats'!F77","v":28},{"$f":"'[13]Cumulative Stats'!G77","v":0},null,null,{"$f":"'[5]Cumulative Stats'!A97","v":"Crayton"},"DAL",{"$f":"'[5]Cumulative Stats'!C97","v":42},{"$f":"'[5]Cumulative Stats'!D97","v":584},{"$f":"'[5]Cumulative Stats'!E97","v":13.904761904761905},{"$f":"'[5]Cumulative Stats'!F97","v":48},{"$f":"'[5]Cumulative Stats'!G97","v":3}]
[{"$f":"'[11]Cumulative Stats'!A77","v":"Eckel"},"PHI",{"$f":"'[11]Cumulative Stats'!C77","v":29},{"$f":"'[11]Cumulative Stats'!D77","v":99},{"$f":"'[11]Cumulative Stats'!E77","v":3.4137931034482758},{"$f":"'[11]Cumulative Stats'!F77","v":12},{"$f":"'[11]Cumulative Stats'!G77","v":0},null,null,{"$f":"'[15]Cumulative Stats'!A96","v":"Dunn"},"TBB",{"$f":"'[15]Cumulative Stats'!C96","v":41},{"$f":"'[15]Cumulative Stats'!D96","v":304},{"$f":"'[15]Cumulative Stats'!E96","v":7.4146341463414638},{"$f":"'[15]Cumulative Stats'!F96","v":23},{"$f":"'[15]Cumulative Stats'!G96","v":0}]
[{"$f":"'[4]Cumulative Stats'!A77","v":"Orton"},"CHI",{"$f":"'[4]Cumulative Stats'!C77","v":23},{"$f":"'[4]Cumulative Stats'!D77","v":95},{"$f":"'[4]Cumulative Stats'!E77","v":4.1304347826086953},{"$f":"'[4]Cumulative Stats'!F77","v":8},{"$f":"'[4]Cumulative Stats'!G77","v":0},null,null,{"$f":"'[13]Cumulative Stats'!A96","v":"Hill, J"},"SFO",{"$f":"'[13]Cumulative Stats'!C96","v":40},{"$f":"'[13]Cumulative Stats'!D96","v":398},{"$f":"'[13]Cumulative Stats'!E96","v":9.9499999999999993},{"$f":"'[13]Cumulative Stats'!F96","v":58},{"$f":"'[13]Cumulative Stats'!G96","v":4}]
[{"$f":"'[5]Cumulative Stats'!A78","v":"Romo"},"DAL",{"$f":"'[5]Cumulative Stats'!C78","v":24},{"$f":"'[5]Cumulative Stats'!D78","v":91},{"$f":"'[5]Cumulative Stats'!E78","v":3.7916666666666665},{"$f":"'[5]Cumulative Stats'!F78","v":17},{"$f":"'[5]Cumulative Stats'!G78","v":0},null,null,{"$f":"'[8]Cumulative Stats'!A97","v":"Taylor"},"MIN",{"$f":"'[8]Cumulative Stats'!C97","v":39},{"$f":"'[8]Cumulative Stats'!D97","v":367},{"$f":"'[8]Cumulative Stats'!E97","v":9.4102564102564106},{"$f":"'[8]Cumulative Stats'!F97","v":47},{"$f":"'[8]Cumulative Stats'!G97","v":1}]
[{"$f":"'[7]Cumulative Stats'!A78","v":"Wynn"},"GBP",{"$f":"'[7]Cumulative Stats'!C78","v":8},{"$f":"'[7]Cumulative Stats'!D78","v":90},{"$f":"'[7]Cumulative Stats'!E78","v":11.25},{"$f":"'[7]Cumulative Stats'!F78","v":43},{"$f":"'[7]Cumulative Stats'!G78","v":0},null,null,{"$f":"'[9]Cumulative Stats'!A99","v":"Henderson"},"NOS",{"$f":"'[9]Cumulative Stats'!C99","v":39},{"$f":"'[9]Cumulative Stats'!D99","v":881},{"$f":"'[9]Cumulative Stats'!E99","v":22.589743589743591},{"$f":"'[9]Cumulative Stats'!F99","v":45},{"$f":"'[9]Cumulative Stats'!G99","v":15}]
[{"$f":"'[4]Cumulative Stats'!A78","v":"Hester"},"CHI",{"$f":"'[4]Cumulative Stats'!C78","v":6},{"$f":"'[4]Cumulative Stats'!D78","v":86},{"$f":"'[4]Cumulative Stats'!E78","v":14.333333333333334},{"$f":"'[4]Cumulative Stats'!F78","v":31},{"$f":"'[4]Cumulative Stats'!G78","v":0},null,null,{"$f":"'[12]Cumulative Stats'!A96","v":"Robinson, K"},"SEA",{"$f":"'[12]Cumulative Stats'!C96","v":39},{"$f":"'[12]Cumulative Stats'!D96","v":423},{"$f":"'[12]Cumulative Stats'!E96","v":10.846153846153847},{"$f":"'[12]Cumulative Stats'!F96","v":32},{"$f":"'[12]Cumulative Stats'!G96","v":2}]
[{"$f":"'[2]Cumulative Stats'!A77","v":"Douglas"},"ATL",{"$f":"'[2]Cumulative Stats'!C77","v":13},{"$f":"'[2]Cumulative Stats'!D77","v":77},{"$f":"'[2]Cumulative Stats'!E77","v":5.9230769230769234},{"$f":"'[2]Cumulative Stats'!F77","v":16},{"$f":"'[2]Cumulative Stats'!G77","v":0},null,null,{"$f":"'[6]Cumulative Stats'!A96","v":"McDonald"},"DET",{"$f":"'[6]Cumulative Stats'!C96","v":37},{"$f":"'[6]Cumulative Stats'!D96","v":371},{"$f":"'[6]Cumulative Stats'!E96","v":10.027027027027026},{"$f":"'[6]Cumulative Stats'!F96","v":26},{"$f":"'[6]Cumulative Stats'!G96","v":0}]
[{"$f":"'[11]Cumulative Stats'!A78","v":"McNabb"},"PHI",{"$f":"'[11]Cumulative Stats'!C78","v":26},{"$f":"'[11]Cumulative Stats'!D78","v":73},{"$f":"'[11]Cumulative Stats'!E78","v":2.8076923076923075},{"$f":"'[11]Cumulative Stats'!F78","v":15},{"$f":"'[11]Cumulative Stats'!G78","v":0},null,null,{"$f":"'[11]Cumulative Stats'!A96","v":"Smith, L"},"PHI",{"$f":"'[11]Cumulative Stats'!C96","v":37},{"$f":"'[11]Cumulative Stats'!D96","v":309},{"$f":"'[11]Cumulative Stats'!E96","v":8.3513513513513509},{"$f":"'[11]Cumulative Stats'!F96","v":20},{"$f":"'[11]Cumulative Stats'!G96","v":3}]
[{"$f":"'[2]Cumulative Stats'!A78","v":"Snelling"},"ATL",{"$f":"'[2]Cumulative Stats'!C78","v":15},{"$f":"'[2]Cumulative Stats'!D78","v":69},{"$f":"'[2]Cumulative Stats'!E78","v":4.5999999999999996},{"$f":"'[2]Cumulative Stats'!F78","v":12},{"$f":"'[2]Cumulative Stats'!G78","v":0},null,null,{"$f":"'[2]Cumulative Stats'!A96","v":"Norwood"},"ATL",{"$f":"'[2]Cumulative Stats'!C96","v":37},{"$f":"'[2]Cumulative Stats'!D96","v":375},{"$f":"'[2]Cumulative Stats'!E96","v":10.135135135135135},{"$f":"'[2]Cumulative Stats'!F96","v":22},{"$f":"'[2]Cumulative Stats'!G96","v":1}]
[{"$f":"'[12]Cumulative Stats'!A79","v":"Wallace, S"},"SEA",{"$f":"'[12]Cumulative Stats'!C79","v":9},{"$f":"'[12]Cumulative Stats'!D79","v":68},{"$f":"'[12]Cumulative Stats'!E79","v":7.5555555555555554},{"$f":"'[12]Cumulative Stats'!F79","v":13},{"$f":"'[12]Cumulative Stats'!G79","v":0},null,null,{"$f":"'[15]Cumulative Stats'!A97","v":"Stevens"},"TBB",{"$f":"'[15]Cumulative Stats'!C97","v":37},{"$f":"'[15]Cumulative Stats'!D97","v":363},{"$f":"'[15]Cumulative Stats'!E97","v":9.8108108108108105},{"$f":"'[15]Cumulative Stats'!F97","v":25},{"$f":"'[15]Cumulative Stats'!G97","v":2}]
[{"$f":"'[11]Cumulative Stats'!A79","v":"Booker"},"PHI",{"$f":"'[11]Cumulative Stats'!C79","v":29},{"$f":"'[11]Cumulative Stats'!D79","v":66},{"$f":"'[11]Cumulative Stats'!E79","v":2.2758620689655173},{"$f":"'[11]Cumulative Stats'!F79","v":9},{"$f":"'[11]Cumulative Stats'!G79","v":3},null,null,{"$f":"'[1]Cumulative Stats'!A97","v":"Urban"},"ARI",{"$f":"'[1]Cumulative Stats'!C97","v":37},{"$f":"'[1]Cumulative Stats'!D97","v":331},{"$f":"'[1]Cumulative Stats'!E97","v":8.9459459459459456},{"$f":"'[1]Cumulative Stats'!F97","v":31},{"$f":"'[1]Cumulative Stats'!G97","v":2}]
[{"$f":"'[12]Cumulative Stats'!A80","v":"Hasselbeck"},"SEA",{"$f":"'[12]Cumulative Stats'!C80","v":8},{"$f":"'[12]Cumulative Stats'!D80","v":66},{"$f":"'[12]Cumulative Stats'!E80","v":8.25},{"$f":"'[12]Cumulative Stats'!F80","v":19},{"$f":"'[12]Cumulative Stats'!G80","v":0},null,null,{"$f":"'[9]Cumulative Stats'!A100","v":"Thomas, P"},"NOS",{"$f":"'[9]Cumulative Stats'!C100","v":36},{"$f":"'[9]Cumulative Stats'!D100","v":338},{"$f":"'[9]Cumulative Stats'!E100","v":9.3888888888888893},{"$f":"'[9]Cumulative Stats'!F100","v":36},{"$f":"'[9]Cumulative Stats'!G100","v":2}]
[{"$f":"'[14]Cumulative Stats'!A78","v":"Bulger"},"STL",{"$f":"'[14]Cumulative Stats'!C78","v":9},{"$f":"'[14]Cumulative Stats'!D78","v":66},{"$f":"'[14]Cumulative Stats'!E78","v":7.333333333333333},{"$f":"'[14]Cumulative Stats'!F78","v":19},{"$f":"'[14]Cumulative Stats'!G78","v":0},null,null,{"$f":"'[7]Cumulative Stats'!A96","v":"Nelson"},"GBP",{"$f":"'[7]Cumulative Stats'!C96","v":36},{"$f":"'[7]Cumulative Stats'!D96","v":326},{"$f":"'[7]Cumulative Stats'!E96","v":9.0555555555555554},{"$f":"'[7]Cumulative Stats'!F96","v":37},{"$f":"'[7]Cumulative Stats'!G96","v":2}]
[{"$f":"'[11]Cumulative Stats'!A80","v":"Jackson, D"},"PHI",{"$f":"'[11]Cumulative Stats'!C80","v":15},{"$f":"'[11]Cumulative Stats'!D80","v":62},{"$f":"'[11]Cumulative Stats'!E80","v":4.1333333333333337},{"$f":"'[11]Cumulative Stats'!F80","v":20},{"$f":"'[11]Cumulative Stats'!G80","v":1},null,null,{"$f":"'[15]Cumulative Stats'!A98","v":"Clayton"},"TBB",{"$f":"'[15]Cumulative Stats'!C98","v":35},{"$f":"'[15]Cumulative Stats'!D98","v":432},{"$f":"'[15]Cumulative Stats'!E98","v":12.342857142857143},{"$f":"'[15]Cumulative Stats'!F98","v":34},{"$f":"'[15]Cumulative Stats'!G98","v":3}]
[{"$f":"'[13]Cumulative Stats'!A78","v":"Robinson"},"SFO",{"$f":"'[13]Cumulative Stats'!C78","v":29},{"$f":"'[13]Cumulative Stats'!D78","v":58},{"$f":"'[13]Cumulative Stats'!E78","v":2},{"$f":"'[13]Cumulative Stats'!F78","v":7},{"$f":"'[13]Cumulative Stats'!G78","v":0},null,null,{"$f":"'[10]Cumulative Stats'!A98","v":"Boss"},"NYG",{"$f":"'[10]Cumulative Stats'!C98","v":35},{"$f":"'[10]Cumulative Stats'!D98","v":419},{"$f":"'[10]Cumulative Stats'!E98","v":11.971428571428572},{"$f":"'[10]Cumulative Stats'!F98","v":75},{"$f":"'[10]Cumulative Stats'!G98","v":2}]
[{"$f":"'[4]Cumulative Stats'!A79","v":"Peterson"},"CHI",{"$f":"'[4]Cumulative Stats'!C79","v":17},{"$f":"'[4]Cumulative Stats'!D79","v":57},{"$f":"'[4]Cumulative Stats'!E79","v":3.3529411764705883},{"$f":"'[4]Cumulative Stats'!F79","v":15},{"$f":"'[4]Cumulative Stats'!G79","v":0},null,null,{"$f":"'[11]Cumulative Stats'!A97","v":"Curtis"},"PHI",{"$f":"'[11]Cumulative Stats'!C97","v":32},{"$f":"'[11]Cumulative Stats'!D97","v":432},{"$f":"'[11]Cumulative Stats'!E97","v":13.5},{"$f":"'[11]Cumulative Stats'!F97","v":48},{"$f":"'[11]Cumulative Stats'!G97","v":0}]
[{"$f":"'[13]Cumulative Stats'!A79","v":"Hill, S"},"SFO",{"$f":"'[13]Cumulative Stats'!C79","v":12},{"$f":"'[13]Cumulative Stats'!D79","v":57},{"$f":"'[13]Cumulative Stats'!E79","v":4.75},{"$f":"'[13]Cumulative Stats'!F79","v":13},{"$f":"'[13]Cumulative Stats'!G79","v":0},null,null,{"$f":"'[1]Cumulative Stats'!A98","v":"Arrington"},"ARI",{"$f":"'[1]Cumulative Stats'!C98","v":32},{"$f":"'[1]Cumulative Stats'!D98","v":276},{"$f":"'[1]Cumulative Stats'!E98","v":8.625},{"$f":"'[1]Cumulative Stats'!F98","v":36},{"$f":"'[1]Cumulative Stats'!G98","v":1}]
[{"$f":"'[9]Cumulative Stats'!A78","v":"Stecker"},"NOS",{"$f":"'[9]Cumulative Stats'!C78","v":9},{"$f":"'[9]Cumulative Stats'!D78","v":49},{"$f":"'[9]Cumulative Stats'!E78","v":5.4444444444444446},{"$f":"'[9]Cumulative Stats'!F78","v":25},{"$f":"'[9]Cumulative Stats'!G78","v":1},null,null,{"$f":"'[11]Cumulative Stats'!A99","v":"Avant"},"PHI",{"$f":"'[11]Cumulative Stats'!C99","v":31},{"$f":"'[11]Cumulative Stats'!D99","v":369},{"$f":"'[11]Cumulative Stats'!E99","v":11.903225806451612},{"$f":"'[11]Cumulative Stats'!F99","v":26},{"$f":"'[11]Cumulative Stats'!G99","v":1}]
[{"$f":"'[3]Cumulative Stats'!A77","v":"Hoover"},"CAR",{"$f":"'[3]Cumulative Stats'!C77","v":16},{"$f":"'[3]Cumulative Stats'!D77","v":49},{"$f":"'[3]Cumulative Stats'!E77","v":3.0625},{"$f":"'[3]Cumulative Stats'!F77","v":10},{"$f":"'[3]Cumulative Stats'!G77","v":1},null,null,{"$f":"'[11]Cumulative Stats'!A98","v":"Baskett"},"PHI",{"$f":"'[11]Cumulative Stats'!C98","v":31},{"$f":"'[11]Cumulative Stats'!D98","v":471},{"$f":"'[11]Cumulative Stats'!E98","v":15.193548387096774},{"$f":"'[11]Cumulative Stats'!F98","v":67},{"$f":"'[11]Cumulative Stats'!G98","v":5}]
[{"$f":"'[12]Cumulative Stats'!A81","v":"Frye"},"SEA",{"$f":"'[12]Cumulative Stats'!C81","v":4},{"$f":"'[12]Cumulative Stats'!D81","v":48},{"$f":"'[12]Cumulative Stats'!E81","v":12},{"$f":"'[12]Cumulative Stats'!F81","v":20},{"$f":"'[12]Cumulative Stats'!G81","v":0},null,null,{"$f":"'[16]Cumulative Stats'!A97","v":"Portis"},"WAS",{"$f":"'[16]Cumulative Stats'!C97","v":30},{"$f":"'[16]Cumulative Stats'!D97","v":288},{"$f":"'[16]Cumulative Stats'!E97","v":9.6},{"$f":"'[16]Cumulative Stats'!F97","v":48},{"$f":"'[16]Cumulative Stats'!G97","v":1}]
[{"$f":"'[3]Cumulative Stats'!A78","v":"Delhomme"},"CAR",{"$f":"'[3]Cumulative Stats'!C78","v":20},{"$f":"'[3]Cumulative Stats'!D78","v":47},{"$f":"'[3]Cumulative Stats'!E78","v":2.35},{"$f":"'[3]Cumulative Stats'!F78","v":8},{"$f":"'[3]Cumulative Stats'!G78","v":0},null,null,{"$f":"'[14]Cumulative Stats'!A97","v":"Darby"},"STL",{"$f":"'[14]Cumulative Stats'!C97","v":30},{"$f":"'[14]Cumulative Stats'!D97","v":287},{"$f":"'[14]Cumulative Stats'!E97","v":9.5666666666666664},{"$f":"'[14]Cumulative Stats'!F97","v":27},{"$f":"'[14]Cumulative Stats'!G97","v":2}]
[{"$f":"'[1]Cumulative Stats'!A78","v":"Boldin"},"ARI",{"$f":"'[1]Cumulative Stats'!C78","v":9},{"$f":"'[1]Cumulative Stats'!D78","v":45},{"$f":"'[1]Cumulative Stats'!E78","v":5},{"$f":"'[1]Cumulative Stats'!F78","v":15},{"$f":"'[1]Cumulative Stats'!G78","v":0},null,null,{"$f":"'[2]Cumulative Stats'!A97","v":"Douglas"},"ATL",{"$f":"'[2]Cumulative Stats'!C97","v":29},{"$f":"'[2]Cumulative Stats'!D97","v":537},{"$f":"'[2]Cumulative Stats'!E97","v":18.517241379310345},{"$f":"'[2]Cumulative Stats'!F97","v":61},{"$f":"'[2]Cumulative Stats'!G97","v":6}]
[{"$f":"'[6]Cumulative Stats'!A77","v":"Culpepper"},"DET",{"$f":"'[6]Cumulative Stats'!C77","v":14},{"$f":"'[6]Cumulative Stats'!D77","v":45},{"$f":"'[6]Cumulative Stats'!E77","v":3.2142857142857144},{"$f":"'[6]Cumulative Stats'!F77","v":6},{"$f":"'[6]Cumulative Stats'!G77","v":0},null,null,{"$f":"'[6]Cumulative Stats'!A97","v":"Gaines"},"DET",{"$f":"'[6]Cumulative Stats'!C97","v":29},{"$f":"'[6]Cumulative Stats'!D97","v":384},{"$f":"'[6]Cumulative Stats'!E97","v":13.241379310344827},{"$f":"'[6]Cumulative Stats'!F97","v":33},{"$f":"'[6]Cumulative Stats'!G97","v":1}]
[{"$f":"'[4]Cumulative Stats'!A80","v":"Wolfe"},"CHI",{"$f":"'[4]Cumulative Stats'!C80","v":12},{"$f":"'[4]Cumulative Stats'!D80","v":42},{"$f":"'[4]Cumulative Stats'!E80","v":3.5},{"$f":"'[4]Cumulative Stats'!F80","v":28},{"$f":"'[4]Cumulative Stats'!G80","v":0},null,null,{"$f":"'[4]Cumulative Stats'!A98","v":"Davis, R"},"CHI",{"$f":"'[4]Cumulative Stats'!C98","v":28},{"$f":"'[4]Cumulative Stats'!D98","v":337},{"$f":"'[4]Cumulative Stats'!E98","v":12.035714285714286},{"$f":"'[4]Cumulative Stats'!F98","v":80},{"$f":"'[4]Cumulative Stats'!G98","v":2}]
[{"$f":"'[16]Cumulative Stats'!A78","v":"Thomas, D"},"WAS",{"$f":"'[16]Cumulative Stats'!C78","v":3},{"$f":"'[16]Cumulative Stats'!D78","v":41},{"$f":"'[16]Cumulative Stats'!E78","v":13.666666666666666},{"$f":"'[16]Cumulative Stats'!F78","v":24},{"$f":"'[16]Cumulative Stats'!G78","v":0},null,null,{"$f":"'[13]Cumulative Stats'!A98","v":"Davis"},"SFO",{"$f":"'[13]Cumulative Stats'!C98","v":27},{"$f":"'[13]Cumulative Stats'!D98","v":410},{"$f":"'[13]Cumulative Stats'!E98","v":15.185185185185185},{"$f":"'[13]Cumulative Stats'!F98","v":57},{"$f":"'[13]Cumulative Stats'!G98","v":1}]
[{"$f":"'[13]Cumulative Stats'!A80","v":"Hill, J"},"SFO",{"$f":"'[13]Cumulative Stats'!C80","v":4},{"$f":"'[13]Cumulative Stats'!D80","v":41},{"$f":"'[13]Cumulative Stats'!E80","v":10.25},{"$f":"'[13]Cumulative Stats'!F80","v":17},{"$f":"'[13]Cumulative Stats'!G80","v":0},null,null,{"$f":"'[1]Cumulative Stats'!A99","v":"Hightower"},"ARI",{"$f":"'[1]Cumulative Stats'!C99","v":27},{"$f":"'[1]Cumulative Stats'!D99","v":271},{"$f":"'[1]Cumulative Stats'!E99","v":10.037037037037036},{"$f":"'[1]Cumulative Stats'!F99","v":34},{"$f":"'[1]Cumulative Stats'!G99","v":1}]
[{"$f":"'[9]Cumulative Stats'!A79","v":"Brees"},"NOS",{"$f":"'[9]Cumulative Stats'!C79","v":15},{"$f":"'[9]Cumulative Stats'!D79","v":40},{"$f":"'[9]Cumulative Stats'!E79","v":2.6666666666666665},{"$f":"'[9]Cumulative Stats'!F79","v":7},{"$f":"'[9]Cumulative Stats'!G79","v":0},null,null,{"$f":"'[13]Cumulative Stats'!A97","v":"Gore"},"SFO",{"$f":"'[13]Cumulative Stats'!C97","v":27},{"$f":"'[13]Cumulative Stats'!D97","v":290},{"$f":"'[13]Cumulative Stats'!E97","v":10.74074074074074},{"$f":"'[13]Cumulative Stats'!F97","v":46},{"$f":"'[13]Cumulative Stats'!G97","v":1}]
[{"$f":"'[3]Cumulative Stats'!A79","v":"Smith, St"},"CAR",{"$f":"'[3]Cumulative Stats'!C79","v":4},{"$f":"'[3]Cumulative Stats'!D79","v":39},{"$f":"'[3]Cumulative Stats'!E79","v":9.75},{"$f":"'[3]Cumulative Stats'!F79","v":28},{"$f":"'[3]Cumulative Stats'!G79","v":0},null,null,{"$f":"'[7]Cumulative Stats'!A97","v":"Lee, D"},"GBP",{"$f":"'[7]Cumulative Stats'!C97","v":26},{"$f":"'[7]Cumulative Stats'!D97","v":222},{"$f":"'[7]Cumulative Stats'!E97","v":8.5384615384615383},{"$f":"'[7]Cumulative Stats'!F97","v":34},{"$f":"'[7]Cumulative Stats'!G97","v":1}]
[{"$f":"'[1]Cumulative Stats'!A79","v":"Warner"},"ARI",{"$f":"'[1]Cumulative Stats'!C79","v":13},{"$f":"'[1]Cumulative Stats'!D79","v":36},{"$f":"'[1]Cumulative Stats'!E79","v":2.7692307692307692},{"$f":"'[1]Cumulative Stats'!F79","v":15},{"$f":"'[1]Cumulative Stats'!G79","v":0},null,null,{"$f":"'[13]Cumulative Stats'!A99","v":"Battle"},"SFO",{"$f":"'[13]Cumulative Stats'!C99","v":26},{"$f":"'[13]Cumulative Stats'!D99","v":394},{"$f":"'[13]Cumulative Stats'!E99","v":15.153846153846153},{"$f":"'[13]Cumulative Stats'!F99","v":61},{"$f":"'[13]Cumulative Stats'!G99","v":1}]
[{"$f":"'[11]Cumulative Stats'!A81","v":"Hunt"},"PHI",{"$f":"'[11]Cumulative Stats'!C81","v":14},{"$f":"'[11]Cumulative Stats'!D81","v":34},{"$f":"'[11]Cumulative Stats'!E81","v":2.4285714285714284},{"$f":"'[11]Cumulative Stats'!F81","v":8},{"$f":"'[11]Cumulative Stats'!G81","v":0},null,null,{"$f":"'[12]Cumulative Stats'!A97","v":"Branch"},"SEA",{"$f":"'[12]Cumulative Stats'!C97","v":25},{"$f":"'[12]Cumulative Stats'!D97","v":215},{"$f":"'[12]Cumulative Stats'!E97","v":8.6},{"$f":"'[12]Cumulative Stats'!F97","v":25},{"$f":"'[12]Cumulative Stats'!G97","v":3}]
[{"$f":"'[8]Cumulative Stats'!A78","v":"Berrian"},"MIN",{"$f":"'[8]Cumulative Stats'!C78","v":5},{"$f":"'[8]Cumulative Stats'!D78","v":33},{"$f":"'[8]Cumulative Stats'!E78","v":6.6},{"$f":"'[8]Cumulative Stats'!F78","v":11},{"$f":"'[8]Cumulative Stats'!G78","v":0},null,null,{"$f":"'[11]Cumulative Stats'!A100","v":"Lewis"},"PHI",{"$f":"'[11]Cumulative Stats'!C100","v":25},{"$f":"'[11]Cumulative Stats'!D100","v":356},{"$f":"'[11]Cumulative Stats'!E100","v":14.24},{"$f":"'[11]Cumulative Stats'!F100","v":61},{"$f":"'[11]Cumulative Stats'!G100","v":0}]
[{"$f":"'[2]Cumulative Stats'!A79","v":"Ryan"},"ATL",{"$f":"'[2]Cumulative Stats'!C79","v":17},{"$f":"'[2]Cumulative Stats'!D79","v":32},{"$f":"'[2]Cumulative Stats'!E79","v":1.8823529411764706},{"$f":"'[2]Cumulative Stats'!F79","v":7},{"$f":"'[2]Cumulative Stats'!G79","v":0},null,null,{"$f":"'[6]Cumulative Stats'!A98","v":"Furrey"},"DET",{"$f":"'[6]Cumulative Stats'!C98","v":24},{"$f":"'[6]Cumulative Stats'!D98","v":226},{"$f":"'[6]Cumulative Stats'!E98","v":9.4166666666666661},{"$f":"'[6]Cumulative Stats'!F98","v":15},{"$f":"'[6]Cumulative Stats'!G98","v":1}]
[{"$f":"'[15]Cumulative Stats'!A79","v":"Askew"},"TBB",{"$f":"'[15]Cumulative Stats'!C79","v":8},{"$f":"'[15]Cumulative Stats'!D79","v":30},{"$f":"'[15]Cumulative Stats'!E79","v":3.75},{"$f":"'[15]Cumulative Stats'!F79","v":7},{"$f":"'[15]Cumulative Stats'!G79","v":0},null,null,{"$f":"'[2]Cumulative Stats'!A98","v":"Finneran"},"ATL",{"$f":"'[2]Cumulative Stats'!C98","v":24},{"$f":"'[2]Cumulative Stats'!D98","v":181},{"$f":"'[2]Cumulative Stats'!E98","v":7.541666666666667},{"$f":"'[2]Cumulative Stats'!F98","v":46},{"$f":"'[2]Cumulative Stats'!G98","v":0}]
[{"$f":"'[16]Cumulative Stats'!A79","v":"Randle El"},"WAS",{"$f":"'[16]Cumulative Stats'!C79","v":2},{"$f":"'[16]Cumulative Stats'!D79","v":30},{"$f":"'[16]Cumulative Stats'!E79","v":15},{"$f":"'[16]Cumulative Stats'!F79","v":24},{"$f":"'[16]Cumulative Stats'!G79","v":0},null,null,{"$f":"'[11]Cumulative Stats'!A101","v":"Buckhalter"},"PHI",{"$f":"'[11]Cumulative Stats'!C101","v":24},{"$f":"'[11]Cumulative Stats'!D101","v":324},{"$f":"'[11]Cumulative Stats'!E101","v":13.5},{"$f":"'[11]Cumulative Stats'!F101","v":54},{"$f":"'[11]Cumulative Stats'!G101","v":3}]
[{"$f":"'[14]Cumulative Stats'!A79","v":"Avery"},"STL",{"$f":"'[14]Cumulative Stats'!C79","v":12},{"$f":"'[14]Cumulative Stats'!D79","v":29},{"$f":"'[14]Cumulative Stats'!E79","v":2.4166666666666665},{"$f":"'[14]Cumulative Stats'!F79","v":8},{"$f":"'[14]Cumulative Stats'!G79","v":0},null,null,{"$f":"'[4]Cumulative Stats'!A99","v":"Lloyd"},"CHI",{"$f":"'[4]Cumulative Stats'!C99","v":24},{"$f":"'[4]Cumulative Stats'!D99","v":447},{"$f":"'[4]Cumulative Stats'!E99","v":18.625},{"$f":"'[4]Cumulative Stats'!F99","v":68},{"$f":"'[4]Cumulative Stats'!G99","v":3}]
[{"$f":"'[6]Cumulative Stats'!A78","v":"Orlovsky"},"DET",{"$f":"'[6]Cumulative Stats'!C78","v":7},{"$f":"'[6]Cumulative Stats'!D78","v":29},{"$f":"'[6]Cumulative Stats'!E78","v":4.1428571428571432},{"$f":"'[6]Cumulative Stats'!F78","v":11},{"$f":"'[6]Cumulative Stats'!G78","v":0},null,null,{"$f":"'[13]Cumulative Stats'!A100","v":"Robinson"},"SFO",{"$f":"'[13]Cumulative Stats'!C100","v":24},{"$f":"'[13]Cumulative Stats'!D100","v":252},{"$f":"'[13]Cumulative Stats'!E100","v":10.5},{"$f":"'[13]Cumulative Stats'!F100","v":29},{"$f":"'[13]Cumulative Stats'!G100","v":0}]
[{"$f":"'[4]Cumulative Stats'!A81","v":"McKie"},"CHI",{"$f":"'[4]Cumulative Stats'!C81","v":8},{"$f":"'[4]Cumulative Stats'!D81","v":28},{"$f":"'[4]Cumulative Stats'!E81","v":3.5},{"$f":"'[4]Cumulative Stats'!F81","v":8},{"$f":"'[4]Cumulative Stats'!G81","v":0},null,null,{"$f":"'[10]Cumulative Stats'!A99","v":"Burress"},"NYG",{"$f":"'[10]Cumulative Stats'!C99","v":23},{"$f":"'[10]Cumulative Stats'!D99","v":237},{"$f":"'[10]Cumulative Stats'!E99","v":10.304347826086957},{"$f":"'[10]Cumulative Stats'!F99","v":30},{"$f":"'[10]Cumulative Stats'!G99","v":1}]
[{"$f":"'[3]Cumulative Stats'!A80","v":"Goings"},"CAR",{"$f":"'[3]Cumulative Stats'!C80","v":13},{"$f":"'[3]Cumulative Stats'!D80","v":27},{"$f":"'[3]Cumulative Stats'!E80","v":2.0769230769230771},{"$f":"'[3]Cumulative Stats'!F80","v":7},{"$f":"'[3]Cumulative Stats'!G80","v":0},null,null,{"$f":"'[11]Cumulative Stats'!A102","v":"Celek"},"PHI",{"$f":"'[11]Cumulative Stats'!C102","v":23},{"$f":"'[11]Cumulative Stats'!D102","v":239},{"$f":"'[11]Cumulative Stats'!E102","v":10.391304347826088},{"$f":"'[11]Cumulative Stats'!F102","v":23},{"$f":"'[11]Cumulative Stats'!G102","v":4}]
[{"$f":"'[15]Cumulative Stats'!A80","v":"Smith, C"},"TBB",{"$f":"'[15]Cumulative Stats'!C80","v":5},{"$f":"'[15]Cumulative Stats'!D80","v":27},{"$f":"'[15]Cumulative Stats'!E80","v":5.4},{"$f":"'[15]Cumulative Stats'!F80","v":16},{"$f":"'[15]Cumulative Stats'!G80","v":0},null,null,{"$f":"'[7]Cumulative Stats'!A98","v":"Jackson"},"GBP",{"$f":"'[7]Cumulative Stats'!C98","v":23},{"$f":"'[7]Cumulative Stats'!D98","v":202},{"$f":"'[7]Cumulative Stats'!E98","v":8.7826086956521738},{"$f":"'[7]Cumulative Stats'!F98","v":45},{"$f":"'[7]Cumulative Stats'!G98","v":1}]
[{"$f":"'[15]Cumulative Stats'!A81","v":"Bryant, A"},"TBB",{"$f":"'[15]Cumulative Stats'!C81","v":2},{"$f":"'[15]Cumulative Stats'!D81","v":26},{"$f":"'[15]Cumulative Stats'!E81","v":13},{"$f":"'[15]Cumulative Stats'!F81","v":15},{"$f":"'[15]Cumulative Stats'!G81","v":0},null,null,{"$f":"'[14]Cumulative Stats'!A98","v":"Looker"},"STL",{"$f":"'[14]Cumulative Stats'!C98","v":22},{"$f":"'[14]Cumulative Stats'!D98","v":171},{"$f":"'[14]Cumulative Stats'!E98","v":7.7727272727272725},{"$f":"'[14]Cumulative Stats'!F98","v":19},{"$f":"'[14]Cumulative Stats'!G98","v":0}]
[{"$f":"'[6]Cumulative Stats'!A79","v":"Kitna"},"DET",{"$f":"'[6]Cumulative Stats'!C79","v":3},{"$f":"'[6]Cumulative Stats'!D79","v":23},{"$f":"'[6]Cumulative Stats'!E79","v":7.666666666666667},{"$f":"'[6]Cumulative Stats'!F79","v":19},{"$f":"'[6]Cumulative Stats'!G79","v":0},null,null,{"$f":"'[15]Cumulative Stats'!A99","v":"Graham"},"TBB",{"$f":"'[15]Cumulative Stats'!C99","v":22},{"$f":"'[15]Cumulative Stats'!D99","v":166},{"$f":"'[15]Cumulative Stats'!E99","v":7.5454545454545459},{"$f":"'[15]Cumulative Stats'!F99","v":15},{"$f":"'[15]Cumulative Stats'!G99","v":1}]
[{"$f":"'[12]Cumulative Stats'!A82","v":"Schmitt, O"},"SEA",{"$f":"'[12]Cumulative Stats'!C82","v":5},{"$f":"'[12]Cumulative Stats'!D82","v":23},{"$f":"'[12]Cumulative Stats'!E82","v":4.5999999999999996},{"$f":"'[12]Cumulative Stats'!F82","v":8},{"$f":"'[12]Cumulative Stats'!G82","v":0},null,null,{"$f":"'[3]Cumulative Stats'!A96","v":"King"},"CAR",{"$f":"'[3]Cumulative Stats'!C96","v":22},{"$f":"'[3]Cumulative Stats'!D96","v":135},{"$f":"'[3]Cumulative Stats'!E96","v":6.1363636363636367},{"$f":"'[3]Cumulative Stats'!F96","v":15},{"$f":"'[3]Cumulative Stats'!G96","v":0}]
[{"$f":"'[10]Cumulative Stats'!A78","v":"Manning"},"NYG",{"$f":"'[10]Cumulative Stats'!C78","v":12},{"$f":"'[10]Cumulative Stats'!D78","v":23},{"$f":"'[10]Cumulative Stats'!E78","v":1.9166666666666667},{"$f":"'[10]Cumulative Stats'!F78","v":6},{"$f":"'[10]Cumulative Stats'!G78","v":1},null,null,{"$f":"'[8]Cumulative Stats'!A98","v":"Tahi"},"MIN",{"$f":"'[8]Cumulative Stats'!C98","v":22},{"$f":"'[8]Cumulative Stats'!D98","v":85},{"$f":"'[8]Cumulative Stats'!E98","v":3.8636363636363638},{"$f":"'[8]Cumulative Stats'!F98","v":31},{"$f":"'[8]Cumulative Stats'!G98","v":1}]
[{"$f":"'[16]Cumulative Stats'!A80","v":"Moss"},"WAS",{"$f":"'[16]Cumulative Stats'!C80","v":2},{"$f":"'[16]Cumulative Stats'!D80","v":22},{"$f":"'[16]Cumulative Stats'!E80","v":11},{"$f":"'[16]Cumulative Stats'!F80","v":13},{"$f":"'[16]Cumulative Stats'!G80","v":0},null,null,{"$f":"'[3]Cumulative Stats'!A97","v":"Williams, D"},"CAR",{"$f":"'[3]Cumulative Stats'!C97","v":21},{"$f":"'[3]Cumulative Stats'!D97","v":115},{"$f":"'[3]Cumulative Stats'!E97","v":5.4761904761904763},{"$f":"'[3]Cumulative Stats'!F97","v":14},{"$f":"'[3]Cumulative Stats'!G97","v":2}]
[{"$f":"'[16]Cumulative Stats'!A81","v":"Cartwright"},"WAS",{"$f":"'[16]Cumulative Stats'!C81","v":4},{"$f":"'[16]Cumulative Stats'!D81","v":21},{"$f":"'[16]Cumulative Stats'!E81","v":5.25},{"$f":"'[16]Cumulative Stats'!F81","v":10},{"$f":"'[16]Cumulative Stats'!G81","v":0},null,null,{"$f":"'[12]Cumulative Stats'!A98","v":"Weaver"},"SEA",{"$f":"'[12]Cumulative Stats'!C98","v":19},{"$f":"'[12]Cumulative Stats'!D98","v":241},{"$f":"'[12]Cumulative Stats'!E98","v":12.684210526315789},{"$f":"'[12]Cumulative Stats'!F98","v":62},{"$f":"'[12]Cumulative Stats'!G98","v":0}]
[{"$f":"'[5]Cumulative Stats'!A79","v":"Owens"},"DAL",{"$f":"'[5]Cumulative Stats'!C79","v":7},{"$f":"'[5]Cumulative Stats'!D79","v":20},{"$f":"'[5]Cumulative Stats'!E79","v":2.8571428571428572},{"$f":"'[5]Cumulative Stats'!F79","v":16},{"$f":"'[5]Cumulative Stats'!G79","v":0},null,null,{"$f":"'[15]Cumulative Stats'!A100","v":"Smith, A"},"TBB",{"$f":"'[15]Cumulative Stats'!C100","v":19},{"$f":"'[15]Cumulative Stats'!D100","v":269},{"$f":"'[15]Cumulative Stats'!E100","v":14.157894736842104},{"$f":"'[15]Cumulative Stats'!F100","v":29},{"$f":"'[15]Cumulative Stats'!G100","v":0}]
[{"$f":"'[10]Cumulative Stats'!A79","v":"Ware"},"NYG",{"$f":"'[10]Cumulative Stats'!C79","v":2},{"$f":"'[10]Cumulative Stats'!D79","v":17},{"$f":"'[10]Cumulative Stats'!E79","v":8.5},{"$f":"'[10]Cumulative Stats'!F79","v":9},{"$f":"'[10]Cumulative Stats'!G79","v":0},null,null,{"$f":"'[3]Cumulative Stats'!A98","v":"Hackett"},"CAR",{"$f":"'[3]Cumulative Stats'!C98","v":19},{"$f":"'[3]Cumulative Stats'!D98","v":277},{"$f":"'[3]Cumulative Stats'!E98","v":14.578947368421053},{"$f":"'[3]Cumulative Stats'!F98","v":30},{"$f":"'[3]Cumulative Stats'!G98","v":1}]
[{"$f":"'[1]Cumulative Stats'!A80","v":"Leinart"},"ARI",{"$f":"'[1]Cumulative Stats'!C80","v":4},{"$f":"'[1]Cumulative Stats'!D80","v":16},{"$f":"'[1]Cumulative Stats'!E80","v":4},{"$f":"'[1]Cumulative Stats'!F80","v":8},{"$f":"'[1]Cumulative Stats'!G80","v":0},null,null,{"$f":"'[5]Cumulative Stats'!A99","v":"Williams, Roy E"},"DAL",{"$f":"'[5]Cumulative Stats'!C99","v":18},{"$f":"'[5]Cumulative Stats'!D99","v":216},{"$f":"'[5]Cumulative Stats'!E99","v":12},{"$f":"'[5]Cumulative Stats'!F99","v":35},{"$f":"'[5]Cumulative Stats'!G99","v":3}]
[{"$f":"'[5]Cumulative Stats'!A80","v":"Williams, Roy E."},"DAL",{"$f":"'[5]Cumulative Stats'!C80","v":1},{"$f":"'[5]Cumulative Stats'!D80","v":15},{"$f":"'[5]Cumulative Stats'!E80","v":15},{"$f":"'[5]Cumulative Stats'!F80","v":15},{"$f":"'[5]Cumulative Stats'!G80","v":0},null,null,{"$f":"'[5]Cumulative Stats'!A98","v":"Choice"},"DAL",{"$f":"'[5]Cumulative Stats'!C98","v":18},{"$f":"'[5]Cumulative Stats'!D98","v":181},{"$f":"'[5]Cumulative Stats'!E98","v":10.055555555555555},{"$f":"'[5]Cumulative Stats'!F98","v":46},{"$f":"'[5]Cumulative Stats'!G98","v":0}]
[{"$f":"'[9]Cumulative Stats'!A80","v":"Karney"},"NOS",{"$f":"'[9]Cumulative Stats'!C80","v":9},{"$f":"'[9]Cumulative Stats'!D80","v":15},{"$f":"'[9]Cumulative Stats'!E80","v":1.6666666666666667},{"$f":"'[9]Cumulative Stats'!F80","v":4},{"$f":"'[9]Cumulative Stats'!G80","v":0},null,null,{"$f":"'[12]Cumulative Stats'!A99","v":"Jones, J"},"SEA",{"$f":"'[12]Cumulative Stats'!C99","v":18},{"$f":"'[12]Cumulative Stats'!D99","v":151},{"$f":"'[12]Cumulative Stats'!E99","v":8.3888888888888893},{"$f":"'[12]Cumulative Stats'!F99","v":33},{"$f":"'[12]Cumulative Stats'!G99","v":0}]
[{"$f":"'[2]Cumulative Stats'!A80","v":"Mughelli"},"ATL",{"$f":"'[2]Cumulative Stats'!C80","v":3},{"$f":"'[2]Cumulative Stats'!D80","v":12},{"$f":"'[2]Cumulative Stats'!E80","v":4},{"$f":"'[2]Cumulative Stats'!F80","v":9},{"$f":"'[2]Cumulative Stats'!G80","v":0},null,null,{"$f":"'[3]Cumulative Stats'!A99","v":"Rosario"},"CAR",{"$f":"'[3]Cumulative Stats'!C99","v":17},{"$f":"'[3]Cumulative Stats'!D99","v":159},{"$f":"'[3]Cumulative Stats'!E99","v":9.3529411764705888},{"$f":"'[3]Cumulative Stats'!F99","v":18},{"$f":"'[3]Cumulative Stats'!G99","v":1}]
[{"$f":"'[16]Cumulative Stats'!A82","v":"Sellers"},"WAS",{"$f":"'[16]Cumulative Stats'!C82","v":1},{"$f":"'[16]Cumulative Stats'!D82","v":11},{"$f":"'[16]Cumulative Stats'!E82","v":11},{"$f":"'[16]Cumulative Stats'!F82","v":11},{"$f":"'[16]Cumulative Stats'!G82","v":0},null,null,{"$f":"'[5]Cumulative Stats'!A100","v":"Bennett"},"DAL",{"$f":"'[5]Cumulative Stats'!C100","v":17},{"$f":"'[5]Cumulative Stats'!D100","v":183},{"$f":"'[5]Cumulative Stats'!E100","v":10.764705882352942},{"$f":"'[5]Cumulative Stats'!F100","v":33},{"$f":"'[5]Cumulative Stats'!G100","v":2}]
[{"$f":"'[1]Cumulative Stats'!A81","v":"Breaston"},"ARI",{"$f":"'[1]Cumulative Stats'!C81","v":2},{"$f":"'[1]Cumulative Stats'!D81","v":11},{"$f":"'[1]Cumulative Stats'!E81","v":5.5},{"$f":"'[1]Cumulative Stats'!F81","v":8},{"$f":"'[1]Cumulative Stats'!G81","v":0},null,null,{"$f":"'[14]Cumulative Stats'!A99","v":"Pittman"},"STL",{"$f":"'[14]Cumulative Stats'!C99","v":16},{"$f":"'[14]Cumulative Stats'!D99","v":131},{"$f":"'[14]Cumulative Stats'!E99","v":8.1875},{"$f":"'[14]Cumulative Stats'!F99","v":25},{"$f":"'[14]Cumulative Stats'!G99","v":0}]
[{"$f":"'[13]Cumulative Stats'!A81","v":"Davis"},"SFO",{"$f":"'[13]Cumulative Stats'!C81","v":1},{"$f":"'[13]Cumulative Stats'!D81","v":11},{"$f":"'[13]Cumulative Stats'!E81","v":11},{"$f":"'[13]Cumulative Stats'!F81","v":11},{"$f":"'[13]Cumulative Stats'!G81","v":0},null,null,{"$f":"'[10]Cumulative Stats'!A100","v":"Moss"},"NYG",{"$f":"'[10]Cumulative Stats'!C100","v":16},{"$f":"'[10]Cumulative Stats'!D100","v":218},{"$f":"'[10]Cumulative Stats'!E100","v":13.625},{"$f":"'[10]Cumulative Stats'!F100","v":50},{"$f":"'[10]Cumulative Stats'!G100","v":3}]
[{"$f":"'[5]Cumulative Stats'!A81","v":"Anderson"},"DAL",{"$f":"'[5]Cumulative Stats'!C81","v":3},{"$f":"'[5]Cumulative Stats'!D81","v":11},{"$f":"'[5]Cumulative Stats'!E81","v":3.6666666666666665},{"$f":"'[5]Cumulative Stats'!F81","v":7},{"$f":"'[5]Cumulative Stats'!G81","v":0},null,null,{"$f":"'[8]Cumulative Stats'!A99","v":"Rice"},"MIN",{"$f":"'[8]Cumulative Stats'!C99","v":15},{"$f":"'[8]Cumulative Stats'!D99","v":142},{"$f":"'[8]Cumulative Stats'!E99","v":9.4666666666666668},{"$f":"'[8]Cumulative Stats'!F99","v":18},{"$f":"'[8]Cumulative Stats'!G99","v":0}]
[{"$f":"'[7]Cumulative Stats'!A79","v":"Flynn"},"GBP",{"$f":"'[7]Cumulative Stats'!C79","v":1},{"$f":"'[7]Cumulative Stats'!D79","v":9},{"$f":"'[7]Cumulative Stats'!E79","v":9},{"$f":"'[7]Cumulative Stats'!F79","v":9},{"$f":"'[7]Cumulative Stats'!G79","v":0},null,null,{"$f":"'[7]Cumulative Stats'!A99","v":"Martin"},"GBP",{"$f":"'[7]Cumulative Stats'!C99","v":15},{"$f":"'[7]Cumulative Stats'!D99","v":117},{"$f":"'[7]Cumulative Stats'!E99","v":7.8},{"$f":"'[7]Cumulative Stats'!F99","v":16},{"$f":"'[7]Cumulative Stats'!G99","v":1}]
[{"$f":"'[5]Cumulative Stats'!A82","v":"Crayton"},"DAL",{"$f":"'[5]Cumulative Stats'!C82","v":2},{"$f":"'[5]Cumulative Stats'!D82","v":8},{"$f":"'[5]Cumulative Stats'!E82","v":4},{"$f":"'[5]Cumulative Stats'!F82","v":4},{"$f":"'[5]Cumulative Stats'!G82","v":0},null,null,{"$f":"'[9]Cumulative Stats'!A101","v":"Meachem"},"NOS",{"$f":"'[9]Cumulative Stats'!C101","v":15},{"$f":"'[9]Cumulative Stats'!D101","v":399},{"$f":"'[9]Cumulative Stats'!E101","v":26.6},{"$f":"'[9]Cumulative Stats'!F101","v":43},{"$f":"'[9]Cumulative Stats'!G101","v":2}]
[{"$f":"'[2]Cumulative Stats'!A81","v":"White"},"ATL",{"$f":"'[2]Cumulative Stats'!C81","v":2},{"$f":"'[2]Cumulative Stats'!D81","v":8},{"$f":"'[2]Cumulative Stats'!E81","v":4},{"$f":"'[2]Cumulative Stats'!F81","v":5},{"$f":"'[2]Cumulative Stats'!G81","v":0},null,null,{"$f":"'[6]Cumulative Stats'!A99","v":"Standeford"},"DET",{"$f":"'[6]Cumulative Stats'!C99","v":15},{"$f":"'[6]Cumulative Stats'!D99","v":268},{"$f":"'[6]Cumulative Stats'!E99","v":17.866666666666667},{"$f":"'[6]Cumulative Stats'!F99","v":32},{"$f":"'[6]Cumulative Stats'!G99","v":0}]
[{"$f":"'[7]Cumulative Stats'!A80","v":"Driver"},"GBP",{"$f":"'[7]Cumulative Stats'!C80","v":2},{"$f":"'[7]Cumulative Stats'!D80","v":7},{"$f":"'[7]Cumulative Stats'!E80","v":3.5},{"$f":"'[7]Cumulative Stats'!F80","v":6},{"$f":"'[7]Cumulative Stats'!G80","v":0},null,null,{"$f":"'[4]Cumulative Stats'!A100","v":"Booker"},"CHI",{"$f":"'[4]Cumulative Stats'!C100","v":14},{"$f":"'[4]Cumulative Stats'!D100","v":234},{"$f":"'[4]Cumulative Stats'!E100","v":16.714285714285715},{"$f":"'[4]Cumulative Stats'!F100","v":90},{"$f":"'[4]Cumulative Stats'!G100","v":1}]
[{"$f":"'[14]Cumulative Stats'!A80","v":"Minor"},"STL",{"$f":"'[14]Cumulative Stats'!C80","v":4},{"$f":"'[14]Cumulative Stats'!D80","v":6},{"$f":"'[14]Cumulative Stats'!E80","v":1.5},{"$f":"'[14]Cumulative Stats'!F80","v":9},{"$f":"'[14]Cumulative Stats'!G80","v":0},null,null,{"$f":"'[7]Cumulative Stats'!A101","v":"Grant"},"GBP",{"$f":"'[7]Cumulative Stats'!C101","v":14},{"$f":"'[7]Cumulative Stats'!D101","v":44},{"$f":"'[7]Cumulative Stats'!E101","v":3.1428571428571428},{"$f":"'[7]Cumulative Stats'!F101","v":11},{"$f":"'[7]Cumulative Stats'!G101","v":0}]
[{"$f":"'[8]Cumulative Stats'!A79","v":"Dugan"},"MIN",{"$f":"'[8]Cumulative Stats'!C79","v":2},{"$f":"'[8]Cumulative Stats'!D79","v":6},{"$f":"'[8]Cumulative Stats'!E79","v":3},{"$f":"'[8]Cumulative Stats'!F79","v":6},{"$f":"'[8]Cumulative Stats'!G79","v":0},null,null,{"$f":"'[7]Cumulative Stats'!A100","v":"Jones"},"GBP",{"$f":"'[7]Cumulative Stats'!C100","v":14},{"$f":"'[7]Cumulative Stats'!D100","v":256},{"$f":"'[7]Cumulative Stats'!E100","v":18.285714285714285},{"$f":"'[7]Cumulative Stats'!F100","v":39},{"$f":"'[7]Cumulative Stats'!G100","v":2}]
[{"$f":"'[13]Cumulative Stats'!A82","v":"Rossum"},"SFO",{"$f":"'[13]Cumulative Stats'!C82","v":2},{"$f":"'[13]Cumulative Stats'!D82","v":5},{"$f":"'[13]Cumulative Stats'!E82","v":2.5},{"$f":"'[13]Cumulative Stats'!F82","v":4},{"$f":"'[13]Cumulative Stats'!G82","v":0},null,null,{"$f":"'[16]Cumulative Stats'!A98","v":"Betts"},"WAS",{"$f":"'[16]Cumulative Stats'!C98","v":14},{"$f":"'[16]Cumulative Stats'!D98","v":117},{"$f":"'[16]Cumulative Stats'!E98","v":8.3571428571428577},{"$f":"'[16]Cumulative Stats'!F98","v":28},{"$f":"'[16]Cumulative Stats'!G98","v":1}]
[{"$f":"'[7]Cumulative Stats'!A81","v":"Kuhn"},"GBP",{"$f":"'[7]Cumulative Stats'!C81","v":7},{"$f":"'[7]Cumulative Stats'!D81","v":5},{"$f":"'[7]Cumulative Stats'!E81","v":0.7142857142857143},{"$f":"'[7]Cumulative Stats'!F81","v":3},{"$f":"'[7]Cumulative Stats'!G81","v":0},null,null,{"$f":"'[9]Cumulative Stats'!A102","v":"Patten"},"NOS",{"$f":"'[9]Cumulative Stats'!C102","v":13},{"$f":"'[9]Cumulative Stats'!D102","v":218},{"$f":"'[9]Cumulative Stats'!E102","v":16.76923076923077},{"$f":"'[9]Cumulative Stats'!F102","v":50},{"$f":"'[9]Cumulative Stats'!G102","v":2}]
[{"$f":"'[4]Cumulative Stats'!A82","v":"Grossman"},"CHI",{"$f":"'[4]Cumulative Stats'!C82","v":2},{"$f":"'[4]Cumulative Stats'!D82","v":5},{"$f":"'[4]Cumulative Stats'!E82","v":2.5},{"$f":"'[4]Cumulative Stats'!F82","v":4},{"$f":"'[4]Cumulative Stats'!G82","v":0},null,null,{"$f":"'[8]Cumulative Stats'!A100","v":"Peterson"},"MIN",{"$f":"'[8]Cumulative Stats'!C100","v":12},{"$f":"'[8]Cumulative Stats'!D100","v":95},{"$f":"'[8]Cumulative Stats'!E100","v":7.916666666666667},{"$f":"'[8]Cumulative Stats'!F100","v":25},{"$f":"'[8]Cumulative Stats'!G100","v":0}]
[{"$f":"'[6]Cumulative Stats'!A80","v":"Norris"},"DET",{"$f":"'[6]Cumulative Stats'!C80","v":1},{"$f":"'[6]Cumulative Stats'!D80","v":4},{"$f":"'[6]Cumulative Stats'!E80","v":4},{"$f":"'[6]Cumulative Stats'!F80","v":4},{"$f":"'[6]Cumulative Stats'!G80","v":0},null,null,{"$f":"'[6]Cumulative Stats'!A100","v":"Felton"},"DET",{"$f":"'[6]Cumulative Stats'!C100","v":12},{"$f":"'[6]Cumulative Stats'!D100","v":25},{"$f":"'[6]Cumulative Stats'!E100","v":2.0833333333333335},{"$f":"'[6]Cumulative Stats'!F100","v":11},{"$f":"'[6]Cumulative Stats'!G100","v":0}]
[{"$f":"'[8]Cumulative Stats'!A80","v":"Frerotte"},"MIN",{"$f":"'[8]Cumulative Stats'!C80","v":5},{"$f":"'[8]Cumulative Stats'!D80","v":3},{"$f":"'[8]Cumulative Stats'!E80","v":0.6},{"$f":"'[8]Cumulative Stats'!F80","v":2},{"$f":"'[8]Cumulative Stats'!G80","v":0},null,null,{"$f":"'[4]Cumulative Stats'!A101","v":"McKie"},"CHI",{"$f":"'[4]Cumulative Stats'!C101","v":12},{"$f":"'[4]Cumulative Stats'!D101","v":27},{"$f":"'[4]Cumulative Stats'!E101","v":2.25},{"$f":"'[4]Cumulative Stats'!F101","v":12},{"$f":"'[4]Cumulative Stats'!G101","v":0}]
[{"$f":"'[16]Cumulative Stats'!A83","v":"Alexander, S"},"WAS",{"$f":"'[16]Cumulative Stats'!C83","v":6},{"$f":"'[16]Cumulative Stats'!D83","v":2},{"$f":"'[16]Cumulative Stats'!E83","v":0.33333333333333331},{"$f":"'[16]Cumulative Stats'!F83","v":4},{"$f":"'[16]Cumulative Stats'!G83","v":0},null,null,{"$f":"'[8]Cumulative Stats'!A101","v":"Allison"},"MIN",{"$f":"'[8]Cumulative Stats'!C101","v":12},{"$f":"'[8]Cumulative Stats'!D101","v":136},{"$f":"'[8]Cumulative Stats'!E101","v":11.333333333333334},{"$f":"'[8]Cumulative Stats'!F101","v":35},{"$f":"'[8]Cumulative Stats'!G101","v":0}]
[{"$f":"'[6]Cumulative Stats'!A81","v":"Felton"},"DET",{"$f":"'[6]Cumulative Stats'!C81","v":3},{"$f":"'[6]Cumulative Stats'!D81","v":2},{"$f":"'[6]Cumulative Stats'!E81","v":0.66666666666666663},{"$f":"'[6]Cumulative Stats'!F81","v":1},{"$f":"'[6]Cumulative Stats'!G81","v":0},null,null,{"$f":"'[13]Cumulative Stats'!A101","v":"Morgan"},"SFO",{"$f":"'[13]Cumulative Stats'!C101","v":11},{"$f":"'[13]Cumulative Stats'!D101","v":65},{"$f":"'[13]Cumulative Stats'!E101","v":5.9090909090909092},{"$f":"'[13]Cumulative Stats'!F101","v":15},{"$f":"'[13]Cumulative Stats'!G101","v":1}]
[{"$f":"'[6]Cumulative Stats'!A82","v":"Stanton"},"DET",{"$f":"'[6]Cumulative Stats'!C82","v":2},{"$f":"'[6]Cumulative Stats'!D82","v":1},{"$f":"'[6]Cumulative Stats'!E82","v":0.5},{"$f":"'[6]Cumulative Stats'!F82","v":1},{"$f":"'[6]Cumulative Stats'!G82","v":0},null,null,{"$f":"'[12]Cumulative Stats'!A100","v":"Morris"},"SEA",{"$f":"'[12]Cumulative Stats'!C100","v":11},{"$f":"'[12]Cumulative Stats'!D100","v":54},{"$f":"'[12]Cumulative Stats'!E100","v":4.9090909090909092},{"$f":"'[12]Cumulative Stats'!F100","v":25},{"$f":"'[12]Cumulative Stats'!G100","v":0}]
[{"$f":"'[10]Cumulative Stats'!A80","v":"Carr"},"NYG",{"$f":"'[10]Cumulative Stats'!C80","v":4},{"$f":"'[10]Cumulative Stats'!D80","v":0},{"$f":"'[10]Cumulative Stats'!E80","v":0},{"$f":"'[10]Cumulative Stats'!F80","v":6},{"$f":"'[10]Cumulative Stats'!G80","v":0},null,null,{"$f":"'[14]Cumulative Stats'!A100","v":"Burton, K"},"STL",{"$f":"'[14]Cumulative Stats'!C100","v":11},{"$f":"'[14]Cumulative Stats'!D100","v":90},{"$f":"'[14]Cumulative Stats'!E100","v":8.1818181818181817},{"$f":"'[14]Cumulative Stats'!F100","v":28},{"$f":"'[14]Cumulative Stats'!G100","v":1}]
[{"$f":"'[14]Cumulative Stats'!A81","v":"Burton, K"},"STL",{"$f":"'[14]Cumulative Stats'!C81","v":3},{"$f":"'[14]Cumulative Stats'!D81","v":0},{"$f":"'[14]Cumulative Stats'!E81","v":0},{"$f":"'[14]Cumulative Stats'!F81","v":1},{"$f":"'[14]Cumulative Stats'!G81","v":0},null,null,{"$f":"'[12]Cumulative Stats'!A101","v":"Taylor"},"SEA",{"$f":"'[12]Cumulative Stats'!C101","v":11},{"$f":"'[12]Cumulative Stats'!D101","v":95},{"$f":"'[12]Cumulative Stats'!E101","v":8.6363636363636367},{"$f":"'[12]Cumulative Stats'!F101","v":19},{"$f":"'[12]Cumulative Stats'!G101","v":1}]
[{"$f":"'[14]Cumulative Stats'!A84","v":"Green"},"STL",{"$f":"'[14]Cumulative Stats'!C84","v":2},{"$f":"'[14]Cumulative Stats'!D84","v":0},{"$f":"'[14]Cumulative Stats'!E84","v":0},{"$f":"'[14]Cumulative Stats'!F84","v":2},{"$f":"'[14]Cumulative Stats'!G84","v":0},null,null,{"$f":"'[16]Cumulative Stats'!A99","v":"Sellers"},"WAS",{"$f":"'[16]Cumulative Stats'!C99","v":11},{"$f":"'[16]Cumulative Stats'!D99","v":59},{"$f":"'[16]Cumulative Stats'!E99","v":5.3636363636363633},{"$f":"'[16]Cumulative Stats'!F99","v":11},{"$f":"'[16]Cumulative Stats'!G99","v":0}]
[{"$f":"'[15]Cumulative Stats'!A84","v":"Clayton"},"TBB",{"$f":"'[15]Cumulative Stats'!C84","v":2},{"$f":"'[15]Cumulative Stats'!D84","v":0},{"$f":"'[15]Cumulative Stats'!E84","v":0},{"$f":"'[15]Cumulative Stats'!F84","v":1},{"$f":"'[15]Cumulative Stats'!G84","v":0},null,null,{"$f":"'[8]Cumulative Stats'!A102","v":"Kleinsasser"},"MIN",{"$f":"'[8]Cumulative Stats'!C102","v":11},{"$f":"'[8]Cumulative Stats'!D102","v":145},{"$f":"'[8]Cumulative Stats'!E102","v":13.181818181818182},{"$f":"'[8]Cumulative Stats'!F102","v":20},{"$f":"'[8]Cumulative Stats'!G102","v":3}]
[{"$f":"'[4]Cumulative Stats'!A84","v":"Davis, J"},"CHI",{"$f":"'[4]Cumulative Stats'!C84","v":1},{"$f":"'[4]Cumulative Stats'!D84","v":0},{"$f":"'[4]Cumulative Stats'!E84","v":0},{"$f":"'[4]Cumulative Stats'!F84","v":0},{"$f":"'[4]Cumulative Stats'!G84","v":0},null,null,{"$f":"'[1]Cumulative Stats'!A100","v":"Doucet"},"ARI",{"$f":"'[1]Cumulative Stats'!C100","v":11},{"$f":"'[1]Cumulative Stats'!D100","v":77},{"$f":"'[1]Cumulative Stats'!E100","v":7},{"$f":"'[1]Cumulative Stats'!F100","v":28},{"$f":"'[1]Cumulative Stats'!G100","v":0}]
[{"$f":"'[5]Cumulative Stats'!A83","v":"Johnson, B"},"DAL",{"$f":"'[5]Cumulative Stats'!C83","v":1},{"$f":"'[5]Cumulative Stats'!D83","v":0},{"$f":"'[5]Cumulative Stats'!E83","v":0},{"$f":"'[5]Cumulative Stats'!F83","v":0},{"$f":"'[5]Cumulative Stats'!G83","v":0},null,null,{"$f":"'[15]Cumulative Stats'!A101","v":"Galloway"},"TBB",{"$f":"'[15]Cumulative Stats'!C101","v":11},{"$f":"'[15]Cumulative Stats'!D101","v":91},{"$f":"'[15]Cumulative Stats'!E101","v":8.2727272727272734},{"$f":"'[15]Cumulative Stats'!F101","v":25},{"$f":"'[15]Cumulative Stats'!G101","v":1}]
[{"$f":"'[15]Cumulative Stats'!A86","v":"Griese"},"TBB",{"$f":"'[15]Cumulative Stats'!C86","v":2},{"$f":"'[15]Cumulative Stats'!D86","v":-1},{"$f":"'[15]Cumulative Stats'!E86","v":-0.5},{"$f":"'[15]Cumulative Stats'!F86","v":1},{"$f":"'[15]Cumulative Stats'!G86","v":0},null,null,{"$f":"'[16]Cumulative Stats'!A100","v":"Thomas, D"},"WAS",{"$f":"'[16]Cumulative Stats'!C100","v":10},{"$f":"'[16]Cumulative Stats'!D100","v":71},{"$f":"'[16]Cumulative Stats'!E100","v":7.1},{"$f":"'[16]Cumulative Stats'!F100","v":14},{"$f":"'[16]Cumulative Stats'!G100","v":0}]
[{"$f":"'[15]Cumulative Stats'!A85","v":"Hilliard"},"TBB",{"$f":"'[15]Cumulative Stats'!C85","v":1},{"$f":"'[15]Cumulative Stats'!D85","v":-1},{"$f":"'[15]Cumulative Stats'!E85","v":-1},{"$f":"'[15]Cumulative Stats'!F85","v":0},{"$f":"'[15]Cumulative Stats'!G85","v":0},null,null,{"$f":"'[16]Cumulative Stats'!A101","v":"Thrash"},"WAS",{"$f":"'[16]Cumulative Stats'!C101","v":10},{"$f":"'[16]Cumulative Stats'!D101","v":101},{"$f":"'[16]Cumulative Stats'!E101","v":10.1},{"$f":"'[16]Cumulative Stats'!F101","v":21},{"$f":"'[16]Cumulative Stats'!G101","v":0}]
[{"$f":"'[16]Cumulative Stats'!A84","v":"Davis"},"WAS",{"$f":"'[16]Cumulative Stats'!C84","v":1},{"$f":"'[16]Cumulative Stats'!D84","v":-2},{"$f":"'[16]Cumulative Stats'!E84","v":-2},{"$f":"'[16]Cumulative Stats'!F84","v":0},{"$f":"'[16]Cumulative Stats'!G84","v":0},null,null,{"$f":"'[11]Cumulative Stats'!A103","v":"Brown, R"},"PHI",{"$f":"'[11]Cumulative Stats'!C103","v":10},{"$f":"'[11]Cumulative Stats'!D103","v":110},{"$f":"'[11]Cumulative Stats'!E103","v":11},{"$f":"'[11]Cumulative Stats'!F103","v":17},{"$f":"'[11]Cumulative Stats'!G103","v":0}]
[{"$f":"'[9]Cumulative Stats'!A83","v":"Henderson"},"NOS",{"$f":"'[9]Cumulative Stats'!C83","v":2},{"$f":"'[9]Cumulative Stats'!D83","v":-4},{"$f":"'[9]Cumulative Stats'!E83","v":-2},{"$f":"'[9]Cumulative Stats'!F83","v":0},{"$f":"'[9]Cumulative Stats'!G83","v":0},null,null,{"$f":"'[9]Cumulative Stats'!A103","v":"Stecker"},"NOS",{"$f":"'[9]Cumulative Stats'!C103","v":10},{"$f":"'[9]Cumulative Stats'!D103","v":22},{"$f":"'[9]Cumulative Stats'!E103","v":2.2000000000000002},{"$f":"'[9]Cumulative Stats'!F103","v":9},{"$f":"'[9]Cumulative Stats'!G103","v":0}]
[{"$f":"'[4]Cumulative Stats'!A85","v":"Davis, R"},"CHI",{"$f":"'[4]Cumulative Stats'!C85","v":2},{"$f":"'[4]Cumulative Stats'!D85","v":-4},{"$f":"'[4]Cumulative Stats'!E85","v":-2},{"$f":"'[4]Cumulative Stats'!F85","v":2},{"$f":"'[4]Cumulative Stats'!G85","v":0},null,null,{"$f":"'[15]Cumulative Stats'!A102","v":"Gilmore"},"TBB",{"$f":"'[15]Cumulative Stats'!C102","v":9},{"$f":"'[15]Cumulative Stats'!D102","v":92},{"$f":"'[15]Cumulative Stats'!E102","v":10.222222222222221},{"$f":"'[15]Cumulative Stats'!F102","v":36},{"$f":"'[15]Cumulative Stats'!G102","v":0}]
[{"$f":"'[6]Cumulative Stats'!A83","v":"Johnson, C"},"DET",{"$f":"'[6]Cumulative Stats'!C83","v":3},{"$f":"'[6]Cumulative Stats'!D83","v":-5},{"$f":"'[6]Cumulative Stats'!E83","v":-1.6666666666666667},{"$f":"'[6]Cumulative Stats'!F83","v":2},{"$f":"'[6]Cumulative Stats'!G83","v":0},null,null,{"$f":"'[14]Cumulative Stats'!A101","v":"Hall, D"},"STL",{"$f":"'[14]Cumulative Stats'!C101","v":9},{"$f":"'[14]Cumulative Stats'!D101","v":137},{"$f":"'[14]Cumulative Stats'!E101","v":15.222222222222221},{"$f":"'[14]Cumulative Stats'!F101","v":30},{"$f":"'[14]Cumulative Stats'!G101","v":0}]
[{"$f":"'[13]Cumulative Stats'!A84","v":"Bruce"},"SFO",{"$f":"'[13]Cumulative Stats'!C84","v":2},{"$f":"'[13]Cumulative Stats'!D84","v":-5},{"$f":"'[13]Cumulative Stats'!E84","v":-2.5},{"$f":"'[13]Cumulative Stats'!F84","v":0},{"$f":"'[13]Cumulative Stats'!G84","v":0},null,null,{"$f":"'[3]Cumulative Stats'!A100","v":"Jarrett"},"CAR",{"$f":"'[3]Cumulative Stats'!C100","v":9},{"$f":"'[3]Cumulative Stats'!D100","v":146},{"$f":"'[3]Cumulative Stats'!E100","v":16.222222222222221},{"$f":"'[3]Cumulative Stats'!F100","v":29},{"$f":"'[3]Cumulative Stats'!G100","v":3}]
[{"$f":"'[12]Cumulative Stats'!A83","v":"Robinson, K"},"SEA",{"$f":"'[12]Cumulative Stats'!C83","v":1},{"$f":"'[12]Cumulative Stats'!D83","v":-6},{"$f":"'[12]Cumulative Stats'!E83","v":-6},{"$f":"'[12]Cumulative Stats'!F83","v":0},{"$f":"'[12]Cumulative Stats'!G83","v":0},null,null,{"$f":"'[13]Cumulative Stats'!A102","v":"Foster"},"SFO",{"$f":"'[13]Cumulative Stats'!C102","v":9},{"$f":"'[13]Cumulative Stats'!D102","v":51},{"$f":"'[13]Cumulative Stats'!E102","v":5.666666666666667},{"$f":"'[13]Cumulative Stats'!F102","v":10},{"$f":"'[13]Cumulative Stats'!G102","v":1}]
[{"$f":"'[6]Cumulative Stats'!A84","v":"Cason"},"DET",{"$f":"'[6]Cumulative Stats'!C84","v":2},{"$f":"'[6]Cumulative Stats'!D84","v":-8},{"$f":"'[6]Cumulative Stats'!E84","v":-4},{"$f":"'[6]Cumulative Stats'!F84","v":0},{"$f":"'[6]Cumulative Stats'!G84","v":0},null,null,{"$f":"'[2]Cumulative Stats'!A99","v":"Peelle"},"ATL",{"$f":"'[2]Cumulative Stats'!C99","v":9},{"$f":"'[2]Cumulative Stats'!D99","v":83},{"$f":"'[2]Cumulative Stats'!E99","v":9.2222222222222214},{"$f":"'[2]Cumulative Stats'!F99","v":17},{"$f":"'[2]Cumulative Stats'!G99","v":0}]
[{"$f":"'[14]Cumulative Stats'!A85","v":"Hall, D"},"STL",{"$f":"'[14]Cumulative Stats'!C85","v":4},{"$f":"'[14]Cumulative Stats'!D85","v":-11},{"$f":"'[14]Cumulative Stats'!E85","v":-2.75},{"$f":"'[14]Cumulative Stats'!F85","v":2},{"$f":"'[14]Cumulative Stats'!G85","v":0},null,null,{"$f":"'[6]Cumulative Stats'!A102","v":"Colbert"},"DET",{"$f":"'[6]Cumulative Stats'!C102","v":9},{"$f":"'[6]Cumulative Stats'!D102","v":78},{"$f":"'[6]Cumulative Stats'!E102","v":8.6666666666666661},{"$f":"'[6]Cumulative Stats'!F102","v":13},{"$f":"'[6]Cumulative Stats'!G102","v":0}]
[{"$f":"'[13]Cumulative Stats'!A85","v":"Walker"},"SFO",{"$f":"'[13]Cumulative Stats'!C85","v":2},{"$f":"'[13]Cumulative Stats'!D85","v":-15},{"$f":"'[13]Cumulative Stats'!E85","v":-7.5},{"$f":"'[13]Cumulative Stats'!F85","v":0},{"$f":"'[13]Cumulative Stats'!G85","v":0},null,null,{"$f":"'[6]Cumulative Stats'!A101","v":"Fitzsimmons"},"DET",{"$f":"'[6]Cumulative Stats'!C101","v":9},{"$f":"'[6]Cumulative Stats'!D101","v":47},{"$f":"'[6]Cumulative Stats'!E101","v":5.2222222222222223},{"$f":"'[6]Cumulative Stats'!F101","v":13},{"$f":"'[6]Cumulative Stats'!G101","v":0}]
[null,null,null,null,null,null,null,null,null,{"$f":"'[6]Cumulative Stats'!A103","v":"Owens"},"DET",{"$f":"'[6]Cumulative Stats'!C103","v":8},{"$f":"'[6]Cumulative Stats'!D103","v":69},{"$f":"'[6]Cumulative Stats'!E103","v":8.625},{"$f":"'[6]Cumulative Stats'!F103","v":19},{"$f":"'[6]Cumulative Stats'!G103","v":0}]
[null,null,null,null,null,null,null,null,null,{"$f":"'[13]Cumulative Stats'!A103","v":"Walker"},"SFO",{"$f":"'[13]Cumulative Stats'!C103","v":8},{"$f":"'[13]Cumulative Stats'!D103","v":183},{"$f":"'[13]Cumulative Stats'!E103","v":22.875},{"$f":"'[13]Cumulative Stats'!F103","v":69},{"$f":"'[13]Cumulative Stats'!G103","v":2}]
[null,null,null,null,null,null,null,null,null,{"$f":"'[1]Cumulative Stats'!A101","v":"Patrick"},"ARI",{"$f":"'[1]Cumulative Stats'!C101","v":8},{"$f":"'[1]Cumulative Stats'!D101","v":70},{"$f":"'[1]Cumulative Stats'!E101","v":8.75},{"$f":"'[1]Cumulative Stats'!F101","v":18},{"$f":"'[1]Cumulative Stats'!G101","v":0}]
[null,null,null,null,null,null,null,null,null,{"$f":"'[9]Cumulative Stats'!A104","v":"McAlister"},"NOS",{"$f":"'[9]Cumulative Stats'!C104","v":7},{"$f":"'[9]Cumulative Stats'!D104","v":31},{"$f":"'[9]Cumulative Stats'!E104","v":4.4285714285714288},{"$f":"'[9]Cumulative Stats'!F104","v":12},{"$f":"'[9]Cumulative Stats'!G104","v":2}]
[null,null,null,null,null,null,null,null,null,{"$f":"'[14]Cumulative Stats'!A102","v":"McMichael"},"STL",{"$f":"'[14]Cumulative Stats'!C102","v":7},{"$f":"'[14]Cumulative Stats'!D102","v":59},{"$f":"'[14]Cumulative Stats'!E102","v":8.4285714285714288},{"$f":"'[14]Cumulative Stats'!F102","v":20},{"$f":"'[14]Cumulative Stats'!G102","v":0}]
[null,null,null,null,null,null,null,null,null,{"$f":"'[5]Cumulative Stats'!A101","v":"Austin"},"DAL",{"$f":"'[5]Cumulative Stats'!C101","v":7},{"$f":"'[5]Cumulative Stats'!D101","v":168},{"$f":"'[5]Cumulative Stats'!E101","v":24},{"$f":"'[5]Cumulative Stats'!F101","v":40},{"$f":"'[5]Cumulative Stats'!G101","v":1}]
[null,null,null,null,null,null,null,null,null,{"$f":"'[15]Cumulative Stats'!A103","v":"Askew"},"TBB",{"$f":"'[15]Cumulative Stats'!C103","v":7},{"$f":"'[15]Cumulative Stats'!D103","v":11},{"$f":"'[15]Cumulative Stats'!E103","v":1.5714285714285714},{"$f":"'[15]Cumulative Stats'!F103","v":7},{"$f":"'[15]Cumulative Stats'!G103","v":0}]
[null,null,null,null,null,null,null,null,null,{"$f":"'[10]Cumulative Stats'!A101","v":"Manningham"},"NYG",{"$f":"'[10]Cumulative Stats'!C101","v":7},{"$f":"'[10]Cumulative Stats'!D101","v":23},{"$f":"'[10]Cumulative Stats'!E101","v":3.2857142857142856},{"$f":"'[10]Cumulative Stats'!F101","v":11},{"$f":"'[10]Cumulative Stats'!G101","v":0}]
[null,null,null,null,null,null,null,null,null,{"$f":"'[9]Cumulative Stats'!A105","v":"Campbell"},"NOS",{"$f":"'[9]Cumulative Stats'!C105","v":6},{"$f":"'[9]Cumulative Stats'!D105","v":52},{"$f":"'[9]Cumulative Stats'!E105","v":8.6666666666666661},{"$f":"'[9]Cumulative Stats'!F105","v":18},{"$f":"'[9]Cumulative Stats'!G105","v":0}]
[null,null,null,null,null,null,null,null,null,{"$f":"'[6]Cumulative Stats'!A104","v":"Norris"},"DET",{"$f":"'[6]Cumulative Stats'!C104","v":6},{"$f":"'[6]Cumulative Stats'!D104","v":45},{"$f":"'[6]Cumulative Stats'!E104","v":7.5},{"$f":"'[6]Cumulative Stats'!F104","v":13},{"$f":"'[6]Cumulative Stats'!G104","v":0}]
[null,null,null,null,null,null,null,null,null,{"$f":"'[1]Cumulative Stats'!A102","v":"Castille"},"ARI",{"$f":"'[1]Cumulative Stats'!C102","v":6},{"$f":"'[1]Cumulative Stats'!D102","v":19},{"$f":"'[1]Cumulative Stats'!E102","v":3.1666666666666665},{"$f":"'[1]Cumulative Stats'!F102","v":30},{"$f":"'[1]Cumulative Stats'!G102","v":0}]
[null,null,null,null,null,null,null,null,null,{"$f":"'[8]Cumulative Stats'!A103","v":"Mills"},"MIN",{"$f":"'[8]Cumulative Stats'!C103","v":6},{"$f":"'[8]Cumulative Stats'!D103","v":89},{"$f":"'[8]Cumulative Stats'!E103","v":14.833333333333334},{"$f":"'[8]Cumulative Stats'!F103","v":30},{"$f":"'[8]Cumulative Stats'!G103","v":0}]
[null,null,null,null,null,null,null,null,null,{"$f":"'[14]Cumulative Stats'!A103","v":"Klopfenstein"},"STL",{"$f":"'[14]Cumulative Stats'!C103","v":6},{"$f":"'[14]Cumulative Stats'!D103","v":59},{"$f":"'[14]Cumulative Stats'!E103","v":9.8333333333333339},{"$f":"'[14]Cumulative Stats'!F103","v":20},{"$f":"'[14]Cumulative Stats'!G103","v":1}]
[null,null,null,null,null,null,null,null,null,{"$f":"'[3]Cumulative Stats'!A101","v":"Stewart"},"CAR",{"$f":"'[3]Cumulative Stats'!C101","v":6},{"$f":"'[3]Cumulative Stats'!D101","v":57},{"$f":"'[3]Cumulative Stats'!E101","v":9.5},{"$f":"'[3]Cumulative Stats'!F101","v":14},{"$f":"'[3]Cumulative Stats'!G101","v":0}]
[null,null,null,null,null,null,null,null,null,{"$f":"'[2]Cumulative Stats'!A101","v":"Robinson"},"ATL",{"$f":"'[2]Cumulative Stats'!C101","v":6},{"$f":"'[2]Cumulative Stats'!D101","v":64},{"$f":"'[2]Cumulative Stats'!E101","v":10.666666666666666},{"$f":"'[2]Cumulative Stats'!F101","v":23},{"$f":"'[2]Cumulative Stats'!G101","v":1}]
[null,null,null,null,null,null,null,null,null,{"$f":"'[2]Cumulative Stats'!A100","v":"Mughelli"},"ATL",{"$f":"'[2]Cumulative Stats'!C100","v":6},{"$f":"'[2]Cumulative Stats'!D100","v":56},{"$f":"'[2]Cumulative Stats'!E100","v":9.3333333333333339},{"$f":"'[2]Cumulative Stats'!F100","v":25},{"$f":"'[2]Cumulative Stats'!G100","v":0}]
[null,null,null,null,null,null,null,null,null,{"$f":"'[7]Cumulative Stats'!A102","v":"Finley"},"GBP",{"$f":"'[7]Cumulative Stats'!C102","v":6},{"$f":"'[7]Cumulative Stats'!D102","v":65},{"$f":"'[7]Cumulative Stats'!E102","v":10.833333333333334},{"$f":"'[7]Cumulative Stats'!F102","v":29},{"$f":"'[7]Cumulative Stats'!G102","v":2}]
[null,null,null,null,null,null,null,null,null,{"$f":"'[1]Cumulative Stats'!A104","v":"Pope"},"ARI",{"$f":"'[1]Cumulative Stats'!C104","v":5},{"$f":"'[1]Cumulative Stats'!D104","v":20},{"$f":"'[1]Cumulative Stats'!E104","v":4},{"$f":"'[1]Cumulative Stats'!F104","v":10},{"$f":"'[1]Cumulative Stats'!G104","v":0}]
[null,null,null,null,null,null,null,null,null,{"$f":"'[6]Cumulative Stats'!A105","v":"Johnson, R"},"DET",{"$f":"'[6]Cumulative Stats'!C105","v":5},{"$f":"'[6]Cumulative Stats'!D105","v":69},{"$f":"'[6]Cumulative Stats'!E105","v":13.8},{"$f":"'[6]Cumulative Stats'!F105","v":31},{"$f":"'[6]Cumulative Stats'!G105","v":1}]
[null,null,null,null,null,null,null,null,null,{"$f":"'[4]Cumulative Stats'!A102","v":"Peterson"},"CHI",{"$f":"'[4]Cumulative Stats'!C102","v":5},{"$f":"'[4]Cumulative Stats'!D102","v":29},{"$f":"'[4]Cumulative Stats'!E102","v":5.8},{"$f":"'[4]Cumulative Stats'!F102","v":10},{"$f":"'[4]Cumulative Stats'!G102","v":0}]
[null,null,null,null,null,null,null,null,null,{"$f":"'[1]Cumulative Stats'!A103","v":"James"},"ARI",{"$f":"'[1]Cumulative Stats'!C103","v":5},{"$f":"'[1]Cumulative Stats'!D103","v":22},{"$f":"'[1]Cumulative Stats'!E103","v":4.4000000000000004},{"$f":"'[1]Cumulative Stats'!F103","v":11},{"$f":"'[1]Cumulative Stats'!G103","v":0}]
[null,null,null,null,null,null,null,null,null,{"$f":"'[9]Cumulative Stats'!A106","v":"Karney"},"NOS",{"$f":"'[9]Cumulative Stats'!C106","v":5},{"$f":"'[9]Cumulative Stats'!D106","v":20},{"$f":"'[9]Cumulative Stats'!E106","v":4},{"$f":"'[9]Cumulative Stats'!F106","v":25},{"$f":"'[9]Cumulative Stats'!G106","v":0}]
[null,null,null,null,null,null,null,null,null,{"$f":"'[5]Cumulative Stats'!A102","v":"Curtis"},"DAL",{"$f":"'[5]Cumulative Stats'!C102","v":5},{"$f":"'[5]Cumulative Stats'!D102","v":32},{"$f":"'[5]Cumulative Stats'!E102","v":6.4},{"$f":"'[5]Cumulative Stats'!F102","v":19},{"$f":"'[5]Cumulative Stats'!G102","v":0}]
[null,null,null,null,null,null,null,null,null,{"$f":"'[10]Cumulative Stats'!A103","v":"Jacobs"},"NYG",{"$f":"'[10]Cumulative Stats'!C103","v":5},{"$f":"'[10]Cumulative Stats'!D103","v":57},{"$f":"'[10]Cumulative Stats'!E103","v":11.4},{"$f":"'[10]Cumulative Stats'!F103","v":35},{"$f":"'[10]Cumulative Stats'!G103","v":0}]
[null,null,null,null,null,null,null,null,null,{"$f":"'[10]Cumulative Stats'!A102","v":"Hedgecock"},"NYG",{"$f":"'[10]Cumulative Stats'!C102","v":5},{"$f":"'[10]Cumulative Stats'!D102","v":21},{"$f":"'[10]Cumulative Stats'!E102","v":4.2},{"$f":"'[10]Cumulative Stats'!F102","v":12},{"$f":"'[10]Cumulative Stats'!G102","v":0}]
[null,null,null,null,null,null,null,null,null,{"$f":"'[6]Cumulative Stats'!A106","v":"Cason"},"DET",{"$f":"'[6]Cumulative Stats'!C106","v":5},{"$f":"'[6]Cumulative Stats'!D106","v":52},{"$f":"'[6]Cumulative Stats'!E106","v":10.4},{"$f":"'[6]Cumulative Stats'!F106","v":15},{"$f":"'[6]Cumulative Stats'!G106","v":0}]
[null,null,null,null,null,null,null,null,null,{"$f":"'[3]Cumulative Stats'!A102","v":"Goings"},"CAR",{"$f":"'[3]Cumulative Stats'!C102","v":5},{"$f":"'[3]Cumulative Stats'!D102","v":-12},{"$f":"'[3]Cumulative Stats'!E102","v":-2.4},{"$f":"'[3]Cumulative Stats'!F102","v":4},{"$f":"'[3]Cumulative Stats'!G102","v":0}]
[null,null,null,null,null,null,null,null,null,{"$f":"'[11]Cumulative Stats'!A104","v":"Booker"},"PHI",{"$f":"'[11]Cumulative Stats'!C104","v":5},{"$f":"'[11]Cumulative Stats'!D104","v":-6},{"$f":"'[11]Cumulative Stats'!E104","v":-1.2},{"$f":"'[11]Cumulative Stats'!F104","v":6},{"$f":"'[11]Cumulative Stats'!G104","v":0}]
[null,null,null,null,null,null,null,null,null,{"$f":"'[16]Cumulative Stats'!A102","v":"Yoder"},"WAS",{"$f":"'[16]Cumulative Stats'!C102","v":5},{"$f":"'[16]Cumulative Stats'!D102","v":30},{"$f":"'[16]Cumulative Stats'!E102","v":6},{"$f":"'[16]Cumulative Stats'!F102","v":14},{"$f":"'[16]Cumulative Stats'!G102","v":0}]
[null,null,null,null,null,null,null,null,null,{"$f":"'[2]Cumulative Stats'!A102","v":"Snelling"},"ATL",{"$f":"'[2]Cumulative Stats'!C102","v":5},{"$f":"'[2]Cumulative Stats'!D102","v":49},{"$f":"'[2]Cumulative Stats'!E102","v":9.8000000000000007},{"$f":"'[2]Cumulative Stats'!F102","v":15},{"$f":"'[2]Cumulative Stats'!G102","v":0}]
[null,null,null,null,null,null,null,null,null,{"$f":"'[7]Cumulative Stats'!A103","v":"Humphrey"},"GBP",{"$f":"'[7]Cumulative Stats'!C103","v":5},{"$f":"'[7]Cumulative Stats'!D103","v":38},{"$f":"'[7]Cumulative Stats'!E103","v":7.6},{"$f":"'[7]Cumulative Stats'!F103","v":12},{"$f":"'[7]Cumulative Stats'!G103","v":1}]
[null,null,null,null,null,null,null,null,null,{"$f":"'[10]Cumulative Stats'!A104","v":"Bradshaw"},"NYG",{"$f":"'[10]Cumulative Stats'!C104","v":5},{"$f":"'[10]Cumulative Stats'!D104","v":57},{"$f":"'[10]Cumulative Stats'!E104","v":11.4},{"$f":"'[10]Cumulative Stats'!F104","v":36},{"$f":"'[10]Cumulative Stats'!G104","v":0}]
[null,null,null,null,null,null,null,null,null,{"$f":"'[14]Cumulative Stats'!A104","v":"Minor"},"STL",{"$f":"'[14]Cumulative Stats'!C104","v":5},{"$f":"'[14]Cumulative Stats'!D104","v":34},{"$f":"'[14]Cumulative Stats'!E104","v":6.8},{"$f":"'[14]Cumulative Stats'!F104","v":12},{"$f":"'[14]Cumulative Stats'!G104","v":0}]
[null,null,null,null,null,null,null,null,null,{"$f":"'[2]Cumulative Stats'!A103","v":"Turner"},"ATL",{"$f":"'[2]Cumulative Stats'!C103","v":4},{"$f":"'[2]Cumulative Stats'!D103","v":13},{"$f":"'[2]Cumulative Stats'!E103","v":3.25},{"$f":"'[2]Cumulative Stats'!F103","v":8},{"$f":"'[2]Cumulative Stats'!G103","v":0}]
[null,null,null,null,null,null,null,null,null,{"$f":"'[3]Cumulative Stats'!A103","v":"Hoover"},"CAR",{"$f":"'[3]Cumulative Stats'!C103","v":4},{"$f":"'[3]Cumulative Stats'!D103","v":17},{"$f":"'[3]Cumulative Stats'!E103","v":4.25},{"$f":"'[3]Cumulative Stats'!F103","v":14},{"$f":"'[3]Cumulative Stats'!G103","v":0}]
[null,null,null,null,null,null,null,null,null,{"$f":"'[7]Cumulative Stats'!A104","v":"Hall"},"GBP",{"$f":"'[7]Cumulative Stats'!C104","v":4},{"$f":"'[7]Cumulative Stats'!D104","v":11},{"$f":"'[7]Cumulative Stats'!E104","v":2.75},{"$f":"'[7]Cumulative Stats'!F104","v":9},{"$f":"'[7]Cumulative Stats'!G104","v":0}]
[null,null,null,null,null,null,null,null,null,{"$f":"'[7]Cumulative Stats'!A105","v":"Kuhn"},"GBP",{"$f":"'[7]Cumulative Stats'!C105","v":4},{"$f":"'[7]Cumulative Stats'!D105","v":7},{"$f":"'[7]Cumulative Stats'!E105","v":1.75},{"$f":"'[7]Cumulative Stats'!F105","v":6},{"$f":"'[7]Cumulative Stats'!G105","v":0}]
[null,null,null,null,null,null,null,null,null,{"$f":"'[14]Cumulative Stats'!A105","v":"Becht"},"STL",{"$f":"'[14]Cumulative Stats'!C105","v":4},{"$f":"'[14]Cumulative Stats'!D105","v":35},{"$f":"'[14]Cumulative Stats'!E105","v":8.75},{"$f":"'[14]Cumulative Stats'!F105","v":22},{"$f":"'[14]Cumulative Stats'!G105","v":1}]
[null,null,null,null,null,null,null,null,null,{"$f":"'[15]Cumulative Stats'!A104","v":"Smith, C"},"TBB",{"$f":"'[15]Cumulative Stats'!C104","v":4},{"$f":"'[15]Cumulative Stats'!D104","v":34},{"$f":"'[15]Cumulative Stats'!E104","v":8.5},{"$f":"'[15]Cumulative Stats'!F104","v":22},{"$f":"'[15]Cumulative Stats'!G104","v":0}]
[null,null,null,null,null,null,null,null,null,{"$f":"'[11]Cumulative Stats'!A105","v":"Hunt"},"PHI",{"$f":"'[11]Cumulative Stats'!C105","v":4},{"$f":"'[11]Cumulative Stats'!D105","v":38},{"$f":"'[11]Cumulative Stats'!E105","v":9.5},{"$f":"'[11]Cumulative Stats'!F105","v":15},{"$f":"'[11]Cumulative Stats'!G105","v":0}]
[null,null,null,null,null,null,null,null,null,{"$f":"'[11]Cumulative Stats'!A106","v":"Schobel"},"PHI",{"$f":"'[11]Cumulative Stats'!C106","v":3},{"$f":"'[11]Cumulative Stats'!D106","v":5},{"$f":"'[11]Cumulative Stats'!E106","v":1.6666666666666667},{"$f":"'[11]Cumulative Stats'!F106","v":11},{"$f":"'[11]Cumulative Stats'!G106","v":0}]
[null,null,null,null,null,null,null,null,null,{"$f":"'[14]Cumulative Stats'!A106","v":"Stanley"},"STL",{"$f":"'[14]Cumulative Stats'!C106","v":3},{"$f":"'[14]Cumulative Stats'!D106","v":28},{"$f":"'[14]Cumulative Stats'!E106","v":9.3333333333333339},{"$f":"'[14]Cumulative Stats'!F106","v":12},{"$f":"'[14]Cumulative Stats'!G106","v":0}]
[null,null,null,null,null,null,null,null,null,{"$f":"'[12]Cumulative Stats'!A102","v":"McMullen"},"SEA",{"$f":"'[12]Cumulative Stats'!C102","v":3},{"$f":"'[12]Cumulative Stats'!D102","v":58},{"$f":"'[12]Cumulative Stats'!E102","v":19.333333333333332},{"$f":"'[12]Cumulative Stats'!F102","v":28},{"$f":"'[12]Cumulative Stats'!G102","v":0}]
[null,null,null,null,null,null,null,null,null,{"$f":"'[1]Cumulative Stats'!A105","v":"Tuman"},"ARI",{"$f":"'[1]Cumulative Stats'!C105","v":3},{"$f":"'[1]Cumulative Stats'!D105","v":33},{"$f":"'[1]Cumulative Stats'!E105","v":11},{"$f":"'[1]Cumulative Stats'!F105","v":24},{"$f":"'[1]Cumulative Stats'!G105","v":0}]
[null,null,null,null,null,null,null,null,null,{"$f":"'[1]Cumulative Stats'!A106","v":"Smith, T"},"ARI",{"$f":"'[1]Cumulative Stats'!C106","v":3},{"$f":"'[1]Cumulative Stats'!D106","v":30},{"$f":"'[1]Cumulative Stats'!E106","v":10},{"$f":"'[1]Cumulative Stats'!F106","v":16},{"$f":"'[1]Cumulative Stats'!G106","v":0}]
[null,null,null,null,null,null,null,null,null,{"$f":"'[13]Cumulative Stats'!A104","v":"Bajema"},"SFO",{"$f":"'[13]Cumulative Stats'!C104","v":3},{"$f":"'[13]Cumulative Stats'!D104","v":33},{"$f":"'[13]Cumulative Stats'!E104","v":11},{"$f":"'[13]Cumulative Stats'!F104","v":19},{"$f":"'[13]Cumulative Stats'!G104","v":1}]
[null,null,null,null,null,null,null,null,null,{"$f":"'[5]Cumulative Stats'!A103","v":"Jones, F"},"DAL",{"$f":"'[5]Cumulative Stats'!C103","v":3},{"$f":"'[5]Cumulative Stats'!D103","v":7},{"$f":"'[5]Cumulative Stats'!E103","v":2.3333333333333335},{"$f":"'[5]Cumulative Stats'!F103","v":9},{"$f":"'[5]Cumulative Stats'!G103","v":0}]
[null,null,null,null,null,null,null,null,null,{"$f":"'[10]Cumulative Stats'!A105","v":"Johnson, D"},"NYG",{"$f":"'[10]Cumulative Stats'!C105","v":2},{"$f":"'[10]Cumulative Stats'!D105","v":31},{"$f":"'[10]Cumulative Stats'!E105","v":15.5},{"$f":"'[10]Cumulative Stats'!F105","v":16},{"$f":"'[10]Cumulative Stats'!G105","v":0}]
[null,null,null,null,null,null,null,null,null,{"$f":"'[6]Cumulative Stats'!A107","v":"Middleton"},"DET",{"$f":"'[6]Cumulative Stats'!C107","v":2},{"$f":"'[6]Cumulative Stats'!D107","v":33},{"$f":"'[6]Cumulative Stats'!E107","v":16.5},{"$f":"'[6]Cumulative Stats'!F107","v":17},{"$f":"'[6]Cumulative Stats'!G107","v":0}]
[null,null,null,null,null,null,null,null,null,{"$f":"'[14]Cumulative Stats'!A107","v":"Fells"},"STL",{"$f":"'[14]Cumulative Stats'!C107","v":2},{"$f":"'[14]Cumulative Stats'!D107","v":25},{"$f":"'[14]Cumulative Stats'!E107","v":12.5},{"$f":"'[14]Cumulative Stats'!F107","v":14},{"$f":"'[14]Cumulative Stats'!G107","v":0}]
[null,null,null,null,null,null,null,null,null,{"$f":"'[8]Cumulative Stats'!A105","v":"Dugan"},"MIN",{"$f":"'[8]Cumulative Stats'!C105","v":2},{"$f":"'[8]Cumulative Stats'!D105","v":15},{"$f":"'[8]Cumulative Stats'!E105","v":7.5},{"$f":"'[8]Cumulative Stats'!F105","v":14},{"$f":"'[8]Cumulative Stats'!G105","v":0}]
[null,null,null,null,null,null,null,null,null,{"$f":"'[16]Cumulative Stats'!A103","v":"Davis"},"WAS",{"$f":"'[16]Cumulative Stats'!C103","v":2},{"$f":"'[16]Cumulative Stats'!D103","v":18},{"$f":"'[16]Cumulative Stats'!E103","v":9},{"$f":"'[16]Cumulative Stats'!F103","v":15},{"$f":"'[16]Cumulative Stats'!G103","v":0}]
[null,null,null,null,null,null,null,null,null,{"$f":"'[10]Cumulative Stats'!A106","v":"Matthews"},"NYG",{"$f":"'[10]Cumulative Stats'!C106","v":2},{"$f":"'[10]Cumulative Stats'!D106","v":22},{"$f":"'[10]Cumulative Stats'!E106","v":11},{"$f":"'[10]Cumulative Stats'!F106","v":12},{"$f":"'[10]Cumulative Stats'!G106","v":0}]
[null,null,null,null,null,null,null,null,null,{"$f":"'[15]Cumulative Stats'!A106","v":"Stovall"},"TBB",{"$f":"'[15]Cumulative Stats'!C106","v":2},{"$f":"'[15]Cumulative Stats'!D106","v":8},{"$f":"'[15]Cumulative Stats'!E106","v":4},{"$f":"'[15]Cumulative Stats'!F106","v":5},{"$f":"'[15]Cumulative Stats'!G106","v":0}]
[null,null,null,null,null,null,null,null,null,{"$f":"'[8]Cumulative Stats'!A104","v":"Ferguson"},"MIN",{"$f":"'[8]Cumulative Stats'!C104","v":2},{"$f":"'[8]Cumulative Stats'!D104","v":7},{"$f":"'[8]Cumulative Stats'!E104","v":3.5},{"$f":"'[8]Cumulative Stats'!F104","v":4},{"$f":"'[8]Cumulative Stats'!G104","v":0}]
[null,null,null,null,null,null,null,null,null,{"$f":"'[2]Cumulative Stats'!A104","v":"Hartsock"},"ATL",{"$f":"'[2]Cumulative Stats'!C104","v":2},{"$f":"'[2]Cumulative Stats'!D104","v":19},{"$f":"'[2]Cumulative Stats'!E104","v":9.5},{"$f":"'[2]Cumulative Stats'!F104","v":12},{"$f":"'[2]Cumulative Stats'!G104","v":0}]
[null,null,null,null,null,null,null,null,null,{"$f":"'[15]Cumulative Stats'!A105","v":"Williams"},"TBB",{"$f":"'[15]Cumulative Stats'!C105","v":2},{"$f":"'[15]Cumulative Stats'!D105","v":4},{"$f":"'[15]Cumulative Stats'!E105","v":2},{"$f":"'[15]Cumulative Stats'!F105","v":3},{"$f":"'[15]Cumulative Stats'!G105","v":0}]
[null,null,null,null,null,null,null,null,null,{"$f":"'[1]Cumulative Stats'!A107","v":"Spach"},"ARI",{"$f":"'[1]Cumulative Stats'!C107","v":2},{"$f":"'[1]Cumulative Stats'!D107","v":19},{"$f":"'[1]Cumulative Stats'!E107","v":9.5},{"$f":"'[1]Cumulative Stats'!F107","v":19},{"$f":"'[1]Cumulative Stats'!G107","v":0}]
[null,null,null,null,null,null,null,null,null,{"$f":"'[15]Cumulative Stats'!A107","v":"Cook"},"TBB",{"$f":"'[15]Cumulative Stats'!C107","v":2},{"$f":"'[15]Cumulative Stats'!D107","v":8},{"$f":"'[15]Cumulative Stats'!E107","v":4},{"$f":"'[15]Cumulative Stats'!F107","v":7},{"$f":"'[15]Cumulative Stats'!G107","v":0}]
[null,null,null,null,null,null,null,null,null,{"$f":"'[13]Cumulative Stats'!A105","v":"Zeigler"},"SFO",{"$f":"'[13]Cumulative Stats'!C105","v":2},{"$f":"'[13]Cumulative Stats'!D105","v":47},{"$f":"'[13]Cumulative Stats'!E105","v":23.5},{"$f":"'[13]Cumulative Stats'!F105","v":26},{"$f":"'[13]Cumulative Stats'!G105","v":0}]
[null,null,null,null,null,null,null,null,null,{"$f":"'[3]Cumulative Stats'!A104","v":"Jones"},"CAR",{"$f":"'[3]Cumulative Stats'!C104","v":2},{"$f":"'[3]Cumulative Stats'!D104","v":30},{"$f":"'[3]Cumulative Stats'!E104","v":15},{"$f":"'[3]Cumulative Stats'!F104","v":22},{"$f":"'[3]Cumulative Stats'!G104","v":0}]
[null,null,null,null,null,null,null,null,null,{"$f":"'[7]Cumulative Stats'!A106","v":"Wynn"},"GBP",{"$f":"'[7]Cumulative Stats'!C106","v":2},{"$f":"'[7]Cumulative Stats'!D106","v":8},{"$f":"'[7]Cumulative Stats'!E106","v":4},{"$f":"'[7]Cumulative Stats'!F106","v":4},{"$f":"'[7]Cumulative Stats'!G106","v":0}]
[null,null,null,null,null,null,null,null,null,{"$f":"'[12]Cumulative Stats'!A103","v":"Bumpus"},"SEA",{"$f":"'[12]Cumulative Stats'!C103","v":2},{"$f":"'[12]Cumulative Stats'!D103","v":9},{"$f":"'[12]Cumulative Stats'!E103","v":4.5},{"$f":"'[12]Cumulative Stats'!F103","v":6},{"$f":"'[12]Cumulative Stats'!G103","v":0}]
[null,null,null,null,null,null,null,null,null,{"$f":"'[16]Cumulative Stats'!A104","v":"Kendall"},"WAS",{"$f":"'[16]Cumulative Stats'!C104","v":2},{"$f":"'[16]Cumulative Stats'!D104","v":-5},{"$f":"'[16]Cumulative Stats'!E104","v":-2.5},{"$f":"'[16]Cumulative Stats'!F104","v":3},{"$f":"'[16]Cumulative Stats'!G104","v":1}]
[null,null,null,null,null,null,null,null,null,{"$f":"'[13]Cumulative Stats'!A106","v":"Keasey"},"SFO",{"$f":"'[13]Cumulative Stats'!C106","v":1},{"$f":"'[13]Cumulative Stats'!D106","v":-1},{"$f":"'[13]Cumulative Stats'!E106","v":-1},{"$f":"'[13]Cumulative Stats'!F106","v":0},{"$f":"'[13]Cumulative Stats'!G106","v":0}]
[null,null,null,null,null,null,null,null,null,{"$f":"'[11]Cumulative Stats'!A107","v":"Klecko"},"PHI",{"$f":"'[11]Cumulative Stats'!C107","v":1},{"$f":"'[11]Cumulative Stats'!D107","v":-3},{"$f":"'[11]Cumulative Stats'!E107","v":-3},{"$f":"'[11]Cumulative Stats'!F107","v":0},{"$f":"'[11]Cumulative Stats'!G107","v":0}]
[null,null,null,null,null,null,null,null,null,{"$f":"'[4]Cumulative Stats'!A103","v":"Jones"},"CHI",{"$f":"'[4]Cumulative Stats'!C103","v":1},{"$f":"'[4]Cumulative Stats'!D103","v":-5},{"$f":"'[4]Cumulative Stats'!E103","v":-5},{"$f":"'[4]Cumulative Stats'!F103","v":0},{"$f":"'[4]Cumulative Stats'!G103","v":0}]
[null,null,null,null,null,null,null,null,null,{"$f":"'[16]Cumulative Stats'!A106","v":"Cartwright"},"WAS",{"$f":"'[16]Cumulative Stats'!C106","v":1},{"$f":"'[16]Cumulative Stats'!D106","v":3},{"$f":"'[16]Cumulative Stats'!E106","v":3},{"$f":"'[16]Cumulative Stats'!F106","v":3},{"$f":"'[16]Cumulative Stats'!G106","v":0}]
[null,null,null,null,null,null,null,null,null,{"$f":"'[2]Cumulative Stats'!A105","v":"Rader"},"ATL",{"$f":"'[2]Cumulative Stats'!C105","v":1},{"$f":"'[2]Cumulative Stats'!D105","v":32},{"$f":"'[2]Cumulative Stats'!E105","v":32},{"$f":"'[2]Cumulative Stats'!F105","v":32},{"$f":"'[2]Cumulative Stats'!G105","v":0}]
[null,null,null,null,null,null,null,null,null,{"$f":"'[12]Cumulative Stats'!A104","v":"Schmitt, O"},"SEA",{"$f":"'[12]Cumulative Stats'!C104","v":1},{"$f":"'[12]Cumulative Stats'!D104","v":-2},{"$f":"'[12]Cumulative Stats'!E104","v":-2},{"$f":"'[12]Cumulative Stats'!F104","v":0},{"$f":"'[12]Cumulative Stats'!G104","v":0}]
[null,null,null,null,null,null,null,null,null,{"$f":"'[16]Cumulative Stats'!A105","v":"Alexander, S"},"WAS",{"$f":"'[16]Cumulative Stats'!C105","v":1},{"$f":"'[16]Cumulative Stats'!D105","v":15},{"$f":"'[16]Cumulative Stats'!E105","v":15},{"$f":"'[16]Cumulative Stats'!F105","v":15},{"$f":"'[16]Cumulative Stats'!G105","v":0}]
[null,null,null,null,null,null,null,null,null,{"$f":"'[11]Cumulative Stats'!A108","v":"Herremans"},"PHI",{"$f":"'[11]Cumulative Stats'!C108","v":1},{"$f":"'[11]Cumulative Stats'!D108","v":4},{"$f":"'[11]Cumulative Stats'!E108","v":4},{"$f":"'[11]Cumulative Stats'!F108","v":4},{"$f":"'[11]Cumulative Stats'!G108","v":0}]
[null,null,null,null,null,null,null,null,null,{"$f":"'[13]Cumulative Stats'!A107","v":"Ryan"},"SFO",{"$f":"'[13]Cumulative Stats'!C107","v":1},{"$f":"'[13]Cumulative Stats'!D107","v":-1},{"$f":"'[13]Cumulative Stats'!E107","v":-1},{"$f":"'[13]Cumulative Stats'!F107","v":0},{"$f":"'[13]Cumulative Stats'!G107","v":0}]
[null,null,null,null,null,null,null,null,null,{"$f":"'[15]Cumulative Stats'!A108","v":"Clark"},"TBB",{"$f":"'[15]Cumulative Stats'!C108","v":1},{"$f":"'[15]Cumulative Stats'!D108","v":7},{"$f":"'[15]Cumulative Stats'!E108","v":7},{"$f":"'[15]Cumulative Stats'!F108","v":7},{"$f":"'[15]Cumulative Stats'!G108","v":0}]

{"sheet":"Passing","index":3,"n_rows":61,"n_cols":19,"rows_kept":61,"cut":false,"hidden":false,"merged":[]}
["Games Played:",256,{"$f":"+B1/16","v":16},0.625]
["Passing:","Team","Att","Com","Com%","Gained","TD","Long","Int","TD%","Int%","Gain","Rating","Sacks",{"$f":"IF(C2>=$C$1*14,1,IF(C2+N2=0,-1,0))","v":1},{"$f":"IF(C2>=$D$1*$C$1,1,0)","v":1}]
[{"$f":"'[9]Cumulative Stats'!A116","v":"Brees"},"NOS",{"$f":"'[9]Cumulative Stats'!C116","v":647},{"$f":"'[9]Cumulative Stats'!D116","v":413},{"$f":"'[9]Cumulative Stats'!E116","v":63.833075734157653},{"$f":"'[9]Cumulative Stats'!F116","v":5058},{"$f":"'[9]Cumulative Stats'!G116","v":46},{"$f":"'[9]Cumulative Stats'!H116","v":79},{"$f":"'[9]Cumulative Stats'!I116","v":11},{"$f":"'[9]Cumulative Stats'!J116","v":7.1097372488408039},{"$f":"'[9]Cumulative Stats'!K116","v":1.7001545595054095},{"$f":"'[9]Cumulative Stats'!L116","v":7.8176197836166921},{"$f":"'[9]Cumulative Stats'!M116","v":104.46612570839773},{"$f":"'[9]Cumulative Stats'!N116","v":19},{"$f":"IF(C3>=$C$1*14,1,IF(C3+N3=0,-1,0))","v":1},{"$f":"IF(C3>=$D$1*$C$1,1,0)","v":1}]
[{"$f":"'[2]Cumulative Stats'!$A$116","v":"Ryan"},"ATL",{"$f":"'[2]Cumulative Stats'!C116","v":462},{"$f":"'[2]Cumulative Stats'!D116","v":277},{"$f":"'[2]Cumulative Stats'!E116","v":59.95670995670995},{"$f":"'[2]Cumulative Stats'!F116","v":3707},{"$f":"'[2]Cumulative Stats'!G116","v":26},{"$f":"'[2]Cumulative Stats'!H116","v":61},{"$f":"'[2]Cumulative Stats'!I116","v":8},{"$f":"'[2]Cumulative Stats'!J116","v":5.6277056277056277},{"$f":"'[2]Cumulative Stats'!K116","v":1.7316017316017316},{"$f":"'[2]Cumulative Stats'!L116","v":8.0238095238095237},{"$f":"'[2]Cumulative Stats'!M116","v":97.023809523809518},{"$f":"'[2]Cumulative Stats'!N116","v":24},1,1,"Leader based on rating points, minimum of 224 attempts"]
[{"$f":"'[1]Cumulative Stats'!A116","v":"Warner"},"ARI",{"$f":"'[1]Cumulative Stats'!C116","v":567},{"$f":"'[1]Cumulative Stats'!D116","v":376},{"$f":"'[1]Cumulative Stats'!E116","v":66.313932980599645},{"$f":"'[1]Cumulative Stats'!F116","v":4245},{"$f":"'[1]Cumulative Stats'!G116","v":25},{"$f":"'[1]Cumulative Stats'!H116","v":83},{"$f":"'[1]Cumulative Stats'!I116","v":12},{"$f":"'[1]Cumulative Stats'!J116","v":4.409171075837742},{"$f":"'[1]Cumulative Stats'!K116","v":2.1164021164021163},{"$f":"'[1]Cumulative Stats'!L116","v":7.4867724867724865},{"$f":"'[1]Cumulative Stats'!M116","v":94.418724279835374},{"$f":"'[1]Cumulative Stats'!N116","v":39},1,1]
[{"$f":"'[11]Cumulative Stats'!A116","v":"McNabb"},"PHI",{"$f":"'[11]Cumulative Stats'!C116","v":569},{"$f":"'[11]Cumulative Stats'!D116","v":352},{"$f":"'[11]Cumulative Stats'!E116","v":61.862917398945513},{"$f":"'[11]Cumulative Stats'!F116","v":3950},{"$f":"'[11]Cumulative Stats'!G116","v":27},{"$f":"'[11]Cumulative Stats'!H116","v":67},{"$f":"'[11]Cumulative Stats'!I116","v":12},{"$f":"'[11]Cumulative Stats'!J116","v":4.7451669595782073},{"$f":"'[11]Cumulative Stats'!K116","v":2.1089630931458698},{"$f":"'[11]Cumulative Stats'!L116","v":6.9420035149384889},{"$f":"'[11]Cumulative Stats'!M116","v":89.590656121851183},{"$f":"'[11]Cumulative Stats'!N116","v":30},1,1]
[{"$f":"'[5]Cumulative Stats'!A116","v":"Romo"},"DAL",{"$f":"'[5]Cumulative Stats'!C116","v":442},{"$f":"'[5]Cumulative Stats'!D116","v":256},{"$f":"'[5]Cumulative Stats'!E116","v":57.918552036199102},{"$f":"'[5]Cumulative Stats'!F116","v":3280},{"$f":"'[5]Cumulative Stats'!G116","v":27},{"$f":"'[5]Cumulative Stats'!H116","v":80},{"$f":"'[5]Cumulative Stats'!I116","v":14},{"$f":"'[5]Cumulative Stats'!J116","v":6.1085972850678729},{"$f":"'[5]Cumulative Stats'!K116","v":3.1674208144796379},{"$f":"'[5]Cumulative Stats'!L116","v":7.4208144796380093},{"$f":"'[5]Cumulative Stats'!M116","v":88.433257918552044},{"$f":"'[5]Cumulative Stats'!N116","v":19},1,1,null,null,{"$f":"224/16","v":14}]
[{"$f":"'[3]Cumulative Stats'!$A$116","v":"Delhomme"},"CAR",{"$f":"'[3]Cumulative Stats'!C116","v":470},{"$f":"'[3]Cumulative Stats'!D116","v":278},{"$f":"'[3]Cumulative Stats'!E116","v":59.148936170212764},{"$f":"'[3]Cumulative Stats'!F116","v":3680},{"$f":"'[3]Cumulative Stats'!G116","v":23},{"$f":"'[3]Cumulative Stats'!H116","v":60},{"$f":"'[3]Cumulative Stats'!I116","v":15},{"$f":"'[3]Cumulative Stats'!J116","v":4.8936170212765955},{"$f":"'[3]Cumulative Stats'!K116","v":3.1914893617021276},{"$f":"'[3]Cumulative Stats'!L116","v":7.8297872340425529},{"$f":"'[3]Cumulative Stats'!M116","v":87.012411347517727},{"$f":"'[3]Cumulative Stats'!N116","v":24},1,1]
[{"$f":"'[15]Cumulative Stats'!A116","v":"Garcia"},"TBB",{"$f":"'[15]Cumulative Stats'!C116","v":442},{"$f":"'[15]Cumulative Stats'!D116","v":281},{"$f":"'[15]Cumulative Stats'!E116","v":63.574660633484157},{"$f":"'[15]Cumulative Stats'!F116","v":2868},{"$f":"'[15]Cumulative Stats'!G116","v":14},{"$f":"'[15]Cumulative Stats'!H116","v":47},{"$f":"'[15]Cumulative Stats'!I116","v":7},{"$f":"'[15]Cumulative Stats'!J116","v":3.1674208144796379},{"$f":"'[15]Cumulative Stats'!K116","v":1.5837104072398189},{"$f":"'[15]Cumulative Stats'!L116","v":6.4886877828054299},{"$f":"'[15]Cumulative Stats'!M116","v":86.057692307692307},{"$f":"'[15]Cumulative Stats'!N116","v":36},1,1]
[{"$f":"'[12]Cumulative Stats'!A116","v":"Wallace, S"},"SEA",{"$f":"'[12]Cumulative Stats'!C116","v":264},{"$f":"'[12]Cumulative Stats'!D116","v":143},{"$f":"'[12]Cumulative Stats'!E116","v":54.166666666666664},{"$f":"'[12]Cumulative Stats'!F116","v":1529},{"$f":"'[12]Cumulative Stats'!G116","v":7},{"$f":"'[12]Cumulative Stats'!H116","v":62},{"$f":"'[12]Cumulative Stats'!I116","v":0},{"$f":"'[12]Cumulative Stats'!J116","v":2.6515151515151514},{"$f":"'[12]Cumulative Stats'!K116","v":0},{"$f":"'[12]Cumulative Stats'!L116","v":5.791666666666667},{"$f":"'[12]Cumulative Stats'!M116","v":80.192550505050505},{"$f":"'[12]Cumulative Stats'!N116","v":15},1,1]
[{"$f":"'[13]Cumulative Stats'!A116","v":"Hill, S"},"SFO",{"$f":"'[13]Cumulative Stats'!C116","v":285},{"$f":"'[13]Cumulative Stats'!D116","v":164},{"$f":"'[13]Cumulative Stats'!E116","v":57.543859649122808},{"$f":"'[13]Cumulative Stats'!F116","v":2121},{"$f":"'[13]Cumulative Stats'!G116","v":13},{"$f":"'[13]Cumulative Stats'!H116","v":79},{"$f":"'[13]Cumulative Stats'!I116","v":11},{"$f":"'[13]Cumulative Stats'!J116","v":4.5614035087719298},{"$f":"'[13]Cumulative Stats'!K116","v":3.8596491228070176},{"$f":"'[13]Cumulative Stats'!L116","v":7.4421052631578943},{"$f":"'[13]Cumulative Stats'!M116","v":80.168128654970772},{"$f":"'[13]Cumulative Stats'!N116","v":20},1,1]
[{"$f":"'[6]Cumulative Stats'!A116","v":"Orlovsky"},"DET",{"$f":"'[6]Cumulative Stats'!C116","v":278},{"$f":"'[6]Cumulative Stats'!D116","v":166},{"$f":"'[6]Cumulative Stats'!E116","v":59.712230215827333},{"$f":"'[6]Cumulative Stats'!F116","v":1784},{"$f":"'[6]Cumulative Stats'!G116","v":11},{"$f":"'[6]Cumulative Stats'!H116","v":52},{"$f":"'[6]Cumulative Stats'!I116","v":8},{"$f":"'[6]Cumulative Stats'!J116","v":3.9568345323741005},{"$f":"'[6]Cumulative Stats'!K116","v":2.877697841726619},{"$f":"'[6]Cumulative Stats'!L116","v":6.4172661870503598},{"$f":"'[6]Cumulative Stats'!M116","v":79.781175059952034},{"$f":"'[6]Cumulative Stats'!N116","v":15},1,1]
[{"$f":"'[16]Cumulative Stats'!A116","v":"Campbell, J"},"WAS",{"$f":"'[16]Cumulative Stats'!C116","v":490},{"$f":"'[16]Cumulative Stats'!D116","v":273},{"$f":"'[16]Cumulative Stats'!E116","v":55.714285714285715},{"$f":"'[16]Cumulative Stats'!F116","v":2803},{"$f":"'[16]Cumulative Stats'!G116","v":14},{"$f":"'[16]Cumulative Stats'!H116","v":48},{"$f":"'[16]Cumulative Stats'!I116","v":3},{"$f":"'[16]Cumulative Stats'!J116","v":2.8571428571428572},{"$f":"'[16]Cumulative Stats'!K116","v":0.61224489795918369},{"$f":"'[16]Cumulative Stats'!L116","v":5.7204081632653061},{"$f":"'[16]Cumulative Stats'!M116","v":79.319727891156461},{"$f":"'[16]Cumulative Stats'!N116","v":53},1,1]
[{"$f":"'[10]Cumulative Stats'!A116","v":"Manning"},"NYG",{"$f":"'[10]Cumulative Stats'!C116","v":518},{"$f":"'[10]Cumulative Stats'!D116","v":292},{"$f":"'[10]Cumulative Stats'!E116","v":56.37065637065637},{"$f":"'[10]Cumulative Stats'!F116","v":3107},{"$f":"'[10]Cumulative Stats'!G116","v":20},{"$f":"'[10]Cumulative Stats'!H116","v":75},{"$f":"'[10]Cumulative Stats'!I116","v":10},{"$f":"'[10]Cumulative Stats'!J116","v":3.8610038610038608},{"$f":"'[10]Cumulative Stats'!K116","v":1.9305019305019304},{"$f":"'[10]Cumulative Stats'!L116","v":5.9980694980694977},{"$f":"'[10]Cumulative Stats'!M116","v":78.877091377091389},{"$f":"'[10]Cumulative Stats'!N116","v":36},1,1]
[{"$f":"'[8]Cumulative Stats'!A116","v":"Frerotte"},"MIN",{"$f":"'[8]Cumulative Stats'!C116","v":303},{"$f":"'[8]Cumulative Stats'!D116","v":166},{"$f":"'[8]Cumulative Stats'!E116","v":54.78547854785478},{"$f":"'[8]Cumulative Stats'!F116","v":2134},{"$f":"'[8]Cumulative Stats'!G116","v":12},{"$f":"'[8]Cumulative Stats'!H116","v":52},{"$f":"'[8]Cumulative Stats'!I116","v":13},{"$f":"'[8]Cumulative Stats'!J116","v":3.9603960396039604},{"$f":"'[8]Cumulative Stats'!K116","v":4.2904290429042904},{"$f":"'[8]Cumulative Stats'!L116","v":7.0429042904290426},{"$f":"'[8]Cumulative Stats'!M116","v":72.407865786578654},{"$f":"'[8]Cumulative Stats'!N116","v":41},1,1]
[{"$f":"'[7]Cumulative Stats'!A116","v":"Rodgers"},"GBP",{"$f":"'[7]Cumulative Stats'!C116","v":529},{"$f":"'[7]Cumulative Stats'!D116","v":300},{"$f":"'[7]Cumulative Stats'!E116","v":56.710775047258977},{"$f":"'[7]Cumulative Stats'!F116","v":3371},{"$f":"'[7]Cumulative Stats'!G116","v":21},{"$f":"'[7]Cumulative Stats'!H116","v":92},{"$f":"'[7]Cumulative Stats'!I116","v":22},{"$f":"'[7]Cumulative Stats'!J116","v":3.9697542533081283},{"$f":"'[7]Cumulative Stats'!K116","v":4.1587901701323249},{"$f":"'[7]Cumulative Stats'!L116","v":6.3724007561436675},{"$f":"'[7]Cumulative Stats'!M116","v":71.79820415879017},{"$f":"'[7]Cumulative Stats'!N116","v":38},1,1]
[{"$f":"'[14]Cumulative Stats'!A116","v":"Bulger"},"STL",{"$f":"'[14]Cumulative Stats'!C116","v":449},{"$f":"'[14]Cumulative Stats'!D116","v":238},{"$f":"'[14]Cumulative Stats'!E116","v":53.006681514476618},{"$f":"'[14]Cumulative Stats'!F116","v":2554},{"$f":"'[14]Cumulative Stats'!G116","v":8},{"$f":"'[14]Cumulative Stats'!H116","v":62},{"$f":"'[14]Cumulative Stats'!I116","v":9},{"$f":"'[14]Cumulative Stats'!J116","v":1.7817371937639197},{"$f":"'[14]Cumulative Stats'!K116","v":2.0044543429844097},{"$f":"'[14]Cumulative Stats'!L116","v":5.6881959910913142},{"$f":"'[14]Cumulative Stats'!M116","v":67.543615441722352},{"$f":"'[14]Cumulative Stats'!N116","v":41},1,1]
[{"$f":"'[4]Cumulative Stats'!A116","v":"Orton"},"CHI",{"$f":"'[4]Cumulative Stats'!C116","v":463},{"$f":"'[4]Cumulative Stats'!D116","v":254},{"$f":"'[4]Cumulative Stats'!E116","v":54.85961123110151},{"$f":"'[4]Cumulative Stats'!F116","v":2627},{"$f":"'[4]Cumulative Stats'!G116","v":15},{"$f":"'[4]Cumulative Stats'!H116","v":90},{"$f":"'[4]Cumulative Stats'!I116","v":22},{"$f":"'[4]Cumulative Stats'!J116","v":3.2397408207343417},{"$f":"'[4]Cumulative Stats'!K116","v":4.7516198704103676},{"$f":"'[4]Cumulative Stats'!L116","v":5.6738660907127434},{"$f":"'[4]Cumulative Stats'!M116","v":62.441504679625631},{"$f":"'[4]Cumulative Stats'!N116","v":33},1,1]
[{"$f":"'[13]Cumulative Stats'!A117","v":"O'Sullivan"},"SFO",{"$f":"'[13]Cumulative Stats'!C117","v":228},{"$f":"'[13]Cumulative Stats'!D117","v":127},{"$f":"'[13]Cumulative Stats'!E117","v":55.701754385964911},{"$f":"'[13]Cumulative Stats'!F117","v":1490},{"$f":"'[13]Cumulative Stats'!G117","v":3},{"$f":"'[13]Cumulative Stats'!H117","v":46},{"$f":"'[13]Cumulative Stats'!I117","v":20},{"$f":"'[13]Cumulative Stats'!J117","v":1.3157894736842104},{"$f":"'[13]Cumulative Stats'!K117","v":8.7719298245614024},{"$f":"'[13]Cumulative Stats'!L117","v":6.5350877192982457},{"$f":"'[13]Cumulative Stats'!M117","v":43.567251461988313},{"$f":"'[13]Cumulative Stats'!N117","v":39},1,1]
[{"$f":"'[6]Cumulative Stats'!A119","v":"Stanton"},"DET",{"$f":"'[6]Cumulative Stats'!C119","v":18},{"$f":"'[6]Cumulative Stats'!D119","v":11},{"$f":"'[6]Cumulative Stats'!E119","v":61.111111111111114},{"$f":"'[6]Cumulative Stats'!F119","v":189},{"$f":"'[6]Cumulative Stats'!G119","v":1},{"$f":"'[6]Cumulative Stats'!H119","v":60},{"$f":"'[6]Cumulative Stats'!I119","v":0},{"$f":"'[6]Cumulative Stats'!J119","v":5.5555555555555554},{"$f":"'[6]Cumulative Stats'!K119","v":0},{"$f":"'[6]Cumulative Stats'!L119","v":10.5},{"$f":"'[6]Cumulative Stats'!M119","v":115.27777777777779},{"$f":"'[6]Cumulative Stats'!N119","v":6},0,1,"Non-Qualifiers"]
[{"$f":"'[10]Cumulative Stats'!A117","v":"Carr"},"NYG",{"$f":"'[10]Cumulative Stats'!C117","v":21},{"$f":"'[10]Cumulative Stats'!D117","v":14},{"$f":"'[10]Cumulative Stats'!E117","v":66.666666666666657},{"$f":"'[10]Cumulative Stats'!F117","v":125},{"$f":"'[10]Cumulative Stats'!G117","v":1},{"$f":"'[10]Cumulative Stats'!H117","v":14},{"$f":"'[10]Cumulative Stats'!I117","v":0},{"$f":"'[10]Cumulative Stats'!J117","v":4.7619047619047619},{"$f":"'[10]Cumulative Stats'!K117","v":0},{"$f":"'[10]Cumulative Stats'!L117","v":5.9523809523809526},{"$f":"'[10]Cumulative Stats'!M117","v":98.313492063492063},{"$f":"'[10]Cumulative Stats'!N117","v":2},0,1]
[{"$f":"'[5]Cumulative Stats'!A118","v":"Bollinger"},"DAL",{"$f":"'[5]Cumulative Stats'!C118","v":13},{"$f":"'[5]Cumulative Stats'!D118","v":11},{"$f":"'[5]Cumulative Stats'!E118","v":84.615384615384613},{"$f":"'[5]Cumulative Stats'!F118","v":67},{"$f":"'[5]Cumulative Stats'!G118","v":0},{"$f":"'[5]Cumulative Stats'!H118","v":19},{"$f":"'[5]Cumulative Stats'!I118","v":0},{"$f":"'[5]Cumulative Stats'!J118","v":0},{"$f":"'[5]Cumulative Stats'!K118","v":0},{"$f":"'[5]Cumulative Stats'!L118","v":5.1538461538461542},{"$f":"'[5]Cumulative Stats'!M118","v":88.141025641025635},{"$f":"'[5]Cumulative Stats'!N118","v":5},0,1]
[{"$f":"'[8]Cumulative Stats'!A117","v":"Jackson"},"MIN",{"$f":"'[8]Cumulative Stats'!C117","v":197},{"$f":"'[8]Cumulative Stats'!D117","v":105},{"$f":"'[8]Cumulative Stats'!E117","v":53.299492385786806},{"$f":"'[8]Cumulative Stats'!F117","v":1263},{"$f":"'[8]Cumulative Stats'!G117","v":11},{"$f":"'[8]Cumulative Stats'!H117","v":91},{"$f":"'[8]Cumulative Stats'!I117","v":2},{"$f":"'[8]Cumulative Stats'!J117","v":5.5837563451776653},{"$f":"'[8]Cumulative Stats'!K117","v":1.015228426395939},{"$f":"'[8]Cumulative Stats'!L117","v":6.4111675126903549},{"$f":"'[8]Cumulative Stats'!M117","v":87.595177664974628},{"$f":"'[8]Cumulative Stats'!N117","v":15},0,1]
[{"$f":"'[14]Cumulative Stats'!A117","v":"Green"},"STL",{"$f":"'[14]Cumulative Stats'!C117","v":64},{"$f":"'[14]Cumulative Stats'!D117","v":43},{"$f":"'[14]Cumulative Stats'!E117","v":67.1875},{"$f":"'[14]Cumulative Stats'!F117","v":470},{"$f":"'[14]Cumulative Stats'!G117","v":3},{"$f":"'[14]Cumulative Stats'!H117","v":28},{"$f":"'[14]Cumulative Stats'!I117","v":3},{"$f":"'[14]Cumulative Stats'!J117","v":4.6875},{"$f":"'[14]Cumulative Stats'!K117","v":4.6875},{"$f":"'[14]Cumulative Stats'!L117","v":7.34375},{"$f":"'[14]Cumulative Stats'!M117","v":84.765625},{"$f":"'[14]Cumulative Stats'!N117","v":2},0,1]
[{"$f":"'[15]Cumulative Stats'!A117","v":"Griese"},"TBB",{"$f":"'[15]Cumulative Stats'!C117","v":115},{"$f":"'[15]Cumulative Stats'!D117","v":63},{"$f":"'[15]Cumulative Stats'!E117","v":54.782608695652172},{"$f":"'[15]Cumulative Stats'!F117","v":709},{"$f":"'[15]Cumulative Stats'!G117","v":3},{"$f":"'[15]Cumulative Stats'!H117","v":35},{"$f":"'[15]Cumulative Stats'!I117","v":1},{"$f":"'[15]Cumulative Stats'!J117","v":2.6086956521739131},{"$f":"'[15]Cumulative Stats'!K117","v":0.86956521739130432},{"$f":"'[15]Cumulative Stats'!L117","v":6.1652173913043482},{"$f":"'[15]Cumulative Stats'!M117","v":78.496376811594203},{"$f":"'[15]Cumulative Stats'!N117","v":4},0,1]
[{"$f":"'[12]Cumulative Stats'!A118","v":"Frye"},"SEA",{"$f":"'[12]Cumulative Stats'!C118","v":23},{"$f":"'[12]Cumulative Stats'!D118","v":14},{"$f":"'[12]Cumulative Stats'!E118","v":60.869565217391312},{"$f":"'[12]Cumulative Stats'!F118","v":90},{"$f":"'[12]Cumulative Stats'!G118","v":0},{"$f":"'[12]Cumulative Stats'!H118","v":25},{"$f":"'[12]Cumulative Stats'!I118","v":0},{"$f":"'[12]Cumulative Stats'!J118","v":0},{"$f":"'[12]Cumulative Stats'!K118","v":0},{"$f":"'[12]Cumulative Stats'!L118","v":3.9130434782608696},{"$f":"'[12]Cumulative Stats'!M118","v":69.112318840579718},{"$f":"'[12]Cumulative Stats'!N118","v":1},0,1]
[{"$f":"'[6]Cumulative Stats'!A117","v":"Kitna"},"DET",{"$f":"'[6]Cumulative Stats'!C117","v":123},{"$f":"'[6]Cumulative Stats'!D117","v":65},{"$f":"'[6]Cumulative Stats'!E117","v":52.845528455284551},{"$f":"'[6]Cumulative Stats'!F117","v":702},{"$f":"'[6]Cumulative Stats'!G117","v":3},{"$f":"'[6]Cumulative Stats'!H117","v":75},{"$f":"'[6]Cumulative Stats'!I117","v":3},{"$f":"'[6]Cumulative Stats'!J117","v":2.4390243902439024},{"$f":"'[6]Cumulative Stats'!K117","v":2.4390243902439024},{"$f":"'[6]Cumulative Stats'!L117","v":5.7073170731707314},{"$f":"'[6]Cumulative Stats'!M117","v":67.869241192411934},{"$f":"'[6]Cumulative Stats'!N117","v":14},0,1]
[{"$f":"'[5]Cumulative Stats'!A117","v":"Johnson, B"},"DAL",{"$f":"'[5]Cumulative Stats'!C117","v":70},{"$f":"'[5]Cumulative Stats'!D117","v":47},{"$f":"'[5]Cumulative Stats'!E117","v":67.142857142857139},{"$f":"'[5]Cumulative Stats'!F117","v":415},{"$f":"'[5]Cumulative Stats'!G117","v":0},{"$f":"'[5]Cumulative Stats'!H117","v":23},{"$f":"'[5]Cumulative Stats'!I117","v":4},{"$f":"'[5]Cumulative Stats'!J117","v":0},{"$f":"'[5]Cumulative Stats'!K117","v":5.7142857142857144},{"$f":"'[5]Cumulative Stats'!L117","v":5.9285714285714288},{"$f":"'[5]Cumulative Stats'!M117","v":58.928571428571423},{"$f":"'[5]Cumulative Stats'!N117","v":12},0,1]
[{"$f":"'[6]Cumulative Stats'!A118","v":"Culpepper"},"DET",{"$f":"'[6]Cumulative Stats'!C118","v":116},{"$f":"'[6]Cumulative Stats'!D118","v":64},{"$f":"'[6]Cumulative Stats'!E118","v":55.172413793103445},{"$f":"'[6]Cumulative Stats'!F118","v":768},{"$f":"'[6]Cumulative Stats'!G118","v":2},{"$f":"'[6]Cumulative Stats'!H118","v":34},{"$f":"'[6]Cumulative Stats'!I118","v":8},{"$f":"'[6]Cumulative Stats'!J118","v":1.7241379310344827},{"$f":"'[6]Cumulative Stats'!K118","v":6.8965517241379306},{"$f":"'[6]Cumulative Stats'!L118","v":6.6206896551724137},{"$f":"'[6]Cumulative Stats'!M118","v":52.65804597701149},{"$f":"'[6]Cumulative Stats'!N118","v":11},0,1]
[{"$f":"'[1]Cumulative Stats'!A117","v":"Leinart"},"ARI",{"$f":"'[1]Cumulative Stats'!C117","v":24},{"$f":"'[1]Cumulative Stats'!D117","v":11},{"$f":"'[1]Cumulative Stats'!E117","v":45.833333333333329},{"$f":"'[1]Cumulative Stats'!F117","v":141},{"$f":"'[1]Cumulative Stats'!G117","v":0},{"$f":"'[1]Cumulative Stats'!H117","v":25},{"$f":"'[1]Cumulative Stats'!I117","v":1},{"$f":"'[1]Cumulative Stats'!J117","v":0},{"$f":"'[1]Cumulative Stats'!K117","v":4.1666666666666661},{"$f":"'[1]Cumulative Stats'!L117","v":5.875},{"$f":"'[1]Cumulative Stats'!M117","v":47.395833333333336},{"$f":"'[1]Cumulative Stats'!N117","v":1},0,1]
[{"$f":"'[12]Cumulative Stats'!A117","v":"Hasselbeck"},"SEA",{"$f":"'[12]Cumulative Stats'!C117","v":193},{"$f":"'[12]Cumulative Stats'!D117","v":88},{"$f":"'[12]Cumulative Stats'!E117","v":45.595854922279791},{"$f":"'[12]Cumulative Stats'!F117","v":847},{"$f":"'[12]Cumulative Stats'!G117","v":3},{"$f":"'[12]Cumulative Stats'!H117","v":28},{"$f":"'[12]Cumulative Stats'!I117","v":13},{"$f":"'[12]Cumulative Stats'!J117","v":1.5544041450777202},{"$f":"'[12]Cumulative Stats'!K117","v":6.7357512953367875},{"$f":"'[12]Cumulative Stats'!L117","v":4.3886010362694297},{"$f":"'[12]Cumulative Stats'!M117","v":35.481433506044901},{"$f":"'[12]Cumulative Stats'!N117","v":22},0,1]
[{"$f":"'[4]Cumulative Stats'!A117","v":"Grossman"},"CHI",{"$f":"'[4]Cumulative Stats'!C117","v":61},{"$f":"'[4]Cumulative Stats'!D117","v":26},{"$f":"'[4]Cumulative Stats'!E117","v":42.622950819672127},{"$f":"'[4]Cumulative Stats'!F117","v":219},{"$f":"'[4]Cumulative Stats'!G117","v":0},{"$f":"'[4]Cumulative Stats'!H117","v":28},{"$f":"'[4]Cumulative Stats'!I117","v":5},{"$f":"'[4]Cumulative Stats'!J117","v":0},{"$f":"'[4]Cumulative Stats'!K117","v":8.1967213114754092},{"$f":"'[4]Cumulative Stats'!L117","v":3.5901639344262297},{"$f":"'[4]Cumulative Stats'!M117","v":18.40846994535519},{"$f":"'[4]Cumulative Stats'!N117","v":4},0,1]
[{"$f":"'[11]Cumulative Stats'!A117","v":"Kolb"},"PHI",{"$f":"'[11]Cumulative Stats'!C117","v":20},{"$f":"'[11]Cumulative Stats'!D117","v":8},{"$f":"'[11]Cumulative Stats'!E117","v":40},{"$f":"'[11]Cumulative Stats'!F117","v":96},{"$f":"'[11]Cumulative Stats'!G117","v":0},{"$f":"'[11]Cumulative Stats'!H117","v":20},{"$f":"'[11]Cumulative Stats'!I117","v":2},{"$f":"'[11]Cumulative Stats'!J117","v":0},{"$f":"'[11]Cumulative Stats'!K117","v":10},{"$f":"'[11]Cumulative Stats'!L117","v":4.8},{"$f":"'[11]Cumulative Stats'!M117","v":15.833333333333334},{"$f":"'[11]Cumulative Stats'!N117","v":0},0,1]
[{"$f":"'[14]Cumulative Stats'!A118","v":"Looker"},"STL",{"$f":"'[14]Cumulative Stats'!C118","v":3},{"$f":"'[14]Cumulative Stats'!D118","v":1},{"$f":"'[14]Cumulative Stats'!E118","v":33.333333333333329},{"$f":"'[14]Cumulative Stats'!F118","v":25},{"$f":"'[14]Cumulative Stats'!G118","v":0},{"$f":"'[14]Cumulative Stats'!H118","v":25},{"$f":"'[14]Cumulative Stats'!I118","v":0},{"$f":"'[14]Cumulative Stats'!J118","v":0},{"$f":"'[14]Cumulative Stats'!K118","v":0},{"$f":"'[14]Cumulative Stats'!L118","v":8.3333333333333339},{"$f":"'[14]Cumulative Stats'!M118","v":64.583333333333329},{"$f":"'[14]Cumulative Stats'!N118","v":0},0,0,"Less than 10 attempts"]
[{"$f":"'[7]Cumulative Stats'!A117","v":"Flynn"},"GBP",{"$f":"'[7]Cumulative Stats'!C117","v":3},{"$f":"'[7]Cumulative Stats'!D117","v":1},{"$f":"'[7]Cumulative Stats'!E117","v":33.333333333333329},{"$f":"'[7]Cumulative Stats'!F117","v":10},{"$f":"'[7]Cumulative Stats'!G117","v":0},{"$f":"'[7]Cumulative Stats'!H117","v":10},{"$f":"'[7]Cumulative Stats'!I117","v":0},{"$f":"'[7]Cumulative Stats'!J117","v":0},{"$f":"'[7]Cumulative Stats'!K117","v":0},{"$f":"'[7]Cumulative Stats'!L117","v":3.3333333333333335},{"$f":"'[7]Cumulative Stats'!M117","v":43.75},{"$f":"'[7]Cumulative Stats'!N117","v":0},{"$f":"IF(C35>=$C$1*14,1,IF(C35+N35=0,-1,0))","v":0},{"$f":"IF(C35>=$D$1*$C$1,1,0)","v":0}]
[{"$f":"'[16]Cumulative Stats'!A117","v":"Randle El"},"WAS",{"$f":"'[16]Cumulative Stats'!C117","v":2},{"$f":"'[16]Cumulative Stats'!D117","v":2},{"$f":"'[16]Cumulative Stats'!E117","v":100},{"$f":"'[16]Cumulative Stats'!F117","v":75},{"$f":"'[16]Cumulative Stats'!G117","v":1},{"$f":"'[16]Cumulative Stats'!H117","v":47},{"$f":"'[16]Cumulative Stats'!I117","v":0},{"$f":"'[16]Cumulative Stats'!J117","v":50},{"$f":"'[16]Cumulative Stats'!K117","v":0},{"$f":"'[16]Cumulative Stats'!L117","v":37.5},{"$f":"'[16]Cumulative Stats'!M117","v":158.33333333333334},{"$f":"'[16]Cumulative Stats'!N117","v":0},0,0]
[{"$f":"'[1]Cumulative Stats'!A118","v":"Arrington"},"ARI",{"$f":"'[1]Cumulative Stats'!C118","v":1},{"$f":"'[1]Cumulative Stats'!D118","v":1},{"$f":"'[1]Cumulative Stats'!E118","v":100},{"$f":"'[1]Cumulative Stats'!F118","v":25},{"$f":"'[1]Cumulative Stats'!G118","v":0},{"$f":"'[1]Cumulative Stats'!H118","v":25},{"$f":"'[1]Cumulative Stats'!I118","v":0},{"$f":"'[1]Cumulative Stats'!J118","v":0},{"$f":"'[1]Cumulative Stats'!K118","v":0},{"$f":"'[1]Cumulative Stats'!L118","v":25},{"$f":"'[1]Cumulative Stats'!M118","v":118.75},{"$f":"'[1]Cumulative Stats'!N118","v":0},0,0]
[{"$f":"'[1]Cumulative Stats'!A119","v":"Johnson, D"},"ARI",{"$f":"'[1]Cumulative Stats'!C119","v":1},{"$f":"'[1]Cumulative Stats'!D119","v":1},{"$f":"'[1]Cumulative Stats'!E119","v":100},{"$f":"'[1]Cumulative Stats'!F119","v":28},{"$f":"'[1]Cumulative Stats'!G119","v":0},{"$f":"'[1]Cumulative Stats'!H119","v":28},{"$f":"'[1]Cumulative Stats'!I119","v":0},{"$f":"'[1]Cumulative Stats'!J119","v":0},{"$f":"'[1]Cumulative Stats'!K119","v":0},{"$f":"'[1]Cumulative Stats'!L119","v":28},{"$f":"'[1]Cumulative Stats'!M119","v":118.75},{"$f":"'[1]Cumulative Stats'!N119","v":0},0,0]
[{"$f":"'[8]Cumulative Stats'!A118","v":"Taylor"},"MIN",{"$f":"'[8]Cumulative Stats'!C118","v":1},{"$f":"'[8]Cumulative Stats'!D118","v":1},{"$f":"'[8]Cumulative Stats'!E118","v":100},{"$f":"'[8]Cumulative Stats'!F118","v":25},{"$f":"'[8]Cumulative Stats'!G118","v":0},{"$f":"'[8]Cumulative Stats'!H118","v":25},{"$f":"'[8]Cumulative Stats'!I118","v":0},{"$f":"'[8]Cumulative Stats'!J118","v":0},{"$f":"'[8]Cumulative Stats'!K118","v":0},{"$f":"'[8]Cumulative Stats'!L118","v":25},{"$f":"'[8]Cumulative Stats'!M118","v":118.75},{"$f":"'[8]Cumulative Stats'!N118","v":0},0,0]
[{"$f":"'[1]Cumulative Stats'!A120","v":"Urban"},"ARI",{"$f":"'[1]Cumulative Stats'!C120","v":1},{"$f":"'[1]Cumulative Stats'!D120","v":1},{"$f":"'[1]Cumulative Stats'!E120","v":100},{"$f":"'[1]Cumulative Stats'!F120","v":6},{"$f":"'[1]Cumulative Stats'!G120","v":0},{"$f":"'[1]Cumulative Stats'!H120","v":6},{"$f":"'[1]Cumulative Stats'!I120","v":0},{"$f":"'[1]Cumulative Stats'!J120","v":0},{"$f":"'[1]Cumulative Stats'!K120","v":0},{"$f":"'[1]Cumulative Stats'!L120","v":6},{"$f":"'[1]Cumulative Stats'!M120","v":91.666666666666671},{"$f":"'[1]Cumulative Stats'!N120","v":0},0,0]
[{"$f":"'[8]Cumulative Stats'!A119","v":"Rice"},"MIN",{"$f":"'[8]Cumulative Stats'!C119","v":1},{"$f":"'[8]Cumulative Stats'!D119","v":1},{"$f":"'[8]Cumulative Stats'!E119","v":100},{"$f":"'[8]Cumulative Stats'!F119","v":3},{"$f":"'[8]Cumulative Stats'!G119","v":0},{"$f":"'[8]Cumulative Stats'!H119","v":3},{"$f":"'[8]Cumulative Stats'!I119","v":0},{"$f":"'[8]Cumulative Stats'!J119","v":0},{"$f":"'[8]Cumulative Stats'!K119","v":0},{"$f":"'[8]Cumulative Stats'!L119","v":3},{"$f":"'[8]Cumulative Stats'!M119","v":79.166666666666671},{"$f":"'[8]Cumulative Stats'!N119","v":0},0,0]
[{"$f":"'[14]Cumulative Stats'!A119","v":"Hall, D"},"STL",{"$f":"'[14]Cumulative Stats'!C119","v":1},{"$f":"'[14]Cumulative Stats'!D119","v":0},{"$f":"'[14]Cumulative Stats'!E119","v":0},{"$f":"'[14]Cumulative Stats'!F119","v":0},{"$f":"'[14]Cumulative Stats'!G119","v":0},{"$f":"'[14]Cumulative Stats'!H119","v":0},{"$f":"'[14]Cumulative Stats'!I119","v":1},{"$f":"'[14]Cumulative Stats'!J119","v":0},{"$f":"'[14]Cumulative Stats'!K119","v":100},{"$f":"'[14]Cumulative Stats'!L119","v":0},{"$f":"'[14]Cumulative Stats'!M119","v":0},{"$f":"'[14]Cumulative Stats'!N119","v":0},0,0]
[{"$f":"'[11]Cumulative Stats'!A118","v":"Jackson, D"},"PHI",{"$f":"'[11]Cumulative Stats'!C118","v":1},{"$f":"'[11]Cumulative Stats'!D118","v":0},{"$f":"'[11]Cumulative Stats'!E118","v":0},{"$f":"'[11]Cumulative Stats'!F118","v":0},{"$f":"'[11]Cumulative Stats'!G118","v":0},{"$f":"'[11]Cumulative Stats'!H118","v":0},{"$f":"'[11]Cumulative Stats'!I118","v":1},{"$f":"'[11]Cumulative Stats'!J118","v":0},{"$f":"'[11]Cumulative Stats'!K118","v":100},{"$f":"'[11]Cumulative Stats'!L118","v":0},{"$f":"'[11]Cumulative Stats'!M118","v":0},{"$f":"'[11]Cumulative Stats'!N118","v":0},0,0]
[null,null,null,null,null,null,null,null,null,null,null,null,null,null,-1,0]
[null,null,null,null,null,null,null,null,null,null,null,null,null,null,-1,0]
[null,null,null,null,null,null,null,null,null,null,null,null,null,null,-1,0]
[null,null,null,null,null,null,null,null,null,null,null,null,null,null,-1,0]
[null,null,null,null,null,null,null,null,null,null,null,null,null,null,-1,0]
[null,null,null,null,null,null,null,null,null,null,null,null,null,null,-1,0]
[null,null,null,null,null,null,null,null,null,null,null,null,null,null,-1,0]
[null,null,null,null,null,null,null,null,null,null,null,null,null,null,-1,0]
[null,null,null,null,null,null,null,null,null,null,null,null,null,null,-1,0]
[null,null,null,null,null,null,null,null,null,null,null,null,null,null,-1,0]
[null,null,null,null,null,null,null,null,null,null,null,null,null,null,-1,0]
[null,null,null,null,null,null,null,null,null,null,null,null,null,null,-1,0]
[null,null,null,null,null,null,null,null,null,null,null,null,null,null,-1,0]
[null,null,null,null,null,null,null,null,null,null,null,null,null,null,-1,0]
[null,null,null,null,null,null,null,null,null,null,null,null,null,null,-1,0]
[null,null,null,null,null,null,null,null,null,null,null,null,null,null,-1,0]
[null,null,null,null,null,null,null,null,null,null,null,null,null,null,-1,0]
[null,null,null,null,null,null,null,null,null,null,null,null,null,null,-1,0]

{"sheet":"Punt Returns","index":4,"n_rows":57,"n_cols":13,"rows_kept":57,"cut":false,"hidden":false,"merged":[]}
["Punt Returns:","Team","No.","FC","Yrds","Avg.","Long","TD"]
[{"$f":"'[15]Cumulative Stats'!A125","v":"Smith, C"},"TBB",{"$f":"'[15]Cumulative Stats'!C125","v":23},{"$f":"'[15]Cumulative Stats'!D125","v":2},{"$f":"'[15]Cumulative Stats'!E125","v":420},{"$f":"'[15]Cumulative Stats'!F125","v":18.260869565217391},{"$f":"'[15]Cumulative Stats'!G125","v":79},{"$f":"'[15]Cumulative Stats'!H125","v":1},{"$f":"IF(C2>=Passing!$C$1*1.25,1,IF(C2+D2=0,-1,0))","v":1},{"$f":"IF(C2>0,1,0)","v":1}]
[{"$f":"'[5]Cumulative Stats'!A125","v":"Crayton"},"DAL",{"$f":"'[5]Cumulative Stats'!C125","v":26},{"$f":"'[5]Cumulative Stats'!D125","v":16},{"$f":"'[5]Cumulative Stats'!E125","v":357},{"$f":"'[5]Cumulative Stats'!F125","v":13.73076923076923},{"$f":"'[5]Cumulative Stats'!G125","v":35},{"$f":"'[5]Cumulative Stats'!H125","v":0},{"$f":"IF(C3>=Passing!$C$1*1.25,1,IF(C3+D3=0,-1,0))","v":1},{"$f":"IF(C3>0,1,0)","v":1}]
[{"$f":"'[7]Cumulative Stats'!A125","v":"Blackmon"},"GBP",{"$f":"'[7]Cumulative Stats'!C125","v":39},{"$f":"'[7]Cumulative Stats'!D125","v":9},{"$f":"'[7]Cumulative Stats'!E125","v":490},{"$f":"'[7]Cumulative Stats'!F125","v":12.564102564102564},{"$f":"'[7]Cumulative Stats'!G125","v":54},{"$f":"'[7]Cumulative Stats'!H125","v":2},{"$f":"IF(C4>=Passing!$C$1*1.25,1,IF(C4+D4=0,-1,0))","v":1},{"$f":"IF(C4>0,1,0)","v":1},null,null,"Leader based on average return, minimum 20 returns"]
[{"$f":"'[3]Cumulative Stats'!A125","v":"Jones"},"CAR",{"$f":"'[3]Cumulative Stats'!C125","v":37},{"$f":"'[3]Cumulative Stats'!D125","v":18},{"$f":"'[3]Cumulative Stats'!E125","v":437},{"$f":"'[3]Cumulative Stats'!F125","v":11.810810810810811},{"$f":"'[3]Cumulative Stats'!G125","v":54},{"$f":"'[3]Cumulative Stats'!H125","v":0},{"$f":"IF(C5>=Passing!$C$1*1.25,1,IF(C5+D5=0,-1,0))","v":1},{"$f":"IF(C5>0,1,0)","v":1}]
[{"$f":"'[2]Cumulative Stats'!A125","v":"Douglas"},"ATL",{"$f":"'[2]Cumulative Stats'!C125","v":30},{"$f":"'[2]Cumulative Stats'!D125","v":2},{"$f":"'[2]Cumulative Stats'!E125","v":333},{"$f":"'[2]Cumulative Stats'!F125","v":11.1},{"$f":"'[2]Cumulative Stats'!G125","v":30},{"$f":"'[2]Cumulative Stats'!H125","v":0},{"$f":"IF(C6>=Passing!$C$1*1.25,1,IF(C6+D6=0,-1,0))","v":1},{"$f":"IF(C6>0,1,0)","v":1},null,{"$f":"20/16","v":1.25}]
[{"$f":"'[11]Cumulative Stats'!A125","v":"Jackson, D"},"PHI",{"$f":"'[11]Cumulative Stats'!C125","v":63},{"$f":"'[11]Cumulative Stats'!D125","v":16},{"$f":"'[11]Cumulative Stats'!E125","v":674},{"$f":"'[11]Cumulative Stats'!F125","v":10.698412698412698},{"$f":"'[11]Cumulative Stats'!G125","v":74},{"$f":"'[11]Cumulative Stats'!H125","v":4},{"$f":"IF(C7>=Passing!$C$1*1.25,1,IF(C7+D7=0,-1,0))","v":1},{"$f":"IF(C7>0,1,0)","v":1}]
[{"$f":"'[10]Cumulative Stats'!A125","v":"Hixon"},"NYG",{"$f":"'[10]Cumulative Stats'!C125","v":36},{"$f":"'[10]Cumulative Stats'!D125","v":14},{"$f":"'[10]Cumulative Stats'!E125","v":376},{"$f":"'[10]Cumulative Stats'!F125","v":10.444444444444445},{"$f":"'[10]Cumulative Stats'!G125","v":54},{"$f":"'[10]Cumulative Stats'!H125","v":0},{"$f":"IF(C8>=Passing!$C$1*1.25,1,IF(C8+D8=0,-1,0))","v":1},{"$f":"IF(C8>0,1,0)","v":1}]
[{"$f":"'[9]Cumulative Stats'!A125","v":"Bush"},"NOS",{"$f":"'[9]Cumulative Stats'!C125","v":27},{"$f":"'[9]Cumulative Stats'!D125","v":4},{"$f":"'[9]Cumulative Stats'!E125","v":269},{"$f":"'[9]Cumulative Stats'!F125","v":9.9629629629629637},{"$f":"'[9]Cumulative Stats'!G125","v":83},{"$f":"'[9]Cumulative Stats'!H125","v":2},{"$f":"IF(C9>=Passing!$C$1*1.25,1,IF(C9+D9=0,-1,0))","v":1},{"$f":"IF(C9>0,1,0)","v":1}]
[{"$f":"'[12]Cumulative Stats'!A125","v":"Forsett"},"SEA",{"$f":"'[12]Cumulative Stats'!C125","v":22},{"$f":"'[12]Cumulative Stats'!D125","v":6},{"$f":"'[12]Cumulative Stats'!E125","v":190},{"$f":"'[12]Cumulative Stats'!F125","v":8.6363636363636367},{"$f":"'[12]Cumulative Stats'!G125","v":30},{"$f":"'[12]Cumulative Stats'!H125","v":0},{"$f":"IF(C10>=Passing!$C$1*1.25,1,IF(C10+D10=0,-1,0))","v":1},{"$f":"IF(C10>0,1,0)","v":1}]
[{"$f":"'[4]Cumulative Stats'!A125","v":"Hester"},"CHI",{"$f":"'[4]Cumulative Stats'!C125","v":43},{"$f":"'[4]Cumulative Stats'!D125","v":6},{"$f":"'[4]Cumulative Stats'!E125","v":350},{"$f":"'[4]Cumulative Stats'!F125","v":8.1395348837209305},{"$f":"'[4]Cumulative Stats'!G125","v":26},{"$f":"'[4]Cumulative Stats'!H125","v":0},{"$f":"IF(C11>=Passing!$C$1*1.25,1,IF(C11+D11=0,-1,0))","v":1},{"$f":"IF(C11>0,1,0)","v":1}]
[{"$f":"'[6]Cumulative Stats'!A125","v":"McDonald"},"DET",{"$f":"'[6]Cumulative Stats'!C125","v":21},{"$f":"'[6]Cumulative Stats'!D125","v":7},{"$f":"'[6]Cumulative Stats'!E125","v":170},{"$f":"'[6]Cumulative Stats'!F125","v":8.0952380952380949},{"$f":"'[6]Cumulative Stats'!G125","v":22},{"$f":"'[6]Cumulative Stats'!H125","v":0},{"$f":"IF(C12>=Passing!$C$1*1.25,1,IF(C12+D12=0,-1,0))","v":1},{"$f":"IF(C12>0,1,0)","v":1}]
[{"$f":"'[1]Cumulative Stats'!$A$125","v":"Breaston"},"ARI",{"$f":"'[1]Cumulative Stats'!C125","v":37},{"$f":"'[1]Cumulative Stats'!D125","v":10},{"$f":"'[1]Cumulative Stats'!E125","v":264},{"$f":"'[1]Cumulative Stats'!F125","v":7.1351351351351351},{"$f":"'[1]Cumulative Stats'!G125","v":26},{"$f":"'[1]Cumulative Stats'!H125","v":0},{"$f":"IF(C13>=Passing!$C$1*1.25,1,IF(C13+D13=0,-1,0))","v":1},{"$f":"IF(C13>0,1,0)","v":1}]
[{"$f":"'[16]Cumulative Stats'!A125","v":"Randle El"},"WAS",{"$f":"'[16]Cumulative Stats'!C125","v":22},{"$f":"'[16]Cumulative Stats'!D125","v":14},{"$f":"'[16]Cumulative Stats'!E125","v":143},{"$f":"'[16]Cumulative Stats'!F125","v":6.5},{"$f":"'[16]Cumulative Stats'!G125","v":35},{"$f":"'[16]Cumulative Stats'!H125","v":0},{"$f":"IF(C14>=Passing!$C$1*1.25,1,IF(C14+D14=0,-1,0))","v":1},{"$f":"IF(C14>0,1,0)","v":1}]
[{"$f":"'[2]Cumulative Stats'!A126","v":"Jennings"},"ATL",{"$f":"'[2]Cumulative Stats'!C126","v":25},{"$f":"'[2]Cumulative Stats'!D126","v":5},{"$f":"'[2]Cumulative Stats'!E126","v":156},{"$f":"'[2]Cumulative Stats'!F126","v":6.24},{"$f":"'[2]Cumulative Stats'!G126","v":22},{"$f":"'[2]Cumulative Stats'!H126","v":0},{"$f":"IF(C15>=Passing!$C$1*1.25,1,IF(C15+D15=0,-1,0))","v":1},{"$f":"IF(C15>0,1,0)","v":1}]
[{"$f":"'[5]Cumulative Stats'!A126","v":"Jones, A"},"DAL",{"$f":"'[5]Cumulative Stats'!C126","v":22},{"$f":"'[5]Cumulative Stats'!D126","v":0},{"$f":"'[5]Cumulative Stats'!E126","v":128},{"$f":"'[5]Cumulative Stats'!F126","v":5.8181818181818183},{"$f":"'[5]Cumulative Stats'!G126","v":18},{"$f":"'[5]Cumulative Stats'!H126","v":0},{"$f":"IF(C16>=Passing!$C$1*1.25,1,IF(C16+D16=0,-1,0))","v":1},{"$f":"IF(C16>0,1,0)","v":1}]
[{"$f":"'[15]Cumulative Stats'!A126","v":"Jackson, D"},"TBB",{"$f":"'[15]Cumulative Stats'!C126","v":22},{"$f":"'[15]Cumulative Stats'!D126","v":0},{"$f":"'[15]Cumulative Stats'!E126","v":109},{"$f":"'[15]Cumulative Stats'!F126","v":4.9545454545454541},{"$f":"'[15]Cumulative Stats'!G126","v":14},{"$f":"'[15]Cumulative Stats'!H126","v":0},{"$f":"IF(C17>=Passing!$C$1*1.25,1,IF(C17+D17=0,-1,0))","v":1},{"$f":"IF(C17>0,1,0)","v":1}]
[{"$f":"'[14]Cumulative Stats'!A125","v":"Stanley"},"STL",{"$f":"'[14]Cumulative Stats'!C125","v":19},{"$f":"'[14]Cumulative Stats'!D125","v":3},{"$f":"'[14]Cumulative Stats'!E125","v":122},{"$f":"'[14]Cumulative Stats'!F125","v":6.4210526315789478},{"$f":"'[14]Cumulative Stats'!G125","v":22},{"$f":"'[14]Cumulative Stats'!H125","v":0},{"$f":"IF(C18>=Passing!$C$1*1.25,1,IF(C18+D18=0,-1,0))","v":0},{"$f":"IF(C18>0,1,0)","v":1},"Non-Qualifiers"]
[{"$f":"'[9]Cumulative Stats'!A126","v":"Moore"},"NOS",{"$f":"'[9]Cumulative Stats'!C126","v":18},{"$f":"'[9]Cumulative Stats'!D126","v":14},{"$f":"'[9]Cumulative Stats'!E126","v":110},{"$f":"'[9]Cumulative Stats'!F126","v":6.1111111111111107},{"$f":"'[9]Cumulative Stats'!G126","v":23},{"$f":"'[9]Cumulative Stats'!H126","v":0},{"$f":"IF(C19>=Passing!$C$1*1.25,1,IF(C19+D19=0,-1,0))","v":0},{"$f":"IF(C19>0,1,0)","v":1}]
[{"$f":"'[8]Cumulative Stats'!A127","v":"Allison"},"MIN",{"$f":"'[8]Cumulative Stats'!C127","v":16},{"$f":"'[8]Cumulative Stats'!D127","v":4},{"$f":"'[8]Cumulative Stats'!E127","v":161},{"$f":"'[8]Cumulative Stats'!F127","v":10.0625},{"$f":"'[8]Cumulative Stats'!G127","v":27},{"$f":"'[8]Cumulative Stats'!H127","v":0},{"$f":"IF(C20>=Passing!$C$1*1.25,1,IF(C20+D20=0,-1,0))","v":0},{"$f":"IF(C20>0,1,0)","v":1}]
[{"$f":"'[8]Cumulative Stats'!A128","v":"Berrian"},"MIN",{"$f":"'[8]Cumulative Stats'!C128","v":16},{"$f":"'[8]Cumulative Stats'!D128","v":6},{"$f":"'[8]Cumulative Stats'!E128","v":129},{"$f":"'[8]Cumulative Stats'!F128","v":8.0625},{"$f":"'[8]Cumulative Stats'!G128","v":77},{"$f":"'[8]Cumulative Stats'!H128","v":0},{"$f":"IF(C21>=Passing!$C$1*1.25,1,IF(C21+D21=0,-1,0))","v":0},{"$f":"IF(C21>0,1,0)","v":1}]
[{"$f":"'[13]Cumulative Stats'!A125","v":"Clements"},"SFO",{"$f":"'[13]Cumulative Stats'!C125","v":16},{"$f":"'[13]Cumulative Stats'!D125","v":0},{"$f":"'[13]Cumulative Stats'!E125","v":93},{"$f":"'[13]Cumulative Stats'!F125","v":5.8125},{"$f":"'[13]Cumulative Stats'!G125","v":16},{"$f":"'[13]Cumulative Stats'!H125","v":0},{"$f":"IF(C22>=Passing!$C$1*1.25,1,IF(C22+D22=0,-1,0))","v":0},{"$f":"IF(C22>0,1,0)","v":1}]
[{"$f":"'[13]Cumulative Stats'!A126","v":"Rossum"},"SFO",{"$f":"'[13]Cumulative Stats'!C126","v":15},{"$f":"'[13]Cumulative Stats'!D126","v":6},{"$f":"'[13]Cumulative Stats'!E126","v":174},{"$f":"'[13]Cumulative Stats'!F126","v":11.6},{"$f":"'[13]Cumulative Stats'!G126","v":35},{"$f":"'[13]Cumulative Stats'!H126","v":0},{"$f":"IF(C23>=Passing!$C$1*1.25,1,IF(C23+D23=0,-1,0))","v":0},{"$f":"IF(C23>0,1,0)","v":1}]
[{"$f":"'[8]Cumulative Stats'!A126","v":"Gordon"},"MIN",{"$f":"'[8]Cumulative Stats'!C126","v":14},{"$f":"'[8]Cumulative Stats'!D126","v":7},{"$f":"'[8]Cumulative Stats'!E126","v":91},{"$f":"'[8]Cumulative Stats'!F126","v":6.5},{"$f":"'[8]Cumulative Stats'!G126","v":22},{"$f":"'[8]Cumulative Stats'!H126","v":0},{"$f":"IF(C24>=Passing!$C$1*1.25,1,IF(C24+D24=0,-1,0))","v":0},{"$f":"IF(C24>0,1,0)","v":1}]
[{"$f":"'[14]Cumulative Stats'!A126","v":"Hall, D"},"STL",{"$f":"'[14]Cumulative Stats'!C126","v":13},{"$f":"'[14]Cumulative Stats'!D126","v":1},{"$f":"'[14]Cumulative Stats'!E126","v":151},{"$f":"'[14]Cumulative Stats'!F126","v":11.615384615384615},{"$f":"'[14]Cumulative Stats'!G126","v":35},{"$f":"'[14]Cumulative Stats'!H126","v":0},{"$f":"IF(C25>=Passing!$C$1*1.25,1,IF(C25+D25=0,-1,0))","v":0},{"$f":"IF(C25>0,1,0)","v":1}]
[{"$f":"'[6]Cumulative Stats'!A126","v":"Cason"},"DET",{"$f":"'[6]Cumulative Stats'!C126","v":11},{"$f":"'[6]Cumulative Stats'!D126","v":0},{"$f":"'[6]Cumulative Stats'!E126","v":108},{"$f":"'[6]Cumulative Stats'!F126","v":9.8181818181818183},{"$f":"'[6]Cumulative Stats'!G126","v":14},{"$f":"'[6]Cumulative Stats'!H126","v":0},{"$f":"IF(C26>=Passing!$C$1*1.25,1,IF(C26+D26=0,-1,0))","v":0},{"$f":"IF(C26>0,1,0)","v":1}]
[{"$f":"'[4]Cumulative Stats'!A126","v":"Vasher"},"CHI",{"$f":"'[4]Cumulative Stats'!C126","v":11},{"$f":"'[4]Cumulative Stats'!D126","v":2},{"$f":"'[4]Cumulative Stats'!E126","v":95},{"$f":"'[4]Cumulative Stats'!F126","v":8.6363636363636367},{"$f":"'[4]Cumulative Stats'!G126","v":22},{"$f":"'[4]Cumulative Stats'!H126","v":0},{"$f":"IF(C27>=Passing!$C$1*1.25,1,IF(C27+D27=0,-1,0))","v":0},{"$f":"IF(C27>0,1,0)","v":1}]
[{"$f":"'[10]Cumulative Stats'!A126","v":"McQuarters"},"NYG",{"$f":"'[10]Cumulative Stats'!C126","v":11},{"$f":"'[10]Cumulative Stats'!D126","v":2},{"$f":"'[10]Cumulative Stats'!E126","v":88},{"$f":"'[10]Cumulative Stats'!F126","v":8},{"$f":"'[10]Cumulative Stats'!G126","v":14},{"$f":"'[10]Cumulative Stats'!H126","v":0},{"$f":"IF(C28>=Passing!$C$1*1.25,1,IF(C28+D28=0,-1,0))","v":0},{"$f":"IF(C28>0,1,0)","v":1}]
[{"$f":"'[14]Cumulative Stats'!A127","v":"Looker"},"STL",{"$f":"'[14]Cumulative Stats'!C127","v":9},{"$f":"'[14]Cumulative Stats'!D127","v":5},{"$f":"'[14]Cumulative Stats'!E127","v":52},{"$f":"'[14]Cumulative Stats'!F127","v":5.7777777777777777},{"$f":"'[14]Cumulative Stats'!G127","v":9},{"$f":"'[14]Cumulative Stats'!H127","v":0},{"$f":"IF(C29>=Passing!$C$1*1.25,1,IF(C29+D29=0,-1,0))","v":0},{"$f":"IF(C29>0,1,0)","v":1}]
[{"$f":"'[16]Cumulative Stats'!A126","v":"Moss"},"WAS",{"$f":"'[16]Cumulative Stats'!C126","v":8},{"$f":"'[16]Cumulative Stats'!D126","v":0},{"$f":"'[16]Cumulative Stats'!E126","v":82},{"$f":"'[16]Cumulative Stats'!F126","v":10.25},{"$f":"'[16]Cumulative Stats'!G126","v":26},{"$f":"'[16]Cumulative Stats'!H126","v":0},{"$f":"IF(C30>=Passing!$C$1*1.25,1,IF(C30+D30=0,-1,0))","v":0},{"$f":"IF(C30>0,1,0)","v":1}]
[{"$f":"'[8]Cumulative Stats'!A125","v":"Wade"},"MIN",{"$f":"'[8]Cumulative Stats'!C125","v":6},{"$f":"'[8]Cumulative Stats'!D125","v":4},{"$f":"'[8]Cumulative Stats'!E125","v":72},{"$f":"'[8]Cumulative Stats'!F125","v":12},{"$f":"'[8]Cumulative Stats'!G125","v":18},{"$f":"'[8]Cumulative Stats'!H125","v":0},{"$f":"IF(C31>=Passing!$C$1*1.25,1,IF(C31+D31=0,-1,0))","v":0},{"$f":"IF(C31>0,1,0)","v":1}]
[{"$f":"'[6]Cumulative Stats'!A127","v":"Furrey"},"DET",{"$f":"'[6]Cumulative Stats'!C127","v":6},{"$f":"'[6]Cumulative Stats'!D127","v":2},{"$f":"'[6]Cumulative Stats'!E127","v":30},{"$f":"'[6]Cumulative Stats'!F127","v":5},{"$f":"'[6]Cumulative Stats'!G127","v":6},{"$f":"'[6]Cumulative Stats'!H127","v":0},{"$f":"IF(C32>=Passing!$C$1*1.25,1,IF(C32+D32=0,-1,0))","v":0},{"$f":"IF(C32>0,1,0)","v":1}]
[{"$f":"'[13]Cumulative Stats'!A127","v":"Battle"},"SFO",{"$f":"'[13]Cumulative Stats'!C127","v":6},{"$f":"'[13]Cumulative Stats'!D127","v":1},{"$f":"'[13]Cumulative Stats'!E127","v":23},{"$f":"'[13]Cumulative Stats'!F127","v":3.8333333333333335},{"$f":"'[13]Cumulative Stats'!G127","v":17},{"$f":"'[13]Cumulative Stats'!H127","v":0},{"$f":"IF(C33>=Passing!$C$1*1.25,1,IF(C33+D33=0,-1,0))","v":0},{"$f":"IF(C33>0,1,0)","v":1}]
[{"$f":"'[12]Cumulative Stats'!A126","v":"Bumpus"},"SEA",{"$f":"'[12]Cumulative Stats'!C126","v":4},{"$f":"'[12]Cumulative Stats'!D126","v":4},{"$f":"'[12]Cumulative Stats'!E126","v":41},{"$f":"'[12]Cumulative Stats'!F126","v":10.25},{"$f":"'[12]Cumulative Stats'!G126","v":22},{"$f":"'[12]Cumulative Stats'!H126","v":0},{"$f":"IF(C34>=Passing!$C$1*1.25,1,IF(C34+D34=0,-1,0))","v":0},{"$f":"IF(C34>0,1,0)","v":1}]
[{"$f":"'[15]Cumulative Stats'!A127","v":"Hilliard"},"TBB",{"$f":"'[15]Cumulative Stats'!C127","v":4},{"$f":"'[15]Cumulative Stats'!D127","v":6},{"$f":"'[15]Cumulative Stats'!E127","v":26},{"$f":"'[15]Cumulative Stats'!F127","v":6.5},{"$f":"'[15]Cumulative Stats'!G127","v":11},{"$f":"'[15]Cumulative Stats'!H127","v":0},{"$f":"IF(C35>=Passing!$C$1*1.25,1,IF(C35+D35=0,-1,0))","v":0},{"$f":"IF(C35>0,1,0)","v":1}]
[{"$f":"'[10]Cumulative Stats'!A127","v":"Bradshaw"},"NYG",{"$f":"'[10]Cumulative Stats'!C127","v":2},{"$f":"'[10]Cumulative Stats'!D127","v":1},{"$f":"'[10]Cumulative Stats'!E127","v":12},{"$f":"'[10]Cumulative Stats'!F127","v":6},{"$f":"'[10]Cumulative Stats'!G127","v":7},{"$f":"'[10]Cumulative Stats'!H127","v":0},{"$f":"IF(C36>=Passing!$C$1*1.25,1,IF(C36+D36=0,-1,0))","v":0},{"$f":"IF(C36>0,1,0)","v":1}]
[{"$f":"'[12]Cumulative Stats'!A127","v":"Engram"},"SEA",{"$f":"'[12]Cumulative Stats'!C127","v":2},{"$f":"'[12]Cumulative Stats'!D127","v":1},{"$f":"'[12]Cumulative Stats'!E127","v":12},{"$f":"'[12]Cumulative Stats'!F127","v":6},{"$f":"'[12]Cumulative Stats'!G127","v":6},{"$f":"'[12]Cumulative Stats'!H127","v":0},{"$f":"IF(C37>=Passing!$C$1*1.25,1,IF(C37+D37=0,-1,0))","v":0},{"$f":"IF(C37>0,1,0)","v":1}]
[{"$f":"'[3]Cumulative Stats'!A126","v":"Wesley"},"CAR",{"$f":"'[3]Cumulative Stats'!C126","v":2},{"$f":"'[3]Cumulative Stats'!D126","v":0},{"$f":"'[3]Cumulative Stats'!E126","v":8},{"$f":"'[3]Cumulative Stats'!F126","v":4},{"$f":"'[3]Cumulative Stats'!G126","v":7},{"$f":"'[3]Cumulative Stats'!H126","v":0},{"$f":"IF(C38>=Passing!$C$1*1.25,1,IF(C38+D38=0,-1,0))","v":0},{"$f":"IF(C38>0,1,0)","v":1}]
[{"$f":"'[12]Cumulative Stats'!A128","v":"Wallace, S"},"SEA",{"$f":"'[12]Cumulative Stats'!C128","v":2},{"$f":"'[12]Cumulative Stats'!D128","v":0},{"$f":"'[12]Cumulative Stats'!E128","v":0},{"$f":"'[12]Cumulative Stats'!F128","v":0},{"$f":"'[12]Cumulative Stats'!G128","v":0},{"$f":"'[12]Cumulative Stats'!H128","v":0},{"$f":"IF(C39>=Passing!$C$1*1.25,1,IF(C39+D39=0,-1,0))","v":0},{"$f":"IF(C39>0,1,0)","v":1}]
[{"$f":"'[7]Cumulative Stats'!A126","v":"Bush"},"GBP",{"$f":"'[7]Cumulative Stats'!C126","v":2},{"$f":"'[7]Cumulative Stats'!D126","v":0},{"$f":"'[7]Cumulative Stats'!E126","v":-2},{"$f":"'[7]Cumulative Stats'!F126","v":-1},{"$f":"'[7]Cumulative Stats'!G126","v":-2},{"$f":"'[7]Cumulative Stats'!H126","v":0},{"$f":"IF(C40>=Passing!$C$1*1.25,1,IF(C40+D40=0,-1,0))","v":0},{"$f":"IF(C40>0,1,0)","v":1}]
[{"$f":"'[3]Cumulative Stats'!A128","v":"Smith, St"},"CAR",{"$f":"'[3]Cumulative Stats'!C128","v":1},{"$f":"'[3]Cumulative Stats'!D128","v":0},{"$f":"'[3]Cumulative Stats'!E128","v":11},{"$f":"'[3]Cumulative Stats'!F128","v":11},{"$f":"'[3]Cumulative Stats'!G128","v":11},{"$f":"'[3]Cumulative Stats'!H128","v":0},{"$f":"IF(C41>=Passing!$C$1*1.25,1,IF(C41+D41=0,-1,0))","v":0},{"$f":"IF(C41>0,1,0)","v":1}]
[{"$f":"'[10]Cumulative Stats'!A128","v":"Webster"},"NYG",{"$f":"'[10]Cumulative Stats'!C128","v":1},{"$f":"'[10]Cumulative Stats'!D128","v":0},{"$f":"'[10]Cumulative Stats'!E128","v":4},{"$f":"'[10]Cumulative Stats'!F128","v":4},{"$f":"'[10]Cumulative Stats'!G128","v":4},{"$f":"'[10]Cumulative Stats'!H128","v":0},{"$f":"IF(C42>=Passing!$C$1*1.25,1,IF(C42+D42=0,-1,0))","v":0},{"$f":"IF(C42>0,1,0)","v":1}]
[{"$f":"'[15]Cumulative Stats'!A128","v":"Talib"},"TBB",{"$f":"'[15]Cumulative Stats'!C128","v":1},{"$f":"'[15]Cumulative Stats'!D128","v":0},{"$f":"'[15]Cumulative Stats'!E128","v":1},{"$f":"'[15]Cumulative Stats'!F128","v":1},{"$f":"'[15]Cumulative Stats'!G128","v":1},{"$f":"'[15]Cumulative Stats'!H128","v":0},{"$f":"IF(C43>=Passing!$C$1*1.25,1,IF(C43+D43=0,-1,0))","v":0},{"$f":"IF(C43>0,1,0)","v":1}]
[{"$f":"'[11]Cumulative Stats'!A126","v":"Hanson"},"PHI",{"$f":"'[11]Cumulative Stats'!C126","v":1},{"$f":"'[11]Cumulative Stats'!D126","v":0},{"$f":"'[11]Cumulative Stats'!E126","v":0},{"$f":"'[11]Cumulative Stats'!F126","v":0},{"$f":"'[11]Cumulative Stats'!G126","v":0},{"$f":"'[11]Cumulative Stats'!H126","v":0},{"$f":"IF(C44>=Passing!$C$1*1.25,1,IF(C44+D44=0,-1,0))","v":0},{"$f":"IF(C44>0,1,0)","v":1}]
[{"$f":"'[13]Cumulative Stats'!A128","v":"Zeigler"},"SFO",{"$f":"'[13]Cumulative Stats'!C128","v":1},{"$f":"'[13]Cumulative Stats'!D128","v":1},{"$f":"'[13]Cumulative Stats'!E128","v":0},{"$f":"'[13]Cumulative Stats'!F128","v":0},{"$f":"'[13]Cumulative Stats'!G128","v":0},{"$f":"'[13]Cumulative Stats'!H128","v":0},{"$f":"IF(C45>=Passing!$C$1*1.25,1,IF(C45+D45=0,-1,0))","v":0},{"$f":"IF(C45>0,1,0)","v":1}]
[{"$f":"'[6]Cumulative Stats'!A128","v":"Jennings"},"DET",{"$f":"'[6]Cumulative Stats'!C128","v":1},{"$f":"'[6]Cumulative Stats'!D128","v":0},{"$f":"'[6]Cumulative Stats'!E128","v":0},{"$f":"'[6]Cumulative Stats'!F128","v":0},{"$f":"'[6]Cumulative Stats'!G128","v":0},{"$f":"'[6]Cumulative Stats'!H128","v":0},{"$f":"IF(C46>=Passing!$C$1*1.25,1,IF(C46+D46=0,-1,0))","v":0},{"$f":"IF(C46>0,1,0)","v":1}]
[{"$f":"'[3]Cumulative Stats'!A127","v":"Saley"},"CAR",{"$f":"'[3]Cumulative Stats'!C127","v":1},{"$f":"'[3]Cumulative Stats'!D127","v":0},{"$f":"'[3]Cumulative Stats'!E127","v":-1},{"$f":"'[3]Cumulative Stats'!F127","v":-1},{"$f":"'[3]Cumulative Stats'!G127","v":0},{"$f":"'[3]Cumulative Stats'!H127","v":0},{"$f":"IF(C47>=Passing!$C$1*1.25,1,IF(C47+D47=0,-1,0))","v":0},{"$f":"IF(C47>0,1,0)","v":1}]
[null,null,null,null,null,null,null,null,{"$f":"IF(C48>=Passing!$C$1*1.25,1,IF(C48+D48=0,-1,0))","v":-1},{"$f":"IF(C48>0,1,0)","v":0}]
[null,null,null,null,null,null,null,null,{"$f":"IF(C49>=Passing!$C$1*1.25,1,IF(C49+D49=0,-1,0))","v":-1},{"$f":"IF(C49>0,1,0)","v":0}]
[null,null,null,null,null,null,null,null,{"$f":"IF(C50>=Passing!$C$1*1.25,1,IF(C50+D50=0,-1,0))","v":-1},{"$f":"IF(C50>0,1,0)","v":0}]
[null,null,null,null,null,null,null,null,{"$f":"IF(C51>=Passing!$C$1*1.25,1,IF(C51+D51=0,-1,0))","v":-1},{"$f":"IF(C51>0,1,0)","v":0}]
[null,null,null,null,null,null,null,null,{"$f":"IF(C52>=Passing!$C$1*1.25,1,IF(C52+D52=0,-1,0))","v":-1},{"$f":"IF(C52>0,1,0)","v":0}]
[null,null,null,null,null,null,null,null,{"$f":"IF(C53>=Passing!$C$1*1.25,1,IF(C53+D53=0,-1,0))","v":-1},{"$f":"IF(C53>0,1,0)","v":0}]
[null,null,null,null,null,null,null,null,{"$f":"IF(C54>=Passing!$C$1*1.25,1,IF(C54+D54=0,-1,0))","v":-1},{"$f":"IF(C54>0,1,0)","v":0}]
[null,null,null,null,null,null,null,null,{"$f":"IF(C55>=Passing!$C$1*1.25,1,IF(C55+D55=0,-1,0))","v":-1},{"$f":"IF(C55>0,1,0)","v":0}]
[null,null,null,null,null,null,null,null,{"$f":"IF(C56>=Passing!$C$1*1.25,1,IF(C56+D56=0,-1,0))","v":-1},{"$f":"IF(C56>0,1,0)","v":0}]
[null,null,null,null,null,null,null,null,{"$f":"IF(C57>=Passing!$C$1*1.25,1,IF(C57+D57=0,-1,0))","v":-1},{"$f":"IF(C57>0,1,0)","v":0}]

{"sheet":"Kickoff Returns","index":5,"n_rows":119,"n_cols":11,"rows_kept":119,"cut":false,"hidden":false,"merged":[]}
["Kickoff Returns:","Team","No.","Yrds","Avg.","Long","TD"]
[{"$f":"'[2]Cumulative Stats'!A134","v":"Norwood"},"ATL",{"$f":"'[2]Cumulative Stats'!C134","v":59},{"$f":"'[2]Cumulative Stats'!D134","v":1740},{"$f":"'[2]Cumulative Stats'!E134","v":29.491525423728813},{"$f":"'[2]Cumulative Stats'!F134","v":88},{"$f":"'[2]Cumulative Stats'!G134","v":0},{"$f":"IF(C2>=Passing!$C$1*1.25,1,IF(C2=0,-1,0))","v":1}]
[{"$f":"'[4]Cumulative Stats'!A134","v":"Manning"},"CHI",{"$f":"'[4]Cumulative Stats'!C134","v":42},{"$f":"'[4]Cumulative Stats'!D134","v":1204},{"$f":"'[4]Cumulative Stats'!E134","v":28.666666666666668},{"$f":"'[4]Cumulative Stats'!F134","v":88},{"$f":"'[4]Cumulative Stats'!G134","v":1},{"$f":"IF(C3>=Passing!$C$1*1.25,1,IF(C3=0,-1,0))","v":1}]
[{"$f":"'[15]Cumulative Stats'!A134","v":"Smith, C"},"TBB",{"$f":"'[15]Cumulative Stats'!C134","v":44},{"$f":"'[15]Cumulative Stats'!D134","v":1258},{"$f":"'[15]Cumulative Stats'!E134","v":28.59090909090909},{"$f":"'[15]Cumulative Stats'!F134","v":103},{"$f":"'[15]Cumulative Stats'!G134","v":2},{"$f":"IF(C4>=Passing!$C$1*1.25,1,IF(C4=0,-1,0))","v":1},null,null,"Leader based on average return, minimum 20 returns"]
[{"$f":"'[11]Cumulative Stats'!A134","v":"Demps"},"PHI",{"$f":"'[11]Cumulative Stats'!C134","v":44},{"$f":"'[11]Cumulative Stats'!D134","v":1243},{"$f":"'[11]Cumulative Stats'!E134","v":28.25},{"$f":"'[11]Cumulative Stats'!F134","v":96},{"$f":"'[11]Cumulative Stats'!G134","v":4},{"$f":"IF(C5>=Passing!$C$1*1.25,1,IF(C5=0,-1,0))","v":1}]
[{"$f":"'[1]Cumulative Stats'!A135","v":"Arrington"},"ARI",{"$f":"'[1]Cumulative Stats'!C135","v":27},{"$f":"'[1]Cumulative Stats'!D135","v":761},{"$f":"'[1]Cumulative Stats'!E135","v":28.185185185185187},{"$f":"'[1]Cumulative Stats'!F135","v":92},{"$f":"'[1]Cumulative Stats'!G135","v":2},{"$f":"IF(C6>=Passing!$C$1*1.25,1,IF(C6=0,-1,0))","v":1},null,null,{"$f":"20/16","v":1.25}]
[{"$f":"'[14]Cumulative Stats'!A134","v":"Darby"},"STL",{"$f":"'[14]Cumulative Stats'!C134","v":24},{"$f":"'[14]Cumulative Stats'!D134","v":651},{"$f":"'[14]Cumulative Stats'!E134","v":27.125},{"$f":"'[14]Cumulative Stats'!F134","v":37},{"$f":"'[14]Cumulative Stats'!G134","v":0},{"$f":"IF(C7>=Passing!$C$1*1.25,1,IF(C7=0,-1,0))","v":1}]
[{"$f":"'[16]Cumulative Stats'!A134","v":"Cartwright"},"WAS",{"$f":"'[16]Cumulative Stats'!C134","v":66},{"$f":"'[16]Cumulative Stats'!D134","v":1674},{"$f":"'[16]Cumulative Stats'!E134","v":25.363636363636363},{"$f":"'[16]Cumulative Stats'!F134","v":88},{"$f":"'[16]Cumulative Stats'!G134","v":0},{"$f":"IF(C8>=Passing!$C$1*1.25,1,IF(C8=0,-1,0))","v":1}]
[{"$f":"'[12]Cumulative Stats'!A134","v":"Wilson"},"SEA",{"$f":"'[12]Cumulative Stats'!C134","v":88},{"$f":"'[12]Cumulative Stats'!D134","v":2173},{"$f":"'[12]Cumulative Stats'!E134","v":24.693181818181817},{"$f":"'[12]Cumulative Stats'!F134","v":60},{"$f":"'[12]Cumulative Stats'!G134","v":0},{"$f":"IF(C9>=Passing!$C$1*1.25,1,IF(C9=0,-1,0))","v":1}]
[{"$f":"'[14]Cumulative Stats'!A136","v":"Stanley"},"STL",{"$f":"'[14]Cumulative Stats'!C136","v":20},{"$f":"'[14]Cumulative Stats'!D136","v":479},{"$f":"'[14]Cumulative Stats'!E136","v":23.95},{"$f":"'[14]Cumulative Stats'!F136","v":37},{"$f":"'[14]Cumulative Stats'!G136","v":0},{"$f":"IF(C10>=Passing!$C$1*1.25,1,IF(C10=0,-1,0))","v":1}]
[{"$f":"'[13]Cumulative Stats'!A134","v":"Rossum"},"SFO",{"$f":"'[13]Cumulative Stats'!C134","v":38},{"$f":"'[13]Cumulative Stats'!D134","v":893},{"$f":"'[13]Cumulative Stats'!E134","v":23.5},{"$f":"'[13]Cumulative Stats'!F134","v":60},{"$f":"'[13]Cumulative Stats'!G134","v":0},{"$f":"IF(C11>=Passing!$C$1*1.25,1,IF(C11=0,-1,0))","v":1}]
[{"$f":"'[6]Cumulative Stats'!A135","v":"Cason"},"DET",{"$f":"'[6]Cumulative Stats'!C135","v":40},{"$f":"'[6]Cumulative Stats'!D135","v":915},{"$f":"'[6]Cumulative Stats'!E135","v":22.875},{"$f":"'[6]Cumulative Stats'!F135","v":47},{"$f":"'[6]Cumulative Stats'!G135","v":0},{"$f":"IF(C12>=Passing!$C$1*1.25,1,IF(C12=0,-1,0))","v":1}]
[{"$f":"'[3]Cumulative Stats'!A134","v":"Jones"},"CAR",{"$f":"'[3]Cumulative Stats'!C134","v":51},{"$f":"'[3]Cumulative Stats'!D134","v":1137},{"$f":"'[3]Cumulative Stats'!E134","v":22.294117647058822},{"$f":"'[3]Cumulative Stats'!F134","v":41},{"$f":"'[3]Cumulative Stats'!G134","v":0},{"$f":"IF(C13>=Passing!$C$1*1.25,1,IF(C13=0,-1,0))","v":1}]
[{"$f":"'[9]Cumulative Stats'!A134","v":"Thomas, P"},"NOS",{"$f":"'[9]Cumulative Stats'!C134","v":42},{"$f":"'[9]Cumulative Stats'!D134","v":935},{"$f":"'[9]Cumulative Stats'!E134","v":22.261904761904763},{"$f":"'[9]Cumulative Stats'!F134","v":47},{"$f":"'[9]Cumulative Stats'!G134","v":0},{"$f":"IF(C14>=Passing!$C$1*1.25,1,IF(C14=0,-1,0))","v":1}]
[{"$f":"'[6]Cumulative Stats'!A134","v":"Middleton"},"DET",{"$f":"'[6]Cumulative Stats'!C134","v":43},{"$f":"'[6]Cumulative Stats'!D134","v":921},{"$f":"'[6]Cumulative Stats'!E134","v":21.418604651162791},{"$f":"'[6]Cumulative Stats'!F134","v":41},{"$f":"'[6]Cumulative Stats'!G134","v":0},{"$f":"IF(C15>=Passing!$C$1*1.25,1,IF(C15=0,-1,0))","v":1}]
[{"$f":"'[8]Cumulative Stats'!A134","v":"Hicks, M"},"MIN",{"$f":"'[8]Cumulative Stats'!C134","v":31},{"$f":"'[8]Cumulative Stats'!D134","v":662},{"$f":"'[8]Cumulative Stats'!E134","v":21.35483870967742},{"$f":"'[8]Cumulative Stats'!F134","v":41},{"$f":"'[8]Cumulative Stats'!G134","v":0},{"$f":"IF(C16>=Passing!$C$1*1.25,1,IF(C16=0,-1,0))","v":1}]
[{"$f":"'[14]Cumulative Stats'!A135","v":"Hall, D"},"STL",{"$f":"'[14]Cumulative Stats'!C135","v":22},{"$f":"'[14]Cumulative Stats'!D135","v":465},{"$f":"'[14]Cumulative Stats'!E135","v":21.136363636363637},{"$f":"'[14]Cumulative Stats'!F135","v":37},{"$f":"'[14]Cumulative Stats'!G135","v":0},{"$f":"IF(C17>=Passing!$C$1*1.25,1,IF(C17=0,-1,0))","v":1}]
[{"$f":"'[7]Cumulative Stats'!A134","v":"Blackmon"},"GBP",{"$f":"'[7]Cumulative Stats'!C134","v":71},{"$f":"'[7]Cumulative Stats'!D134","v":1482},{"$f":"'[7]Cumulative Stats'!E134","v":20.87323943661972},{"$f":"'[7]Cumulative Stats'!F134","v":45},{"$f":"'[7]Cumulative Stats'!G134","v":0},{"$f":"IF(C18>=Passing!$C$1*1.25,1,IF(C18=0,-1,0))","v":1}]
[{"$f":"'[4]Cumulative Stats'!A135","v":"Hester"},"CHI",{"$f":"'[4]Cumulative Stats'!C135","v":23},{"$f":"'[4]Cumulative Stats'!D135","v":469},{"$f":"'[4]Cumulative Stats'!E135","v":20.391304347826086},{"$f":"'[4]Cumulative Stats'!F135","v":47},{"$f":"'[4]Cumulative Stats'!G135","v":0},{"$f":"IF(C19>=Passing!$C$1*1.25,1,IF(C19=0,-1,0))","v":1}]
[{"$f":"'[15]Cumulative Stats'!A135","v":"Jackson, D"},"TBB",{"$f":"'[15]Cumulative Stats'!C135","v":23},{"$f":"'[15]Cumulative Stats'!D135","v":468},{"$f":"'[15]Cumulative Stats'!E135","v":20.347826086956523},{"$f":"'[15]Cumulative Stats'!F135","v":45},{"$f":"'[15]Cumulative Stats'!G135","v":0},{"$f":"IF(C20>=Passing!$C$1*1.25,1,IF(C20=0,-1,0))","v":1}]
[{"$f":"'[10]Cumulative Stats'!A134","v":"Bradshaw"},"NYG",{"$f":"'[10]Cumulative Stats'!C134","v":35},{"$f":"'[10]Cumulative Stats'!D134","v":675},{"$f":"'[10]Cumulative Stats'!E134","v":19.285714285714285},{"$f":"'[10]Cumulative Stats'!F134","v":60},{"$f":"'[10]Cumulative Stats'!G134","v":0},{"$f":"IF(C21>=Passing!$C$1*1.25,1,IF(C21=0,-1,0))","v":1}]
[{"$f":"'[5]Cumulative Stats'!A134","v":"Austin"},"DAL",{"$f":"'[5]Cumulative Stats'!C134","v":41},{"$f":"'[5]Cumulative Stats'!D134","v":747},{"$f":"'[5]Cumulative Stats'!E134","v":18.219512195121951},{"$f":"'[5]Cumulative Stats'!F134","v":41},{"$f":"'[5]Cumulative Stats'!G134","v":0},{"$f":"IF(C22>=Passing!$C$1*1.25,1,IF(C22=0,-1,0))","v":1}]
[{"$f":"'[1]Cumulative Stats'!A134","v":"Breaston"},"ARI",{"$f":"'[1]Cumulative Stats'!C134","v":36},{"$f":"'[1]Cumulative Stats'!D134","v":650},{"$f":"'[1]Cumulative Stats'!E134","v":18.055555555555557},{"$f":"'[1]Cumulative Stats'!F134","v":41},{"$f":"'[1]Cumulative Stats'!G134","v":0},{"$f":"IF(C23>=Passing!$C$1*1.25,1,IF(C23=0,-1,0))","v":1},"Non-Qualifiers"]
[{"$f":"'[3]Cumulative Stats'!A135","v":"Stewart"},"CAR",{"$f":"'[3]Cumulative Stats'!C135","v":19},{"$f":"'[3]Cumulative Stats'!D135","v":449},{"$f":"'[3]Cumulative Stats'!E135","v":23.631578947368421},{"$f":"'[3]Cumulative Stats'!F135","v":37},{"$f":"'[3]Cumulative Stats'!G135","v":0},{"$f":"IF(C24>=Passing!$C$1*1.25,1,IF(C24=0,-1,0))","v":0}]
[{"$f":"'[8]Cumulative Stats'!A135","v":"Taylor"},"MIN",{"$f":"'[8]Cumulative Stats'!C135","v":19},{"$f":"'[8]Cumulative Stats'!D135","v":416},{"$f":"'[8]Cumulative Stats'!E135","v":21.894736842105264},{"$f":"'[8]Cumulative Stats'!F135","v":37},{"$f":"'[8]Cumulative Stats'!G135","v":0},{"$f":"IF(C25>=Passing!$C$1*1.25,1,IF(C25=0,-1,0))","v":0}]
[{"$f":"'[7]Cumulative Stats'!A135","v":"Nelson"},"GBP",{"$f":"'[7]Cumulative Stats'!C135","v":15},{"$f":"'[7]Cumulative Stats'!D135","v":304},{"$f":"'[7]Cumulative Stats'!E135","v":20.266666666666666},{"$f":"'[7]Cumulative Stats'!F135","v":47},{"$f":"'[7]Cumulative Stats'!G135","v":0},{"$f":"IF(C26>=Passing!$C$1*1.25,1,IF(C26=0,-1,0))","v":0}]
[{"$f":"'[13]Cumulative Stats'!A135","v":"Walker"},"SFO",{"$f":"'[13]Cumulative Stats'!C135","v":15},{"$f":"'[13]Cumulative Stats'!D135","v":250},{"$f":"'[13]Cumulative Stats'!E135","v":16.666666666666668},{"$f":"'[13]Cumulative Stats'!F135","v":21},{"$f":"'[13]Cumulative Stats'!G135","v":0},{"$f":"IF(C27>=Passing!$C$1*1.25,1,IF(C27=0,-1,0))","v":0}]
[{"$f":"'[5]Cumulative Stats'!A135","v":"Stanback"},"DAL",{"$f":"'[5]Cumulative Stats'!C135","v":14},{"$f":"'[5]Cumulative Stats'!D135","v":271},{"$f":"'[5]Cumulative Stats'!E135","v":19.357142857142858},{"$f":"'[5]Cumulative Stats'!F135","v":60},{"$f":"'[5]Cumulative Stats'!G135","v":0},{"$f":"IF(C28>=Passing!$C$1*1.25,1,IF(C28=0,-1,0))","v":0}]
[{"$f":"'[10]Cumulative Stats'!A135","v":"Moss"},"NYG",{"$f":"'[10]Cumulative Stats'!C135","v":12},{"$f":"'[10]Cumulative Stats'!D135","v":219},{"$f":"'[10]Cumulative Stats'!E135","v":18.25},{"$f":"'[10]Cumulative Stats'!F135","v":30},{"$f":"'[10]Cumulative Stats'!G135","v":0},{"$f":"IF(C29>=Passing!$C$1*1.25,1,IF(C29=0,-1,0))","v":0}]
[{"$f":"'[13]Cumulative Stats'!A136","v":"Robinson"},"SFO",{"$f":"'[13]Cumulative Stats'!C136","v":10},{"$f":"'[13]Cumulative Stats'!D136","v":238},{"$f":"'[13]Cumulative Stats'!E136","v":23.8},{"$f":"'[13]Cumulative Stats'!F136","v":57},{"$f":"'[13]Cumulative Stats'!G136","v":0},{"$f":"IF(C30>=Passing!$C$1*1.25,1,IF(C30=0,-1,0))","v":0}]
[{"$f":"'[4]Cumulative Stats'!A136","v":"Wolfe"},"CHI",{"$f":"'[4]Cumulative Stats'!C136","v":10},{"$f":"'[4]Cumulative Stats'!D136","v":192},{"$f":"'[4]Cumulative Stats'!E136","v":19.2},{"$f":"'[4]Cumulative Stats'!F136","v":33},{"$f":"'[4]Cumulative Stats'!G136","v":0},{"$f":"IF(C31>=Passing!$C$1*1.25,1,IF(C31=0,-1,0))","v":0}]
[{"$f":"'[9]Cumulative Stats'!A135","v":"Roby"},"NOS",{"$f":"'[9]Cumulative Stats'!C135","v":8},{"$f":"'[9]Cumulative Stats'!D135","v":219},{"$f":"'[9]Cumulative Stats'!E135","v":27.375},{"$f":"'[9]Cumulative Stats'!F135","v":60},{"$f":"'[9]Cumulative Stats'!G135","v":0},{"$f":"IF(C32>=Passing!$C$1*1.25,1,IF(C32=0,-1,0))","v":0}]
[{"$f":"'[9]Cumulative Stats'!A136","v":"Moore"},"NOS",{"$f":"'[9]Cumulative Stats'!C136","v":7},{"$f":"'[9]Cumulative Stats'!D136","v":205},{"$f":"'[9]Cumulative Stats'!E136","v":29.285714285714285},{"$f":"'[9]Cumulative Stats'!F136","v":41},{"$f":"'[9]Cumulative Stats'!G136","v":0},{"$f":"IF(C33>=Passing!$C$1*1.25,1,IF(C33=0,-1,0))","v":0}]
[{"$f":"'[8]Cumulative Stats'!A136","v":"Allison"},"MIN",{"$f":"'[8]Cumulative Stats'!C136","v":7},{"$f":"'[8]Cumulative Stats'!D136","v":120},{"$f":"'[8]Cumulative Stats'!E136","v":17.142857142857142},{"$f":"'[8]Cumulative Stats'!F136","v":23},{"$f":"'[8]Cumulative Stats'!G136","v":0},{"$f":"IF(C34>=Passing!$C$1*1.25,1,IF(C34=0,-1,0))","v":0}]
[{"$f":"'[10]Cumulative Stats'!A136","v":"Hixon"},"NYG",{"$f":"'[10]Cumulative Stats'!C136","v":6},{"$f":"'[10]Cumulative Stats'!D136","v":350},{"$f":"'[10]Cumulative Stats'!E136","v":58.333333333333336},{"$f":"'[10]Cumulative Stats'!F136","v":88},{"$f":"'[10]Cumulative Stats'!G136","v":0},{"$f":"IF(C35>=Passing!$C$1*1.25,1,IF(C35=0,-1,0))","v":0}]
[{"$f":"'[5]Cumulative Stats'!A136","v":"Jones, F"},"DAL",{"$f":"'[5]Cumulative Stats'!C136","v":6},{"$f":"'[5]Cumulative Stats'!D136","v":96},{"$f":"'[5]Cumulative Stats'!E136","v":16},{"$f":"'[5]Cumulative Stats'!F136","v":25},{"$f":"'[5]Cumulative Stats'!G136","v":0},{"$f":"IF(C36>=Passing!$C$1*1.25,1,IF(C36=0,-1,0))","v":0}]
[{"$f":"'[8]Cumulative Stats'!A137","v":"Gordon"},"MIN",{"$f":"'[8]Cumulative Stats'!C137","v":6},{"$f":"'[8]Cumulative Stats'!D137","v":197},{"$f":"'[8]Cumulative Stats'!E137","v":32.833333333333336},{"$f":"'[8]Cumulative Stats'!F137","v":47},{"$f":"'[8]Cumulative Stats'!G137","v":0},{"$f":"IF(C37>=Passing!$C$1*1.25,1,IF(C37=0,-1,0))","v":0}]
[{"$f":"'[5]Cumulative Stats'!A137","v":"Scandrick"},"DAL",{"$f":"'[5]Cumulative Stats'!C137","v":6},{"$f":"'[5]Cumulative Stats'!D137","v":109},{"$f":"'[5]Cumulative Stats'!E137","v":18.166666666666668},{"$f":"'[5]Cumulative Stats'!F137","v":27},{"$f":"'[5]Cumulative Stats'!G137","v":0},{"$f":"IF(C38>=Passing!$C$1*1.25,1,IF(C38=0,-1,0))","v":0}]
[{"$f":"'[13]Cumulative Stats'!A137","v":"Balmer"},"SFO",{"$f":"'[13]Cumulative Stats'!C137","v":6},{"$f":"'[13]Cumulative Stats'!D137","v":59},{"$f":"'[13]Cumulative Stats'!E137","v":9.8333333333333339},{"$f":"'[13]Cumulative Stats'!F137","v":14},{"$f":"'[13]Cumulative Stats'!G137","v":0},{"$f":"IF(C39>=Passing!$C$1*1.25,1,IF(C39=0,-1,0))","v":0}]
[{"$f":"'[6]Cumulative Stats'!A136","v":"Furrey"},"DET",{"$f":"'[6]Cumulative Stats'!C136","v":6},{"$f":"'[6]Cumulative Stats'!D136","v":89},{"$f":"'[6]Cumulative Stats'!E136","v":14.833333333333334},{"$f":"'[6]Cumulative Stats'!F136","v":16},{"$f":"'[6]Cumulative Stats'!G136","v":0},{"$f":"IF(C40>=Passing!$C$1*1.25,1,IF(C40=0,-1,0))","v":0}]
[{"$f":"'[5]Cumulative Stats'!A138","v":"Jones, A"},"DAL",{"$f":"'[5]Cumulative Stats'!C138","v":5},{"$f":"'[5]Cumulative Stats'!D138","v":69},{"$f":"'[5]Cumulative Stats'!E138","v":13.8},{"$f":"'[5]Cumulative Stats'!F138","v":18},{"$f":"'[5]Cumulative Stats'!G138","v":0},{"$f":"IF(C41>=Passing!$C$1*1.25,1,IF(C41=0,-1,0))","v":0}]
[{"$f":"'[15]Cumulative Stats'!A136","v":"Smith, A"},"TBB",{"$f":"'[15]Cumulative Stats'!C136","v":5},{"$f":"'[15]Cumulative Stats'!D136","v":41},{"$f":"'[15]Cumulative Stats'!E136","v":8.1999999999999993},{"$f":"'[15]Cumulative Stats'!F136","v":17},{"$f":"'[15]Cumulative Stats'!G136","v":0},{"$f":"IF(C42>=Passing!$C$1*1.25,1,IF(C42=0,-1,0))","v":0}]
[{"$f":"'[5]Cumulative Stats'!A139","v":"Curtis"},"DAL",{"$f":"'[5]Cumulative Stats'!C139","v":5},{"$f":"'[5]Cumulative Stats'!D139","v":35},{"$f":"'[5]Cumulative Stats'!E139","v":7},{"$f":"'[5]Cumulative Stats'!F139","v":16},{"$f":"'[5]Cumulative Stats'!G139","v":0},{"$f":"IF(C43>=Passing!$C$1*1.25,1,IF(C43=0,-1,0))","v":0}]
[{"$f":"'[11]Cumulative Stats'!A135","v":"Klecko"},"PHI",{"$f":"'[11]Cumulative Stats'!C135","v":4},{"$f":"'[11]Cumulative Stats'!D135","v":38},{"$f":"'[11]Cumulative Stats'!E135","v":9.5},{"$f":"'[11]Cumulative Stats'!F135","v":13},{"$f":"'[11]Cumulative Stats'!G135","v":0},{"$f":"IF(C44>=Passing!$C$1*1.25,1,IF(C44=0,-1,0))","v":0}]
[{"$f":"'[12]Cumulative Stats'!A135","v":"Forsett"},"SEA",{"$f":"'[12]Cumulative Stats'!C135","v":4},{"$f":"'[12]Cumulative Stats'!D135","v":86},{"$f":"'[12]Cumulative Stats'!E135","v":21.5},{"$f":"'[12]Cumulative Stats'!F135","v":33},{"$f":"'[12]Cumulative Stats'!G135","v":0},{"$f":"IF(C45>=Passing!$C$1*1.25,1,IF(C45=0,-1,0))","v":0}]
[{"$f":"'[7]Cumulative Stats'!A136","v":"Hunter"},"GBP",{"$f":"'[7]Cumulative Stats'!C136","v":4},{"$f":"'[7]Cumulative Stats'!D136","v":33},{"$f":"'[7]Cumulative Stats'!E136","v":8.25},{"$f":"'[7]Cumulative Stats'!F136","v":14},{"$f":"'[7]Cumulative Stats'!G136","v":0},{"$f":"IF(C46>=Passing!$C$1*1.25,1,IF(C46=0,-1,0))","v":0}]
[{"$f":"'[8]Cumulative Stats'!A138","v":"Kleinsasser"},"MIN",{"$f":"'[8]Cumulative Stats'!C138","v":4},{"$f":"'[8]Cumulative Stats'!D138","v":45},{"$f":"'[8]Cumulative Stats'!E138","v":11.25},{"$f":"'[8]Cumulative Stats'!F138","v":13},{"$f":"'[8]Cumulative Stats'!G138","v":0},{"$f":"IF(C47>=Passing!$C$1*1.25,1,IF(C47=0,-1,0))","v":0}]
[{"$f":"'[10]Cumulative Stats'!A137","v":"Johnson, D"},"NYG",{"$f":"'[10]Cumulative Stats'!C137","v":4},{"$f":"'[10]Cumulative Stats'!D137","v":22},{"$f":"'[10]Cumulative Stats'!E137","v":5.5},{"$f":"'[10]Cumulative Stats'!F137","v":17},{"$f":"'[10]Cumulative Stats'!G137","v":0},{"$f":"IF(C48>=Passing!$C$1*1.25,1,IF(C48=0,-1,0))","v":0}]
[{"$f":"'[9]Cumulative Stats'!A137","v":"Stecker"},"NOS",{"$f":"'[9]Cumulative Stats'!C137","v":4},{"$f":"'[9]Cumulative Stats'!D137","v":37},{"$f":"'[9]Cumulative Stats'!E137","v":9.25},{"$f":"'[9]Cumulative Stats'!F137","v":11},{"$f":"'[9]Cumulative Stats'!G137","v":0},{"$f":"IF(C49>=Passing!$C$1*1.25,1,IF(C49=0,-1,0))","v":0}]
[{"$f":"'[14]Cumulative Stats'!A138","v":"Avery"},"STL",{"$f":"'[14]Cumulative Stats'!C138","v":3},{"$f":"'[14]Cumulative Stats'!D138","v":65},{"$f":"'[14]Cumulative Stats'!E138","v":21.666666666666668},{"$f":"'[14]Cumulative Stats'!F138","v":23},{"$f":"'[14]Cumulative Stats'!G138","v":0},{"$f":"IF(C50>=Passing!$C$1*1.25,1,IF(C50=0,-1,0))","v":0}]
[{"$f":"'[14]Cumulative Stats'!A137","v":"Minor"},"STL",{"$f":"'[14]Cumulative Stats'!C137","v":3},{"$f":"'[14]Cumulative Stats'!D137","v":59},{"$f":"'[14]Cumulative Stats'!E137","v":19.666666666666668},{"$f":"'[14]Cumulative Stats'!F137","v":33},{"$f":"'[14]Cumulative Stats'!G137","v":0},{"$f":"IF(C51>=Passing!$C$1*1.25,1,IF(C51=0,-1,0))","v":0}]
[{"$f":"'[15]Cumulative Stats'!A137","v":"Clayton"},"TBB",{"$f":"'[15]Cumulative Stats'!C137","v":3},{"$f":"'[15]Cumulative Stats'!D137","v":46},{"$f":"'[15]Cumulative Stats'!E137","v":15.333333333333334},{"$f":"'[15]Cumulative Stats'!F137","v":17},{"$f":"'[15]Cumulative Stats'!G137","v":0},{"$f":"IF(C52>=Passing!$C$1*1.25,1,IF(C52=0,-1,0))","v":0}]
[{"$f":"'[5]Cumulative Stats'!A140","v":"Anderson"},"DAL",{"$f":"'[5]Cumulative Stats'!C140","v":3},{"$f":"'[5]Cumulative Stats'!D140","v":25},{"$f":"'[5]Cumulative Stats'!E140","v":8.3333333333333339},{"$f":"'[5]Cumulative Stats'!F140","v":11},{"$f":"'[5]Cumulative Stats'!G140","v":0},{"$f":"IF(C53>=Passing!$C$1*1.25,1,IF(C53=0,-1,0))","v":0}]
[{"$f":"'[6]Cumulative Stats'!A138","v":"Cody"},"DET",{"$f":"'[6]Cumulative Stats'!C138","v":3},{"$f":"'[6]Cumulative Stats'!D138","v":30},{"$f":"'[6]Cumulative Stats'!E138","v":10},{"$f":"'[6]Cumulative Stats'!F138","v":10},{"$f":"'[6]Cumulative Stats'!G138","v":0},{"$f":"IF(C54>=Passing!$C$1*1.25,1,IF(C54=0,-1,0))","v":0}]
[{"$f":"'[6]Cumulative Stats'!A137","v":"Fitzsimmons"},"DET",{"$f":"'[6]Cumulative Stats'!C137","v":3},{"$f":"'[6]Cumulative Stats'!D137","v":39},{"$f":"'[6]Cumulative Stats'!E137","v":13},{"$f":"'[6]Cumulative Stats'!F137","v":16},{"$f":"'[6]Cumulative Stats'!G137","v":0},{"$f":"IF(C55>=Passing!$C$1*1.25,1,IF(C55=0,-1,0))","v":0}]
[{"$f":"'[11]Cumulative Stats'!A136","v":"Jackson, D"},"PHI",{"$f":"'[11]Cumulative Stats'!C136","v":3},{"$f":"'[11]Cumulative Stats'!D136","v":62},{"$f":"'[11]Cumulative Stats'!E136","v":20.666666666666668},{"$f":"'[11]Cumulative Stats'!F136","v":27},{"$f":"'[11]Cumulative Stats'!G136","v":0},{"$f":"IF(C56>=Passing!$C$1*1.25,1,IF(C56=0,-1,0))","v":0}]
[{"$f":"'[9]Cumulative Stats'!A138","v":"Green"},"NOS",{"$f":"'[9]Cumulative Stats'!C138","v":3},{"$f":"'[9]Cumulative Stats'!D138","v":67},{"$f":"'[9]Cumulative Stats'!E138","v":22.333333333333332},{"$f":"'[9]Cumulative Stats'!F138","v":27},{"$f":"'[9]Cumulative Stats'!G138","v":0},{"$f":"IF(C57>=Passing!$C$1*1.25,1,IF(C57=0,-1,0))","v":0}]
[{"$f":"'[1]Cumulative Stats'!A136","v":"Morey"},"ARI",{"$f":"'[1]Cumulative Stats'!C136","v":3},{"$f":"'[1]Cumulative Stats'!D136","v":33},{"$f":"'[1]Cumulative Stats'!E136","v":11},{"$f":"'[1]Cumulative Stats'!F136","v":16},{"$f":"'[1]Cumulative Stats'!G136","v":0},{"$f":"IF(C58>=Passing!$C$1*1.25,1,IF(C58=0,-1,0))","v":0}]
[{"$f":"'[7]Cumulative Stats'!A137","v":"Woodson"},"GBP",{"$f":"'[7]Cumulative Stats'!C137","v":3},{"$f":"'[7]Cumulative Stats'!D137","v":10},{"$f":"'[7]Cumulative Stats'!E137","v":3.3333333333333335},{"$f":"'[7]Cumulative Stats'!F137","v":11},{"$f":"'[7]Cumulative Stats'!G137","v":0},{"$f":"IF(C59>=Passing!$C$1*1.25,1,IF(C59=0,-1,0))","v":0}]
[{"$f":"'[15]Cumulative Stats'!A138","v":"Clark"},"TBB",{"$f":"'[15]Cumulative Stats'!C138","v":3},{"$f":"'[15]Cumulative Stats'!D138","v":56},{"$f":"'[15]Cumulative Stats'!E138","v":18.666666666666668},{"$f":"'[15]Cumulative Stats'!F138","v":23},{"$f":"'[15]Cumulative Stats'!G138","v":0},{"$f":"IF(C60>=Passing!$C$1*1.25,1,IF(C60=0,-1,0))","v":0}]
[{"$f":"'[2]Cumulative Stats'!A135","v":"Douglas"},"ATL",{"$f":"'[2]Cumulative Stats'!C135","v":3},{"$f":"'[2]Cumulative Stats'!D135","v":17},{"$f":"'[2]Cumulative Stats'!E135","v":5.666666666666667},{"$f":"'[2]Cumulative Stats'!F135","v":10},{"$f":"'[2]Cumulative Stats'!G135","v":0},{"$f":"IF(C61>=Passing!$C$1*1.25,1,IF(C61=0,-1,0))","v":0}]
[{"$f":"'[2]Cumulative Stats'!A136","v":"Mughelli"},"ATL",{"$f":"'[2]Cumulative Stats'!C136","v":3},{"$f":"'[2]Cumulative Stats'!D136","v":48},{"$f":"'[2]Cumulative Stats'!E136","v":16},{"$f":"'[2]Cumulative Stats'!F136","v":16},{"$f":"'[2]Cumulative Stats'!G136","v":0},{"$f":"IF(C62>=Passing!$C$1*1.25,1,IF(C62=0,-1,0))","v":0}]
[{"$f":"'[14]Cumulative Stats'!A139","v":"Wade"},"STL",{"$f":"'[14]Cumulative Stats'!C139","v":3},{"$f":"'[14]Cumulative Stats'!D139","v":21},{"$f":"'[14]Cumulative Stats'!E139","v":7},{"$f":"'[14]Cumulative Stats'!F139","v":11},{"$f":"'[14]Cumulative Stats'!G139","v":0},{"$f":"IF(C63>=Passing!$C$1*1.25,1,IF(C63=0,-1,0))","v":0}]
[{"$f":"'[16]Cumulative Stats'!A135","v":"Sellers"},"WAS",{"$f":"'[16]Cumulative Stats'!C135","v":3},{"$f":"'[16]Cumulative Stats'!D135","v":43},{"$f":"'[16]Cumulative Stats'!E135","v":14.333333333333334},{"$f":"'[16]Cumulative Stats'!F135","v":16},{"$f":"'[16]Cumulative Stats'!G135","v":0},{"$f":"IF(C64>=Passing!$C$1*1.25,1,IF(C64=0,-1,0))","v":0}]
[{"$f":"'[8]Cumulative Stats'!A139","v":"Peterson"},"MIN",{"$f":"'[8]Cumulative Stats'!C139","v":2},{"$f":"'[8]Cumulative Stats'!D139","v":34},{"$f":"'[8]Cumulative Stats'!E139","v":17},{"$f":"'[8]Cumulative Stats'!F139","v":17},{"$f":"'[8]Cumulative Stats'!G139","v":0},{"$f":"IF(C65>=Passing!$C$1*1.25,1,IF(C65=0,-1,0))","v":0}]
[{"$f":"'[11]Cumulative Stats'!A138","v":"Avant"},"PHI",{"$f":"'[11]Cumulative Stats'!C138","v":2},{"$f":"'[11]Cumulative Stats'!D138","v":27},{"$f":"'[11]Cumulative Stats'!E138","v":13.5},{"$f":"'[11]Cumulative Stats'!F138","v":14},{"$f":"'[11]Cumulative Stats'!G138","v":0},{"$f":"IF(C66>=Passing!$C$1*1.25,1,IF(C66=0,-1,0))","v":0}]
[{"$f":"'[10]Cumulative Stats'!A139","v":"Ward"},"NYG",{"$f":"'[10]Cumulative Stats'!C139","v":2},{"$f":"'[10]Cumulative Stats'!D139","v":38},{"$f":"'[10]Cumulative Stats'!E139","v":19},{"$f":"'[10]Cumulative Stats'!F139","v":19},{"$f":"'[10]Cumulative Stats'!G139","v":0},{"$f":"IF(C67>=Passing!$C$1*1.25,1,IF(C67=0,-1,0))","v":0}]
[{"$f":"'[4]Cumulative Stats'!A137","v":"McKie"},"CHI",{"$f":"'[4]Cumulative Stats'!C137","v":2},{"$f":"'[4]Cumulative Stats'!D137","v":37},{"$f":"'[4]Cumulative Stats'!E137","v":18.5},{"$f":"'[4]Cumulative Stats'!F137","v":19},{"$f":"'[4]Cumulative Stats'!G137","v":0},{"$f":"IF(C68>=Passing!$C$1*1.25,1,IF(C68=0,-1,0))","v":0}]
[{"$f":"'[6]Cumulative Stats'!A139","v":"Smith, C"},"DET",{"$f":"'[6]Cumulative Stats'!C139","v":2},{"$f":"'[6]Cumulative Stats'!D139","v":34},{"$f":"'[6]Cumulative Stats'!E139","v":17},{"$f":"'[6]Cumulative Stats'!F139","v":17},{"$f":"'[6]Cumulative Stats'!G139","v":0},{"$f":"IF(C69>=Passing!$C$1*1.25,1,IF(C69=0,-1,0))","v":0}]
[{"$f":"'[2]Cumulative Stats'!A137","v":"Wilkerson"},"ATL",{"$f":"'[2]Cumulative Stats'!C137","v":2},{"$f":"'[2]Cumulative Stats'!D137","v":21},{"$f":"'[2]Cumulative Stats'!E137","v":10.5},{"$f":"'[2]Cumulative Stats'!F137","v":11},{"$f":"'[2]Cumulative Stats'!G137","v":0},{"$f":"IF(C70>=Passing!$C$1*1.25,1,IF(C70=0,-1,0))","v":0}]
[{"$f":"'[11]Cumulative Stats'!A137","v":"Lewis"},"PHI",{"$f":"'[11]Cumulative Stats'!C137","v":2},{"$f":"'[11]Cumulative Stats'!D137","v":39},{"$f":"'[11]Cumulative Stats'!E137","v":19.5},{"$f":"'[11]Cumulative Stats'!F137","v":30},{"$f":"'[11]Cumulative Stats'!G137","v":0},{"$f":"IF(C71>=Passing!$C$1*1.25,1,IF(C71=0,-1,0))","v":0}]
[{"$f":"'[11]Cumulative Stats'!A139","v":"Abiamiri"},"PHI",{"$f":"'[11]Cumulative Stats'!C139","v":2},{"$f":"'[11]Cumulative Stats'!D139","v":8},{"$f":"'[11]Cumulative Stats'!E139","v":4},{"$f":"'[11]Cumulative Stats'!F139","v":7},{"$f":"'[11]Cumulative Stats'!G139","v":0},{"$f":"IF(C72>=Passing!$C$1*1.25,1,IF(C72=0,-1,0))","v":0}]
[{"$f":"'[3]Cumulative Stats'!A136","v":"Hoover"},"CAR",{"$f":"'[3]Cumulative Stats'!C136","v":2},{"$f":"'[3]Cumulative Stats'!D136","v":25},{"$f":"'[3]Cumulative Stats'!E136","v":12.5},{"$f":"'[3]Cumulative Stats'!F136","v":13},{"$f":"'[3]Cumulative Stats'!G136","v":0},{"$f":"IF(C73>=Passing!$C$1*1.25,1,IF(C73=0,-1,0))","v":0}]
[{"$f":"'[5]Cumulative Stats'!A141","v":"Spencer"},"DAL",{"$f":"'[5]Cumulative Stats'!C141","v":2},{"$f":"'[5]Cumulative Stats'!D141","v":35},{"$f":"'[5]Cumulative Stats'!E141","v":17.5},{"$f":"'[5]Cumulative Stats'!F141","v":18},{"$f":"'[5]Cumulative Stats'!G141","v":0},{"$f":"IF(C74>=Passing!$C$1*1.25,1,IF(C74=0,-1,0))","v":0}]
[{"$f":"'[12]Cumulative Stats'!A136","v":"Duckett"},"SEA",{"$f":"'[12]Cumulative Stats'!C136","v":1},{"$f":"'[12]Cumulative Stats'!D136","v":25},{"$f":"'[12]Cumulative Stats'!E136","v":25},{"$f":"'[12]Cumulative Stats'!F136","v":25},{"$f":"'[12]Cumulative Stats'!G136","v":0},{"$f":"IF(C75>=Passing!$C$1*1.25,1,IF(C75=0,-1,0))","v":0}]
[{"$f":"'[1]Cumulative Stats'!A137","v":"Campbell"},"ARI",{"$f":"'[1]Cumulative Stats'!C137","v":1},{"$f":"'[1]Cumulative Stats'!D137","v":20},{"$f":"'[1]Cumulative Stats'!E137","v":20},{"$f":"'[1]Cumulative Stats'!F137","v":20},{"$f":"'[1]Cumulative Stats'!G137","v":0},{"$f":"IF(C76>=Passing!$C$1*1.25,1,IF(C76=0,-1,0))","v":0}]
[{"$f":"'[8]Cumulative Stats'!A140","v":"Tahi"},"MIN",{"$f":"'[8]Cumulative Stats'!C140","v":1},{"$f":"'[8]Cumulative Stats'!D140","v":19},{"$f":"'[8]Cumulative Stats'!E140","v":19},{"$f":"'[8]Cumulative Stats'!F140","v":19},{"$f":"'[8]Cumulative Stats'!G140","v":0},{"$f":"IF(C77>=Passing!$C$1*1.25,1,IF(C77=0,-1,0))","v":0}]
[{"$f":"'[13]Cumulative Stats'!A139","v":"Ryan"},"SFO",{"$f":"'[13]Cumulative Stats'!C139","v":1},{"$f":"'[13]Cumulative Stats'!D139","v":15},{"$f":"'[13]Cumulative Stats'!E139","v":15},{"$f":"'[13]Cumulative Stats'!F139","v":15},{"$f":"'[13]Cumulative Stats'!G139","v":0},{"$f":"IF(C78>=Passing!$C$1*1.25,1,IF(C78=0,-1,0))","v":0}]
[{"$f":"'[3]Cumulative Stats'!A137","v":"Bridges"},"CAR",{"$f":"'[3]Cumulative Stats'!C137","v":1},{"$f":"'[3]Cumulative Stats'!D137","v":14},{"$f":"'[3]Cumulative Stats'!E137","v":14},{"$f":"'[3]Cumulative Stats'!F137","v":14},{"$f":"'[3]Cumulative Stats'!G137","v":0},{"$f":"IF(C79>=Passing!$C$1*1.25,1,IF(C79=0,-1,0))","v":0}]
[{"$f":"'[4]Cumulative Stats'!A140","v":"Davis, R"},"CHI",{"$f":"'[4]Cumulative Stats'!C140","v":1},{"$f":"'[4]Cumulative Stats'!D140","v":13},{"$f":"'[4]Cumulative Stats'!E140","v":13},{"$f":"'[4]Cumulative Stats'!F140","v":13},{"$f":"'[4]Cumulative Stats'!G140","v":0},{"$f":"IF(C80>=Passing!$C$1*1.25,1,IF(C80=0,-1,0))","v":0}]
[{"$f":"'[14]Cumulative Stats'!A140","v":"Looker"},"STL",{"$f":"'[14]Cumulative Stats'!C140","v":1},{"$f":"'[14]Cumulative Stats'!D140","v":10},{"$f":"'[14]Cumulative Stats'!E140","v":10},{"$f":"'[14]Cumulative Stats'!F140","v":10},{"$f":"'[14]Cumulative Stats'!G140","v":0},{"$f":"IF(C81>=Passing!$C$1*1.25,1,IF(C81=0,-1,0))","v":0}]
[{"$f":"'[11]Cumulative Stats'!A140","v":"Buckhalter"},"PHI",{"$f":"'[11]Cumulative Stats'!C140","v":1},{"$f":"'[11]Cumulative Stats'!D140","v":13},{"$f":"'[11]Cumulative Stats'!E140","v":13},{"$f":"'[11]Cumulative Stats'!F140","v":13},{"$f":"'[11]Cumulative Stats'!G140","v":0},{"$f":"IF(C82>=Passing!$C$1*1.25,1,IF(C82=0,-1,0))","v":0}]
[{"$f":"'[7]Cumulative Stats'!A138","v":"Barbre"},"GBP",{"$f":"'[7]Cumulative Stats'!C138","v":1},{"$f":"'[7]Cumulative Stats'!D138","v":18},{"$f":"'[7]Cumulative Stats'!E138","v":18},{"$f":"'[7]Cumulative Stats'!F138","v":18},{"$f":"'[7]Cumulative Stats'!G138","v":0},{"$f":"IF(C83>=Passing!$C$1*1.25,1,IF(C83=0,-1,0))","v":0}]
[{"$f":"'[15]Cumulative Stats'!A139","v":"Gilmore"},"TBB",{"$f":"'[15]Cumulative Stats'!C139","v":1},{"$f":"'[15]Cumulative Stats'!D139","v":13},{"$f":"'[15]Cumulative Stats'!E139","v":13},{"$f":"'[15]Cumulative Stats'!F139","v":13},{"$f":"'[15]Cumulative Stats'!G139","v":0},{"$f":"IF(C84>=Passing!$C$1*1.25,1,IF(C84=0,-1,0))","v":0}]
[{"$f":"'[16]Cumulative Stats'!A136","v":"Thrash"},"WAS",{"$f":"'[16]Cumulative Stats'!C136","v":1},{"$f":"'[16]Cumulative Stats'!D136","v":17},{"$f":"'[16]Cumulative Stats'!E136","v":17},{"$f":"'[16]Cumulative Stats'!F136","v":17},{"$f":"'[16]Cumulative Stats'!G136","v":0},{"$f":"IF(C85>=Passing!$C$1*1.25,1,IF(C85=0,-1,0))","v":0}]
[null,null,null,null,null,null,null,{"$f":"IF(C86>=Passing!$C$1*1.25,1,IF(C86=0,-1,0))","v":-1}]
[null,null,null,null,null,null,null,{"$f":"IF(C87>=Passing!$C$1*1.25,1,IF(C87=0,-1,0))","v":-1}]
[null,null,null,null,null,null,null,{"$f":"IF(C88>=Passing!$C$1*1.25,1,IF(C88=0,-1,0))","v":-1}]
[null,null,null,null,null,null,null,{"$f":"IF(C89>=Passing!$C$1*1.25,1,IF(C89=0,-1,0))","v":-1}]
[null,null,null,null,null,null,null,{"$f":"IF(C90>=Passing!$C$1*1.25,1,IF(C90=0,-1,0))","v":-1}]
[null,null,null,null,null,null,null,{"$f":"IF(C91>=Passing!$C$1*1.25,1,IF(C91=0,-1,0))","v":-1}]
[null,null,null,null,null,null,null,{"$f":"IF(C92>=Passing!$C$1*1.25,1,IF(C92=0,-1,0))","v":-1}]
[null,null,null,null,null,null,null,{"$f":"IF(C93>=Passing!$C$1*1.25,1,IF(C93=0,-1,0))","v":-1}]
[null,null,null,null,null,null,null,{"$f":"IF(C94>=Passing!$C$1*1.25,1,IF(C94=0,-1,0))","v":-1}]
[null,null,null,null,null,null,null,{"$f":"IF(C95>=Passing!$C$1*1.25,1,IF(C95=0,-1,0))","v":-1}]
[null,null,null,null,null,null,null,{"$f":"IF(C96>=Passing!$C$1*1.25,1,IF(C96=0,-1,0))","v":-1}]
[null,null,null,null,null,null,null,{"$f":"IF(C97>=Passing!$C$1*1.25,1,IF(C97=0,-1,0))","v":-1}]
[null,null,null,null,null,null,null,{"$f":"IF(C98>=Passing!$C$1*1.25,1,IF(C98=0,-1,0))","v":-1}]
[null,null,null,null,null,null,null,{"$f":"IF(C99>=Passing!$C$1*1.25,1,IF(C99=0,-1,0))","v":-1}]
[null,null,null,null,null,null,null,{"$f":"IF(C100>=Passing!$C$1*1.25,1,IF(C100=0,-1,0))","v":-1}]
[null,null,null,null,null,null,null,{"$f":"IF(C101>=Passing!$C$1*1.25,1,IF(C101=0,-1,0))","v":-1}]
[null,null,null,null,null,null,null,{"$f":"IF(C102>=Passing!$C$1*1.25,1,IF(C102=0,-1,0))","v":-1}]
[null,null,null,null,null,null,null,{"$f":"IF(C103>=Passing!$C$1*1.25,1,IF(C103=0,-1,0))","v":-1}]
[null,null,null,null,null,null,null,{"$f":"IF(C104>=Passing!$C$1*1.25,1,IF(C104=0,-1,0))","v":-1}]
[null,null,null,null,null,null,null,{"$f":"IF(C105>=Passing!$C$1*1.25,1,IF(C105=0,-1,0))","v":-1}]
[null,null,null,null,null,null,null,{"$f":"IF(C106>=Passing!$C$1*1.25,1,IF(C106=0,-1,0))","v":-1}]
[null,null,null,null,null,null,null,{"$f":"IF(C107>=Passing!$C$1*1.25,1,IF(C107=0,-1,0))","v":-1}]
[null,null,null,null,null,null,null,{"$f":"IF(C108>=Passing!$C$1*1.25,1,IF(C108=0,-1,0))","v":-1}]
[null,null,null,null,null,null,null,{"$f":"IF(C109>=Passing!$C$1*1.25,1,IF(C109=0,-1,0))","v":-1}]
[null,null,null,null,null,null,null,{"$f":"IF(C110>=Passing!$C$1*1.25,1,IF(C110=0,-1,0))","v":-1}]
[null,null,null,null,null,null,null,{"$f":"IF(C111>=Passing!$C$1*1.25,1,IF(C111=0,-1,0))","v":-1}]
[null,null,null,null,null,null,null,{"$f":"IF(C112>=Passing!$C$1*1.25,1,IF(C112=0,-1,0))","v":-1}]
[null,null,null,null,null,null,null,{"$f":"IF(C113>=Passing!$C$1*1.25,1,IF(C113=0,-1,0))","v":-1}]
[null,null,null,null,null,null,null,{"$f":"IF(C114>=Passing!$C$1*1.25,1,IF(C114=0,-1,0))","v":-1}]
[null,null,null,null,null,null,null,{"$f":"IF(C115>=Passing!$C$1*1.25,1,IF(C115=0,-1,0))","v":-1}]
[null,null,null,null,null,null,null,{"$f":"IF(C116>=Passing!$C$1*1.25,1,IF(C116=0,-1,0))","v":-1}]
[null,null,null,null,null,null,null,{"$f":"IF(C117>=Passing!$C$1*1.25,1,IF(C117=0,-1,0))","v":-1}]
[null,null,null,null,null,null,null,{"$f":"IF(C118>=Passing!$C$1*1.25,1,IF(C118=0,-1,0))","v":-1}]
[null,null,null,null,null,null,null,{"$f":"IF(C119>=Passing!$C$1*1.25,1,IF(C119=0,-1,0))","v":-1}]

{"sheet":"Punting","index":6,"n_rows":25,"n_cols":12,"rows_kept":25,"cut":false,"hidden":false,"merged":[]}
["Punting:","Team","No.","Yrds","Avg.","Long","Blk"]
[{"$f":"'[4]Cumulative Stats'!$A$146","v":"Maynard"},"CHI",{"$f":"'[4]Cumulative Stats'!C146","v":111},{"$f":"'[4]Cumulative Stats'!D146","v":4441},{"$f":"'[4]Cumulative Stats'!E146","v":40.009009009009006},{"$f":"'[4]Cumulative Stats'!F146","v":62},{"$f":"'[4]Cumulative Stats'!G146","v":0},{"$f":"IF(C2>=Passing!$C$1*2.5,1,IF(C2=0,-1,0))","v":1}]
[{"$f":"'[15]Cumulative Stats'!$A$146","v":"Bidwell"},"TBB",{"$f":"'[15]Cumulative Stats'!C146","v":98},{"$f":"'[15]Cumulative Stats'!D146","v":4207},{"$f":"'[15]Cumulative Stats'!E146","v":42.928571428571431},{"$f":"'[15]Cumulative Stats'!F146","v":62},{"$f":"'[15]Cumulative Stats'!G146","v":0},{"$f":"IF(C3>=Passing!$C$1*2.5,1,IF(C3=0,-1,0))","v":1},null,null,"Leader based on average,minimum 40 punts"]
[{"$f":"'[14]Cumulative Stats'!A146","v":"Jones, D"},"STL",{"$f":"'[14]Cumulative Stats'!C146","v":95},{"$f":"'[14]Cumulative Stats'!D146","v":4475},{"$f":"'[14]Cumulative Stats'!E146","v":47.10526315789474},{"$f":"'[14]Cumulative Stats'!F146","v":64},{"$f":"'[14]Cumulative Stats'!G146","v":0},{"$f":"IF(C4>=Passing!$C$1*2.5,1,IF(C4=0,-1,0))","v":1}]
[{"$f":"'[12]Cumulative Stats'!A146","v":"Ryan"},"SEA",{"$f":"'[12]Cumulative Stats'!C146","v":89},{"$f":"'[12]Cumulative Stats'!D146","v":3913},{"$f":"'[12]Cumulative Stats'!E146","v":43.966292134831463},{"$f":"'[12]Cumulative Stats'!F146","v":62},{"$f":"'[12]Cumulative Stats'!G146","v":0},{"$f":"IF(C5>=Passing!$C$1*2.5,1,IF(C5=0,-1,0))","v":1},null,null,null,{"$f":"40/16","v":2.5}]
[{"$f":"'[6]Cumulative Stats'!$A$146","v":"Harris"},"DET",{"$f":"'[6]Cumulative Stats'!C146","v":88},{"$f":"'[6]Cumulative Stats'!D146","v":3762},{"$f":"'[6]Cumulative Stats'!E146","v":42.75},{"$f":"'[6]Cumulative Stats'!F146","v":67},{"$f":"'[6]Cumulative Stats'!G146","v":0},{"$f":"IF(C6>=Passing!$C$1*2.5,1,IF(C6=0,-1,0))","v":1}]
[{"$f":"'[11]Cumulative Stats'!$A$146","v":"Rocca"},"PHI",{"$f":"'[11]Cumulative Stats'!C146","v":88},{"$f":"'[11]Cumulative Stats'!D146","v":3647},{"$f":"'[11]Cumulative Stats'!E146","v":41.44318181818182},{"$f":"'[11]Cumulative Stats'!F146","v":73},{"$f":"'[11]Cumulative Stats'!G146","v":0},{"$f":"IF(C7>=Passing!$C$1*2.5,1,IF(C7=0,-1,0))","v":1}]
[{"$f":"'[13]Cumulative Stats'!$A$146","v":"Lee"},"SFO",{"$f":"'[13]Cumulative Stats'!C146","v":87},{"$f":"'[13]Cumulative Stats'!D146","v":3844},{"$f":"'[13]Cumulative Stats'!E146","v":44.183908045977013},{"$f":"'[13]Cumulative Stats'!F146","v":62},{"$f":"'[13]Cumulative Stats'!G146","v":3},{"$f":"IF(C8>=Passing!$C$1*2.5,1,IF(C8=0,-1,0))","v":1}]
[{"$f":"'[8]Cumulative Stats'!$A$146","v":"Kluwe"},"MIN",{"$f":"'[8]Cumulative Stats'!C146","v":81},{"$f":"'[8]Cumulative Stats'!D146","v":3641},{"$f":"'[8]Cumulative Stats'!E146","v":44.950617283950621},{"$f":"'[8]Cumulative Stats'!F146","v":62},{"$f":"'[8]Cumulative Stats'!G146","v":0},{"$f":"IF(C9>=Passing!$C$1*2.5,1,IF(C9=0,-1,0))","v":1}]
[{"$f":"'[2]Cumulative Stats'!$A$146","v":"Koenen"},"ATL",{"$f":"'[2]Cumulative Stats'!C146","v":79},{"$f":"'[2]Cumulative Stats'!D146","v":2940},{"$f":"'[2]Cumulative Stats'!E146","v":37.215189873417721},{"$f":"'[2]Cumulative Stats'!F146","v":54},{"$f":"'[2]Cumulative Stats'!G146","v":0},{"$f":"IF(C10>=Passing!$C$1*2.5,1,IF(C10=0,-1,0))","v":1}]
[{"$f":"'[7]Cumulative Stats'!A146","v":"Frost"},"GBP",{"$f":"'[7]Cumulative Stats'!C146","v":78},{"$f":"'[7]Cumulative Stats'!D146","v":3155},{"$f":"'[7]Cumulative Stats'!E146","v":40.448717948717949},{"$f":"'[7]Cumulative Stats'!F146","v":71},{"$f":"'[7]Cumulative Stats'!G146","v":0},{"$f":"IF(C11>=Passing!$C$1*2.5,1,IF(C11=0,-1,0))","v":1}]
[{"$f":"'[10]Cumulative Stats'!$A$146","v":"Feagles"},"NYG",{"$f":"'[10]Cumulative Stats'!C146","v":74},{"$f":"'[10]Cumulative Stats'!D146","v":3118},{"$f":"'[10]Cumulative Stats'!E146","v":42.135135135135137},{"$f":"'[10]Cumulative Stats'!F146","v":62},{"$f":"'[10]Cumulative Stats'!G146","v":1},{"$f":"IF(C12>=Passing!$C$1*2.5,1,IF(C12=0,-1,0))","v":1}]
[{"$f":"'[3]Cumulative Stats'!$A$146","v":"Baker"},"CAR",{"$f":"'[3]Cumulative Stats'!C146","v":67},{"$f":"'[3]Cumulative Stats'!D146","v":2765},{"$f":"'[3]Cumulative Stats'!E146","v":41.268656716417908},{"$f":"'[3]Cumulative Stats'!F146","v":64},{"$f":"'[3]Cumulative Stats'!G146","v":0},{"$f":"IF(C13>=Passing!$C$1*2.5,1,IF(C13=0,-1,0))","v":1}]
[{"$f":"'[1]Cumulative Stats'!A146","v":"Johnson, D"},"ARI",{"$f":"'[1]Cumulative Stats'!C146","v":65},{"$f":"'[1]Cumulative Stats'!D146","v":2676},{"$f":"'[1]Cumulative Stats'!E146","v":41.169230769230772},{"$f":"'[1]Cumulative Stats'!F146","v":53},{"$f":"'[1]Cumulative Stats'!G146","v":0},{"$f":"IF(C14>=Passing!$C$1*2.5,1,IF(C14=0,-1,0))","v":1}]
[{"$f":"'[16]Cumulative Stats'!A146","v":"Plackemeier"},"WAS",{"$f":"'[16]Cumulative Stats'!C146","v":64},{"$f":"'[16]Cumulative Stats'!D146","v":2373},{"$f":"'[16]Cumulative Stats'!E146","v":37.078125},{"$f":"'[16]Cumulative Stats'!F146","v":63},{"$f":"'[16]Cumulative Stats'!G146","v":1},{"$f":"IF(C15>=Passing!$C$1*2.5,1,IF(C15=0,-1,0))","v":1}]
[{"$f":"'[5]Cumulative Stats'!A146","v":"Paulescu"},"DAL",{"$f":"'[5]Cumulative Stats'!C146","v":43},{"$f":"'[5]Cumulative Stats'!D146","v":1930},{"$f":"'[5]Cumulative Stats'!E146","v":44.883720930232556},{"$f":"'[5]Cumulative Stats'!F146","v":68},{"$f":"'[5]Cumulative Stats'!G146","v":0},{"$f":"'[16]Cumulative Stats'!H146","v":0}]
[{"$f":"'[9]Cumulative Stats'!A146","v":"Pakulak"},"NOS",{"$f":"'[9]Cumulative Stats'!C146","v":36},{"$f":"'[9]Cumulative Stats'!D146","v":1674},{"$f":"'[9]Cumulative Stats'!E146","v":46.5},{"$f":"'[9]Cumulative Stats'!F146","v":57},{"$f":"'[9]Cumulative Stats'!G146","v":0},{"$f":"IF(C17>=Passing!$C$1*2.5,1,IF(C17=0,-1,0))","v":0},"Non-Qualifiers"]
[{"$f":"'[9]Cumulative Stats'!A147","v":"Weatherford"},"NOS",{"$f":"'[9]Cumulative Stats'!C147","v":35},{"$f":"'[9]Cumulative Stats'!D147","v":1586},{"$f":"'[9]Cumulative Stats'!E147","v":45.314285714285717},{"$f":"'[9]Cumulative Stats'!F147","v":62},{"$f":"'[9]Cumulative Stats'!G147","v":0},{"$f":"IF(C18>=Passing!$C$1*2.5,1,IF(C18=0,-1,0))","v":0}]
[{"$f":"'[5]Cumulative Stats'!A147","v":"McBriar"},"DAL",{"$f":"'[5]Cumulative Stats'!C147","v":35},{"$f":"'[5]Cumulative Stats'!D147","v":1550},{"$f":"'[5]Cumulative Stats'!E147","v":44.285714285714285},{"$f":"'[5]Cumulative Stats'!F147","v":62},{"$f":"'[5]Cumulative Stats'!G147","v":1},{"$f":"IF(C19>=Passing!$C$1*2.5,1,IF(C19=0,-1,0))","v":0}]
[{"$f":"'[16]Cumulative Stats'!A147","v":"Brooks"},"WAS",{"$f":"'[16]Cumulative Stats'!C147","v":29},{"$f":"'[16]Cumulative Stats'!D147","v":1097},{"$f":"'[16]Cumulative Stats'!E147","v":37.827586206896555},{"$f":"'[16]Cumulative Stats'!F147","v":53},{"$f":"'[16]Cumulative Stats'!G147","v":1},{"$f":"IF(C20>=Passing!$C$1*2.5,1,IF(C20=0,-1,0))","v":0}]
[{"$f":"'[1]Cumulative Stats'!A147","v":"Graham"},"ARI",{"$f":"'[1]Cumulative Stats'!C147","v":18},{"$f":"'[1]Cumulative Stats'!D147","v":716},{"$f":"'[1]Cumulative Stats'!E147","v":39.777777777777779},{"$f":"'[1]Cumulative Stats'!F147","v":53},{"$f":"'[1]Cumulative Stats'!G147","v":0},{"$f":"IF(C21>=Passing!$C$1*2.5,1,IF(C21=0,-1,0))","v":0}]
[{"$f":"'[7]Cumulative Stats'!A147","v":"Kapinos"},"GBP",{"$f":"'[7]Cumulative Stats'!C147","v":15},{"$f":"'[7]Cumulative Stats'!D147","v":561},{"$f":"'[7]Cumulative Stats'!E147","v":37.4},{"$f":"'[7]Cumulative Stats'!F147","v":53},{"$f":"'[7]Cumulative Stats'!G147","v":0},{"$f":"IF(C22>=Passing!$C$1*2.5,1,IF(C22=0,-1,0))","v":0}]
[{"$f":"'[9]Cumulative Stats'!A148","v":"Graham"},"NOS",{"$f":"'[9]Cumulative Stats'!C148","v":6},{"$f":"'[9]Cumulative Stats'!D148","v":283},{"$f":"'[9]Cumulative Stats'!E148","v":47.166666666666664},{"$f":"'[9]Cumulative Stats'!F148","v":53},{"$f":"'[9]Cumulative Stats'!G148","v":0},{"$f":"IF(C23>=Passing!$C$1*2.5,1,IF(C23=0,-1,0))","v":0}]
[{"$f":"'[12]Cumulative Stats'!A147","v":"Plackemeier"},"SEA",{"$f":"'[12]Cumulative Stats'!C147","v":4},{"$f":"'[12]Cumulative Stats'!D147","v":160},{"$f":"'[12]Cumulative Stats'!E147","v":40},{"$f":"'[12]Cumulative Stats'!F147","v":44},{"$f":"'[12]Cumulative Stats'!G147","v":0},{"$f":"IF(C24>=Passing!$C$1*2.5,1,IF(C24=0,-1,0))","v":0}]
[null,null,null,null,null,null,{"$f":"'[14]Cumulative Stats'!G147","v":0},{"$f":"'[16]Cumulative Stats'!H147","v":0}]

{"sheet":"Field Goals","index":7,"n_rows":25,"n_cols":14,"rows_kept":25,"cut":false,"hidden":false,"merged":[]}
["Kicking:","Team","KO","TB","FGA","FGM","FG%","Long","XPA","XPM","XP%","Points"]
[{"$f":"'[2]Cumulative Stats'!A153","v":"Elam"},"ATL",{"$f":"'[2]Cumulative Stats'!C153","v":16},{"$f":"'[2]Cumulative Stats'!D153","v":0},{"$f":"'[2]Cumulative Stats'!E153","v":39},{"$f":"'[2]Cumulative Stats'!F153","v":38},{"$f":"'[2]Cumulative Stats'!G153","v":97.435897435897431},{"$f":"'[2]Cumulative Stats'!H153","v":53},{"$f":"'[2]Cumulative Stats'!I153","v":76},{"$f":"'[2]Cumulative Stats'!J153","v":45},{"$f":"'[2]Cumulative Stats'!K153","v":59.210526315789465},{"$f":"'[2]Cumulative Stats'!L153","v":159},{"$f":"IF(E2>=Passing!$C$1,1,IF(E2=0,-1,0))","v":1},"Leader based on overall percentage, minimum 16 field goals"]
[{"$f":"'[1]Cumulative Stats'!$A$153","v":"Rackers"},"ARI",{"$f":"'[1]Cumulative Stats'!C153","v":85},{"$f":"'[1]Cumulative Stats'!D153","v":10},{"$f":"'[1]Cumulative Stats'!E153","v":37},{"$f":"'[1]Cumulative Stats'!F153","v":36},{"$f":"'[1]Cumulative Stats'!G153","v":97.297297297297305},{"$f":"'[1]Cumulative Stats'!H153","v":52},{"$f":"'[1]Cumulative Stats'!I153","v":36},{"$f":"'[1]Cumulative Stats'!J153","v":36},{"$f":"'[1]Cumulative Stats'!K153","v":100},{"$f":"'[1]Cumulative Stats'!L153","v":144},{"$f":"IF(E3>=Passing!$C$1,1,IF(E3=0,-1,0))","v":1}]
[{"$f":"'[9]Cumulative Stats'!A153","v":"Hartley"},"NOS",{"$f":"'[9]Cumulative Stats'!C153","v":67},{"$f":"'[9]Cumulative Stats'!D153","v":4},{"$f":"'[9]Cumulative Stats'!E153","v":21},{"$f":"'[9]Cumulative Stats'!F153","v":20},{"$f":"'[9]Cumulative Stats'!G153","v":95.238095238095227},{"$f":"'[9]Cumulative Stats'!H153","v":51},{"$f":"'[9]Cumulative Stats'!I153","v":37},{"$f":"'[9]Cumulative Stats'!J153","v":37},{"$f":"'[9]Cumulative Stats'!K153","v":100},{"$f":"'[9]Cumulative Stats'!L153","v":97},{"$f":"IF(E4>=Passing!$C$1,1,IF(E4=0,-1,0))","v":1}]
[{"$f":"'[3]Cumulative Stats'!$A$153","v":"Kasay"},"CAR",{"$f":"'[3]Cumulative Stats'!C153","v":8},{"$f":"'[3]Cumulative Stats'!D153","v":2},{"$f":"'[3]Cumulative Stats'!E153","v":41},{"$f":"'[3]Cumulative Stats'!F153","v":39},{"$f":"'[3]Cumulative Stats'!G153","v":95.121951219512198},{"$f":"'[3]Cumulative Stats'!H153","v":55},{"$f":"'[3]Cumulative Stats'!I153","v":50},{"$f":"'[3]Cumulative Stats'!J153","v":50},{"$f":"'[3]Cumulative Stats'!K153","v":100},{"$f":"'[3]Cumulative Stats'!L153","v":167},{"$f":"IF(E5>=Passing!$C$1,1,IF(E5=0,-1,0))","v":1}]
[{"$f":"'[6]Cumulative Stats'!$A$153","v":"Hanson"},"DET",{"$f":"'[6]Cumulative Stats'!C153","v":71},{"$f":"'[6]Cumulative Stats'!D153","v":4},{"$f":"'[6]Cumulative Stats'!E153","v":37},{"$f":"'[6]Cumulative Stats'!F153","v":35},{"$f":"'[6]Cumulative Stats'!G153","v":94.594594594594597},{"$f":"'[6]Cumulative Stats'!H153","v":58},{"$f":"'[6]Cumulative Stats'!I153","v":23},{"$f":"'[6]Cumulative Stats'!J153","v":23},{"$f":"'[6]Cumulative Stats'!K153","v":100},{"$f":"'[6]Cumulative Stats'!L153","v":128},{"$f":"IF(E6>=Passing!$C$1,1,IF(E6=0,-1,0))","v":1}]
[{"$f":"'[5]Cumulative Stats'!$A$153","v":"Folk"},"DAL",{"$f":"'[5]Cumulative Stats'!C153","v":82},{"$f":"'[5]Cumulative Stats'!D153","v":0},{"$f":"'[5]Cumulative Stats'!E153","v":31},{"$f":"'[5]Cumulative Stats'!F153","v":29},{"$f":"'[5]Cumulative Stats'!G153","v":93.548387096774192},{"$f":"'[5]Cumulative Stats'!H153","v":53},{"$f":"'[5]Cumulative Stats'!I153","v":38},{"$f":"'[5]Cumulative Stats'!J153","v":38},{"$f":"'[5]Cumulative Stats'!K153","v":100},{"$f":"'[5]Cumulative Stats'!L153","v":125},{"$f":"IF(E7>=Passing!$C$1,1,IF(E7=0,-1,0))","v":1}]
[{"$f":"'[10]Cumulative Stats'!A153","v":"Carney"},"NYG",{"$f":"'[10]Cumulative Stats'!C153","v":95},{"$f":"'[10]Cumulative Stats'!D153","v":0},{"$f":"'[10]Cumulative Stats'!E153","v":41},{"$f":"'[10]Cumulative Stats'!F153","v":38},{"$f":"'[10]Cumulative Stats'!G153","v":92.682926829268297},{"$f":"'[10]Cumulative Stats'!H153","v":53},{"$f":"'[10]Cumulative Stats'!I153","v":43},{"$f":"'[10]Cumulative Stats'!J153","v":43},{"$f":"'[10]Cumulative Stats'!K153","v":100},{"$f":"'[10]Cumulative Stats'!L153","v":157},{"$f":"IF(E8>=Passing!$C$1,1,IF(E8=0,-1,0))","v":1}]
[{"$f":"'[13]Cumulative Stats'!$A$153","v":"Nedney"},"SFO",{"$f":"'[13]Cumulative Stats'!C153","v":63},{"$f":"'[13]Cumulative Stats'!D153","v":2},{"$f":"'[13]Cumulative Stats'!E153","v":26},{"$f":"'[13]Cumulative Stats'!F153","v":24},{"$f":"'[13]Cumulative Stats'!G153","v":92.307692307692307},{"$f":"'[13]Cumulative Stats'!H153","v":53},{"$f":"'[13]Cumulative Stats'!I153","v":27},{"$f":"'[13]Cumulative Stats'!J153","v":27},{"$f":"'[13]Cumulative Stats'!K153","v":100},{"$f":"'[13]Cumulative Stats'!L153","v":99},{"$f":"IF(E9>=Passing!$C$1,1,IF(E9=0,-1,0))","v":1}]
[{"$f":"'[12]Cumulative Stats'!$A$153","v":"Mare"},"SEA",{"$f":"'[12]Cumulative Stats'!C153","v":63},{"$f":"'[12]Cumulative Stats'!D153","v":18},{"$f":"'[12]Cumulative Stats'!E153","v":37},{"$f":"'[12]Cumulative Stats'!F153","v":34},{"$f":"'[12]Cumulative Stats'!G153","v":91.891891891891902},{"$f":"'[12]Cumulative Stats'!H153","v":53},{"$f":"'[12]Cumulative Stats'!I153","v":14},{"$f":"'[12]Cumulative Stats'!J153","v":14},{"$f":"'[12]Cumulative Stats'!K153","v":100},{"$f":"'[12]Cumulative Stats'!L153","v":116},{"$f":"IF(E10>=Passing!$C$1,1,IF(E10=0,-1,0))","v":1}]
[{"$f":"'[15]Cumulative Stats'!$A$153","v":"Bryant, M"},"TBB",{"$f":"'[15]Cumulative Stats'!C153","v":80},{"$f":"'[15]Cumulative Stats'!D153","v":0},{"$f":"'[15]Cumulative Stats'!E153","v":34},{"$f":"'[15]Cumulative Stats'!F153","v":31},{"$f":"'[15]Cumulative Stats'!G153","v":91.17647058823529},{"$f":"'[15]Cumulative Stats'!H153","v":51},{"$f":"'[15]Cumulative Stats'!I153","v":35},{"$f":"'[15]Cumulative Stats'!J153","v":35},{"$f":"'[15]Cumulative Stats'!K153","v":100},{"$f":"'[15]Cumulative Stats'!L153","v":128},{"$f":"IF(E11>=Passing!$C$1,1,IF(E11=0,-1,0))","v":1}]
[{"$f":"'[4]Cumulative Stats'!$A$153","v":"Gould"},"CHI",{"$f":"'[4]Cumulative Stats'!C153","v":57},{"$f":"'[4]Cumulative Stats'!D153","v":2},{"$f":"'[4]Cumulative Stats'!E153","v":25},{"$f":"'[4]Cumulative Stats'!F153","v":22},{"$f":"'[4]Cumulative Stats'!G153","v":88},{"$f":"'[4]Cumulative Stats'!H153","v":49},{"$f":"'[4]Cumulative Stats'!I153","v":18},{"$f":"'[4]Cumulative Stats'!J153","v":18},{"$f":"'[4]Cumulative Stats'!K153","v":100},{"$f":"'[4]Cumulative Stats'!L153","v":84},{"$f":"IF(E12>=Passing!$C$1,1,IF(E12=0,-1,0))","v":1}]
[{"$f":"'[8]Cumulative Stats'!$A$153","v":"Longwell"},"MIN",{"$f":"'[8]Cumulative Stats'!C153","v":93},{"$f":"'[8]Cumulative Stats'!D153","v":2},{"$f":"'[8]Cumulative Stats'!E153","v":42},{"$f":"'[8]Cumulative Stats'!F153","v":36},{"$f":"'[8]Cumulative Stats'!G153","v":85.714285714285708},{"$f":"'[8]Cumulative Stats'!H153","v":50},{"$f":"'[8]Cumulative Stats'!I153","v":40},{"$f":"'[8]Cumulative Stats'!J153","v":40},{"$f":"'[8]Cumulative Stats'!K153","v":100},{"$f":"'[8]Cumulative Stats'!L153","v":148},{"$f":"IF(E13>=Passing!$C$1,1,IF(E13=0,-1,0))","v":1}]
[{"$f":"'[11]Cumulative Stats'!$A$153","v":"Akers"},"PHI",{"$f":"'[11]Cumulative Stats'!C153","v":99},{"$f":"'[11]Cumulative Stats'!D153","v":9},{"$f":"'[11]Cumulative Stats'!E153","v":37},{"$f":"'[11]Cumulative Stats'!F153","v":31},{"$f":"'[11]Cumulative Stats'!G153","v":83.78378378378379},{"$f":"'[11]Cumulative Stats'!H153","v":52},{"$f":"'[11]Cumulative Stats'!I153","v":55},{"$f":"'[11]Cumulative Stats'!J153","v":55},{"$f":"'[11]Cumulative Stats'!K153","v":100},{"$f":"'[11]Cumulative Stats'!L153","v":148},{"$f":"IF(E14>=Passing!$C$1,1,IF(E14=0,-1,0))","v":1}]
[{"$f":"'[7]Cumulative Stats'!$A$153","v":"Crosby"},"GBP",{"$f":"'[7]Cumulative Stats'!C153","v":76},{"$f":"'[7]Cumulative Stats'!D153","v":10},{"$f":"'[7]Cumulative Stats'!E153","v":29},{"$f":"'[7]Cumulative Stats'!F153","v":24},{"$f":"'[7]Cumulative Stats'!G153","v":82.758620689655174},{"$f":"'[7]Cumulative Stats'!H153","v":47},{"$f":"'[7]Cumulative Stats'!I153","v":36},{"$f":"'[7]Cumulative Stats'!J153","v":36},{"$f":"'[7]Cumulative Stats'!K153","v":100},{"$f":"'[7]Cumulative Stats'!L153","v":108},{"$f":"IF(E15>=Passing!$C$1,1,IF(E15=0,-1,0))","v":1}]
[{"$f":"'[14]Cumulative Stats'!$A$153","v":"Brown, J"},"STL",{"$f":"'[14]Cumulative Stats'!C153","v":60},{"$f":"'[14]Cumulative Stats'!D153","v":2},{"$f":"'[14]Cumulative Stats'!E153","v":33},{"$f":"'[14]Cumulative Stats'!F153","v":27},{"$f":"'[14]Cumulative Stats'!G153","v":81.818181818181827},{"$f":"'[14]Cumulative Stats'!H153","v":54},{"$f":"'[14]Cumulative Stats'!I153","v":17},{"$f":"'[14]Cumulative Stats'!J153","v":17},{"$f":"'[14]Cumulative Stats'!K153","v":100},{"$f":"'[14]Cumulative Stats'!L153","v":98},{"$f":"IF(E16>=Passing!$C$1,1,IF(E16=0,-1,0))","v":1}]
[{"$f":"'[16]Cumulative Stats'!$A$153","v":"Suisham"},"WAS",{"$f":"'[16]Cumulative Stats'!C153","v":78},{"$f":"'[16]Cumulative Stats'!D153","v":4},{"$f":"'[16]Cumulative Stats'!E153","v":42},{"$f":"'[16]Cumulative Stats'!F153","v":33},{"$f":"'[16]Cumulative Stats'!G153","v":78.571428571428569},{"$f":"'[16]Cumulative Stats'!H153","v":54},{"$f":"'[16]Cumulative Stats'!I153","v":27},{"$f":"'[16]Cumulative Stats'!J153","v":27},{"$f":"'[16]Cumulative Stats'!K153","v":100},{"$f":"'[16]Cumulative Stats'!L153","v":126},{"$f":"IF(E17>=Passing!$C$1,1,IF(E17=0,-1,0))","v":1}]
[{"$f":"'[9]Cumulative Stats'!A154","v":"Gramatica"},"NOS",{"$f":"'[9]Cumulative Stats'!C154","v":37},{"$f":"'[9]Cumulative Stats'!D154","v":3},{"$f":"'[9]Cumulative Stats'!E154","v":18},{"$f":"'[9]Cumulative Stats'!F154","v":13},{"$f":"'[9]Cumulative Stats'!G154","v":72.222222222222214},{"$f":"'[9]Cumulative Stats'!H154","v":41},{"$f":"'[9]Cumulative Stats'!I154","v":20},{"$f":"'[9]Cumulative Stats'!J154","v":20},{"$f":"'[9]Cumulative Stats'!K154","v":100},{"$f":"'[9]Cumulative Stats'!L154","v":59},{"$f":"IF(E18>=Passing!$C$1,1,IF(E18=0,-1,0))","v":1},"Non-Qualifiers"]
[null,null,null,null,null,null,null,null,null,null,null,null,{"$f":"IF(E19>=Passing!$C$1,1,IF(E19=0,-1,0))","v":-1}]
[null,null,null,null,null,null,null,null,null,null,null,null,{"$f":"IF(E20>=Passing!$C$1,1,IF(E20=0,-1,0))","v":-1}]
[null,null,null,null,null,null,null,null,null,null,null,null,{"$f":"IF(E21>=Passing!$C$1,1,IF(E21=0,-1,0))","v":-1}]
[null,null,null,null,null,null,null,null,null,null,null,null,{"$f":"IF(E22>=Passing!$C$1,1,IF(E22=0,-1,0))","v":-1}]
[null,null,null,null,null,null,null,null,null,null,null,null,{"$f":"IF(E23>=Passing!$C$1,1,IF(E23=0,-1,0))","v":-1}]
[null,null,null,null,null,null,null,null,null,null,null,null,{"$f":"IF(E24>=Passing!$C$1,1,IF(E24=0,-1,0))","v":-1}]
[null,null,null,null,null,null,null,null,null,null,null,null,{"$f":"IF(E25>=Passing!$C$1,1,IF(E25=0,-1,0))","v":-1}]

{"sheet":"Int - Sack","index":8,"n_rows":159,"n_cols":12,"rows_kept":159,"cut":false,"hidden":false,"merged":[]}
["Interceptions:","Team","No.","Yrds","Avg.","Long","TD",null,null,"Sacks:","Team","No."]
[{"$f":"'[14]Cumulative Stats'!A159","v":"Atogwe"},"STL",{"$f":"'[14]Cumulative Stats'!C159","v":9},{"$f":"'[14]Cumulative Stats'!D159","v":142},{"$f":"'[14]Cumulative Stats'!E159","v":15.777777777777779},{"$f":"'[14]Cumulative Stats'!F159","v":23},{"$f":"'[14]Cumulative Stats'!G159","v":1},null,null,{"$f":"'[5]Cumulative Stats'!A174","v":"Ware"},"DAL",{"$f":"'[5]Cumulative Stats'!C174","v":22.5}]
[{"$f":"'[7]Cumulative Stats'!A159","v":"Woodson"},"GBP",{"$f":"'[7]Cumulative Stats'!C159","v":7},{"$f":"'[7]Cumulative Stats'!D159","v":119},{"$f":"'[7]Cumulative Stats'!E159","v":17},{"$f":"'[7]Cumulative Stats'!F159","v":27},{"$f":"'[7]Cumulative Stats'!G159","v":0},null,null,{"$f":"'[8]Cumulative Stats'!A174","v":"Allen, J"},"MIN",{"$f":"'[8]Cumulative Stats'!C174","v":22}]
[{"$f":"'[15]Cumulative Stats'!A159","v":"Buchanon"},"TBB",{"$f":"'[15]Cumulative Stats'!C159","v":6},{"$f":"'[15]Cumulative Stats'!D159","v":124},{"$f":"'[15]Cumulative Stats'!E159","v":20.666666666666668},{"$f":"'[15]Cumulative Stats'!F159","v":31},{"$f":"'[15]Cumulative Stats'!G159","v":1},null,null,{"$f":"'[2]Cumulative Stats'!A174","v":"Abraham"},"ATL",{"$f":"'[2]Cumulative Stats'!C174","v":18.5}]
[{"$f":"'[6]Cumulative Stats'!A159","v":"Nece"},"DET",{"$f":"'[6]Cumulative Stats'!C159","v":6},{"$f":"'[6]Cumulative Stats'!D159","v":113},{"$f":"'[6]Cumulative Stats'!E159","v":18.833333333333332},{"$f":"'[6]Cumulative Stats'!F159","v":23},{"$f":"'[6]Cumulative Stats'!G159","v":1},null,null,{"$f":"'[3]Cumulative Stats'!A174","v":"Peppers"},"CAR",{"$f":"'[3]Cumulative Stats'!C174","v":16.5}]
[{"$f":"'[3]Cumulative Stats'!A159","v":"Beason"},"CAR",{"$f":"'[3]Cumulative Stats'!C159","v":6},{"$f":"'[3]Cumulative Stats'!D159","v":57},{"$f":"'[3]Cumulative Stats'!E159","v":9.5},{"$f":"'[3]Cumulative Stats'!F159","v":46},{"$f":"'[3]Cumulative Stats'!G159","v":0},null,null,{"$f":"'[13]Cumulative Stats'!A174","v":"Smith, J"},"SFO",{"$f":"'[13]Cumulative Stats'!C174","v":15}]
[{"$f":"'[12]Cumulative Stats'!A159","v":"Wilson"},"SEA",{"$f":"'[12]Cumulative Stats'!C159","v":6},{"$f":"'[12]Cumulative Stats'!D159","v":35},{"$f":"'[12]Cumulative Stats'!E159","v":5.833333333333333},{"$f":"'[12]Cumulative Stats'!F159","v":24},{"$f":"'[12]Cumulative Stats'!G159","v":0},null,null,{"$f":"'[11]Cumulative Stats'!A174","v":"Cole"},"PHI",{"$f":"'[11]Cumulative Stats'!C174","v":14.5}]
[{"$f":"'[12]Cumulative Stats'!A160","v":"Grant"},"SEA",{"$f":"'[12]Cumulative Stats'!C160","v":5},{"$f":"'[12]Cumulative Stats'!D160","v":129},{"$f":"'[12]Cumulative Stats'!E160","v":25.8},{"$f":"'[12]Cumulative Stats'!F160","v":36},{"$f":"'[12]Cumulative Stats'!G160","v":0},null,null,{"$f":"'[10]Cumulative Stats'!A174","v":"Tuck"},"NYG",{"$f":"'[10]Cumulative Stats'!C174","v":14.5}]
[{"$f":"'[9]Cumulative Stats'!A159","v":"David"},"NOS",{"$f":"'[9]Cumulative Stats'!C159","v":5},{"$f":"'[9]Cumulative Stats'!D159","v":121},{"$f":"'[9]Cumulative Stats'!E159","v":24.2},{"$f":"'[9]Cumulative Stats'!F159","v":41},{"$f":"'[9]Cumulative Stats'!G159","v":1},null,null,{"$f":"'[7]Cumulative Stats'!A174","v":"Kampman"},"GBP",{"$f":"'[7]Cumulative Stats'!C174","v":13}]
[{"$f":"'[11]Cumulative Stats'!A159","v":"Samuel"},"PHI",{"$f":"'[11]Cumulative Stats'!C159","v":5},{"$f":"'[11]Cumulative Stats'!D159","v":94},{"$f":"'[11]Cumulative Stats'!E159","v":18.8},{"$f":"'[11]Cumulative Stats'!F159","v":61},{"$f":"'[11]Cumulative Stats'!G159","v":0},null,null,{"$f":"'[15]Cumulative Stats'!A174","v":"Adams"},"TBB",{"$f":"'[15]Cumulative Stats'!C174","v":10.5}]
[{"$f":"'[2]Cumulative Stats'!A159","v":"Houston"},"ATL",{"$f":"'[2]Cumulative Stats'!C159","v":5},{"$f":"'[2]Cumulative Stats'!D159","v":87},{"$f":"'[2]Cumulative Stats'!E159","v":17.399999999999999},{"$f":"'[2]Cumulative Stats'!F159","v":71},{"$f":"'[2]Cumulative Stats'!G159","v":1},null,null,{"$f":"'[11]Cumulative Stats'!A175","v":"Howard"},"PHI",{"$f":"'[11]Cumulative Stats'!C175","v":10}]
[{"$f":"'[10]Cumulative Stats'!A159","v":"Butler, J"},"NYG",{"$f":"'[10]Cumulative Stats'!C159","v":5},{"$f":"'[10]Cumulative Stats'!D159","v":74},{"$f":"'[10]Cumulative Stats'!E159","v":14.8},{"$f":"'[10]Cumulative Stats'!F159","v":46},{"$f":"'[10]Cumulative Stats'!G159","v":0},null,null,{"$f":"'[6]Cumulative Stats'!A174","v":"White"},"DET",{"$f":"'[6]Cumulative Stats'!C174","v":10}]
[{"$f":"'[10]Cumulative Stats'!A160","v":"Johnson, M"},"NYG",{"$f":"'[10]Cumulative Stats'!C160","v":5},{"$f":"'[10]Cumulative Stats'!D160","v":71},{"$f":"'[10]Cumulative Stats'!E160","v":14.2},{"$f":"'[10]Cumulative Stats'!F160","v":27},{"$f":"'[10]Cumulative Stats'!G160","v":0},null,null,{"$f":"'[14]Cumulative Stats'!A174","v":"Hall, J"},"STL",{"$f":"'[14]Cumulative Stats'!C174","v":9}]
[{"$f":"'[16]Cumulative Stats'!A159","v":"Horton"},"WAS",{"$f":"'[16]Cumulative Stats'!C159","v":5},{"$f":"'[16]Cumulative Stats'!D159","v":28},{"$f":"'[16]Cumulative Stats'!E159","v":5.6},{"$f":"'[16]Cumulative Stats'!F159","v":10},{"$f":"'[16]Cumulative Stats'!G159","v":0},null,null,{"$f":"'[10]Cumulative Stats'!A175","v":"Kiwanuka"},"NYG",{"$f":"'[10]Cumulative Stats'!C175","v":8.5}]
[{"$f":"'[7]Cumulative Stats'!A160","v":"Williams"},"GBP",{"$f":"'[7]Cumulative Stats'!C160","v":5},{"$f":"'[7]Cumulative Stats'!D160","v":26},{"$f":"'[7]Cumulative Stats'!E160","v":5.2},{"$f":"'[7]Cumulative Stats'!F160","v":8},{"$f":"'[7]Cumulative Stats'!G160","v":0},null,null,{"$f":"'[12]Cumulative Stats'!A174","v":"Peterson"},"SEA",{"$f":"'[12]Cumulative Stats'!C174","v":8.5}]
[{"$f":"'[3]Cumulative Stats'!A160","v":"Lucas"},"CAR",{"$f":"'[3]Cumulative Stats'!C160","v":4},{"$f":"'[3]Cumulative Stats'!D160","v":134},{"$f":"'[3]Cumulative Stats'!E160","v":33.5},{"$f":"'[3]Cumulative Stats'!F160","v":36},{"$f":"'[3]Cumulative Stats'!G160","v":1},null,null,{"$f":"'[10]Cumulative Stats'!A176","v":"Robbins"},"NYG",{"$f":"'[10]Cumulative Stats'!C176","v":8.5}]
[{"$f":"'[15]Cumulative Stats'!A160","v":"Barber"},"TBB",{"$f":"'[15]Cumulative Stats'!C160","v":4},{"$f":"'[15]Cumulative Stats'!D160","v":107},{"$f":"'[15]Cumulative Stats'!E160","v":26.75},{"$f":"'[15]Cumulative Stats'!F160","v":65},{"$f":"'[15]Cumulative Stats'!G160","v":2},null,null,{"$f":"'[9]Cumulative Stats'!A174","v":"McCray"},"NOS",{"$f":"'[9]Cumulative Stats'!C174","v":8}]
[{"$f":"'[11]Cumulative Stats'!A160","v":"Mikell"},"PHI",{"$f":"'[11]Cumulative Stats'!C160","v":4},{"$f":"'[11]Cumulative Stats'!D160","v":91},{"$f":"'[11]Cumulative Stats'!E160","v":22.75},{"$f":"'[11]Cumulative Stats'!F160","v":40},{"$f":"'[11]Cumulative Stats'!G160","v":1},null,null,{"$f":"'[1]Cumulative Stats'!A174","v":"Okeafor"},"ARI",{"$f":"'[1]Cumulative Stats'!C174","v":8}]
[{"$f":"'[8]Cumulative Stats'!A159","v":"Leber"},"MIN",{"$f":"'[8]Cumulative Stats'!C159","v":4},{"$f":"'[8]Cumulative Stats'!D159","v":83},{"$f":"'[8]Cumulative Stats'!E159","v":20.75},{"$f":"'[8]Cumulative Stats'!F159","v":27},{"$f":"'[8]Cumulative Stats'!G159","v":0},null,null,{"$f":"'[6]Cumulative Stats'!A175","v":"Redding"},"DET",{"$f":"'[6]Cumulative Stats'!C175","v":8}]
[{"$f":"'[9]Cumulative Stats'!A160","v":"Kaesviharn"},"NOS",{"$f":"'[9]Cumulative Stats'!C160","v":4},{"$f":"'[9]Cumulative Stats'!D160","v":26},{"$f":"'[9]Cumulative Stats'!E160","v":6.5},{"$f":"'[9]Cumulative Stats'!F160","v":13},{"$f":"'[9]Cumulative Stats'!G160","v":0},null,null,{"$f":"'[1]Cumulative Stats'!A175","v":"Dockett"},"ARI",{"$f":"'[1]Cumulative Stats'!C175","v":7.5}]
[{"$f":"'[16]Cumulative Stats'!A160","v":"McIntosh"},"WAS",{"$f":"'[16]Cumulative Stats'!C160","v":4},{"$f":"'[16]Cumulative Stats'!D160","v":20},{"$f":"'[16]Cumulative Stats'!E160","v":5},{"$f":"'[16]Cumulative Stats'!F160","v":6},{"$f":"'[16]Cumulative Stats'!G160","v":0},null,null,{"$f":"'[5]Cumulative Stats'!A175","v":"Ellis"},"DAL",{"$f":"'[5]Cumulative Stats'!C175","v":7.5}]
[{"$f":"'[13]Cumulative Stats'!A159","v":"Spikes"},"SFO",{"$f":"'[13]Cumulative Stats'!C159","v":4},{"$f":"'[13]Cumulative Stats'!D159","v":4},{"$f":"'[13]Cumulative Stats'!E159","v":1},{"$f":"'[13]Cumulative Stats'!F159","v":2},{"$f":"'[13]Cumulative Stats'!G159","v":0},null,null,{"$f":"'[4]Cumulative Stats'!A174","v":"Harris"},"CHI",{"$f":"'[4]Cumulative Stats'!C174","v":7.5}]
[{"$f":"'[16]Cumulative Stats'!A161","v":"Rogers"},"WAS",{"$f":"'[16]Cumulative Stats'!C161","v":3},{"$f":"'[16]Cumulative Stats'!D161","v":118},{"$f":"'[16]Cumulative Stats'!E161","v":39.333333333333336},{"$f":"'[16]Cumulative Stats'!F161","v":41},{"$f":"'[16]Cumulative Stats'!G161","v":0},null,null,{"$f":"'[5]Cumulative Stats'!A176","v":"Ratliff"},"DAL",{"$f":"'[5]Cumulative Stats'!C176","v":7.5}]
[{"$f":"'[2]Cumulative Stats'!A161","v":"Grimes"},"ATL",{"$f":"'[2]Cumulative Stats'!C161","v":3},{"$f":"'[2]Cumulative Stats'!D161","v":81},{"$f":"'[2]Cumulative Stats'!E161","v":27},{"$f":"'[2]Cumulative Stats'!F161","v":31},{"$f":"'[2]Cumulative Stats'!G161","v":0},null,null,{"$f":"'[16]Cumulative Stats'!A174","v":"Taylor"},"WAS",{"$f":"'[16]Cumulative Stats'!C174","v":7.5}]
[{"$f":"'[2]Cumulative Stats'!A160","v":"Coleman"},"ATL",{"$f":"'[2]Cumulative Stats'!C160","v":3},{"$f":"'[2]Cumulative Stats'!D160","v":53},{"$f":"'[2]Cumulative Stats'!E160","v":17.666666666666668},{"$f":"'[2]Cumulative Stats'!F160","v":31},{"$f":"'[2]Cumulative Stats'!G160","v":0},null,null,{"$f":"'[9]Cumulative Stats'!A175","v":"Charleston"},"NOS",{"$f":"'[9]Cumulative Stats'!C175","v":7}]
[{"$f":"'[11]Cumulative Stats'!A161","v":"Hanson"},"PHI",{"$f":"'[11]Cumulative Stats'!C161","v":3},{"$f":"'[11]Cumulative Stats'!D161","v":45},{"$f":"'[11]Cumulative Stats'!E161","v":15},{"$f":"'[11]Cumulative Stats'!F161","v":16},{"$f":"'[11]Cumulative Stats'!G161","v":0},null,null,{"$f":"'[11]Cumulative Stats'!A176","v":"Parker"},"PHI",{"$f":"'[11]Cumulative Stats'!C176","v":7}]
[{"$f":"'[9]Cumulative Stats'!A161","v":"Fujita"},"NOS",{"$f":"'[9]Cumulative Stats'!C161","v":3},{"$f":"'[9]Cumulative Stats'!D161","v":40},{"$f":"'[9]Cumulative Stats'!E161","v":13.333333333333334},{"$f":"'[9]Cumulative Stats'!F161","v":19},{"$f":"'[9]Cumulative Stats'!G161","v":0},null,null,{"$f":"'[1]Cumulative Stats'!A176","v":"Dansby"},"ARI",{"$f":"'[1]Cumulative Stats'!C176","v":6.5}]
[{"$f":"'[3]Cumulative Stats'!A161","v":"Gamble"},"CAR",{"$f":"'[3]Cumulative Stats'!C161","v":3},{"$f":"'[3]Cumulative Stats'!D161","v":39},{"$f":"'[3]Cumulative Stats'!E161","v":13},{"$f":"'[3]Cumulative Stats'!F161","v":19},{"$f":"'[3]Cumulative Stats'!G161","v":0},null,null,{"$f":"'[3]Cumulative Stats'!A175","v":"Johnson, C"},"CAR",{"$f":"'[3]Cumulative Stats'!C175","v":6.5}]
[{"$f":"'[15]Cumulative Stats'!A161","v":"Phillips"},"TBB",{"$f":"'[15]Cumulative Stats'!C161","v":3},{"$f":"'[15]Cumulative Stats'!D161","v":26},{"$f":"'[15]Cumulative Stats'!E161","v":8.6666666666666661},{"$f":"'[15]Cumulative Stats'!F161","v":13},{"$f":"'[15]Cumulative Stats'!G161","v":0},null,null,{"$f":"'[14]Cumulative Stats'!A175","v":"Little"},"STL",{"$f":"'[14]Cumulative Stats'!C175","v":6.5}]
[{"$f":"'[9]Cumulative Stats'!A163","v":"Vilma"},"NOS",{"$f":"'[9]Cumulative Stats'!C163","v":3},{"$f":"'[9]Cumulative Stats'!D163","v":16},{"$f":"'[9]Cumulative Stats'!E163","v":5.333333333333333},{"$f":"'[9]Cumulative Stats'!F163","v":8},{"$f":"'[9]Cumulative Stats'!G163","v":0},null,null,{"$f":"'[8]Cumulative Stats'!A175","v":"Williams, K"},"MIN",{"$f":"'[8]Cumulative Stats'!C175","v":6.5}]
[{"$f":"'[8]Cumulative Stats'!A160","v":"Winfield"},"MIN",{"$f":"'[8]Cumulative Stats'!C160","v":3},{"$f":"'[8]Cumulative Stats'!D160","v":14},{"$f":"'[8]Cumulative Stats'!E160","v":4.666666666666667},{"$f":"'[8]Cumulative Stats'!F160","v":10},{"$f":"'[8]Cumulative Stats'!G160","v":0},null,null,{"$f":"'[15]Cumulative Stats'!A175","v":"Barber"},"TBB",{"$f":"'[15]Cumulative Stats'!C175","v":6}]
[{"$f":"'[13]Cumulative Stats'!A161","v":"Clements"},"SFO",{"$f":"'[13]Cumulative Stats'!C161","v":3},{"$f":"'[13]Cumulative Stats'!D161","v":13},{"$f":"'[13]Cumulative Stats'!E161","v":4.333333333333333},{"$f":"'[13]Cumulative Stats'!F161","v":13},{"$f":"'[13]Cumulative Stats'!G161","v":0},null,null,{"$f":"'[2]Cumulative Stats'!A175","v":"Davis"},"ATL",{"$f":"'[2]Cumulative Stats'!C175","v":6}]
[{"$f":"'[5]Cumulative Stats'!A159","v":"Newman"},"DAL",{"$f":"'[5]Cumulative Stats'!C159","v":3},{"$f":"'[5]Cumulative Stats'!D159","v":10},{"$f":"'[5]Cumulative Stats'!E159","v":3.3333333333333335},{"$f":"'[5]Cumulative Stats'!F159","v":6},{"$f":"'[5]Cumulative Stats'!G159","v":0},null,null,{"$f":"'[11]Cumulative Stats'!A177","v":"Dawkins"},"PHI",{"$f":"'[11]Cumulative Stats'!C177","v":6}]
[{"$f":"'[13]Cumulative Stats'!A160","v":"Harris"},"SFO",{"$f":"'[13]Cumulative Stats'!C160","v":3},{"$f":"'[13]Cumulative Stats'!D160","v":0},{"$f":"'[13]Cumulative Stats'!E160","v":0},{"$f":"'[13]Cumulative Stats'!F160","v":0},{"$f":"'[13]Cumulative Stats'!G160","v":0},null,null,{"$f":"'[12]Cumulative Stats'!A175","v":"Kerney"},"SEA",{"$f":"'[12]Cumulative Stats'!C175","v":6}]
[{"$f":"'[9]Cumulative Stats'!A162","v":"Young, U"},"NOS",{"$f":"'[9]Cumulative Stats'!C162","v":3},{"$f":"'[9]Cumulative Stats'!D162","v":0},{"$f":"'[9]Cumulative Stats'!E162","v":0},{"$f":"'[9]Cumulative Stats'!F162","v":0},{"$f":"'[9]Cumulative Stats'!G162","v":0},null,null,{"$f":"'[4]Cumulative Stats'!A175","v":"Brown, A"},"CHI",{"$f":"'[4]Cumulative Stats'!C175","v":5.5}]
[{"$f":"'[1]Cumulative Stats'!A159","v":"Hood"},"ARI",{"$f":"'[1]Cumulative Stats'!C159","v":3},{"$f":"'[1]Cumulative Stats'!D159","v":-1},{"$f":"'[1]Cumulative Stats'!E159","v":-0.33333333333333331},{"$f":"'[1]Cumulative Stats'!F159","v":-1},{"$f":"'[1]Cumulative Stats'!G159","v":0},null,null,{"$f":"'[15]Cumulative Stats'!A177","v":"Carter"},"TBB",{"$f":"'[15]Cumulative Stats'!C177","v":5.5}]
[{"$f":"'[16]Cumulative Stats'!A162","v":"Springs"},"WAS",{"$f":"'[16]Cumulative Stats'!C162","v":3},{"$f":"'[16]Cumulative Stats'!D162","v":-1},{"$f":"'[16]Cumulative Stats'!E162","v":-0.33333333333333331},{"$f":"'[16]Cumulative Stats'!F162","v":0},{"$f":"'[16]Cumulative Stats'!G162","v":0},null,null,{"$f":"'[13]Cumulative Stats'!A175","v":"Haralson"},"SFO",{"$f":"'[13]Cumulative Stats'!C175","v":5.5}]
[{"$f":"'[8]Cumulative Stats'!A161","v":"Griifin"},"MIN",{"$f":"'[8]Cumulative Stats'!C161","v":3},{"$f":"'[8]Cumulative Stats'!D161","v":-6},{"$f":"'[8]Cumulative Stats'!E161","v":-2},{"$f":"'[8]Cumulative Stats'!F161","v":0},{"$f":"'[8]Cumulative Stats'!G161","v":0},null,null,{"$f":"'[5]Cumulative Stats'!A177","v":"James"},"DAL",{"$f":"'[5]Cumulative Stats'!C177","v":5.5}]
[{"$f":"'[7]Cumulative Stats'!A162","v":"Rouse"},"GBP",{"$f":"'[7]Cumulative Stats'!C162","v":2},{"$f":"'[7]Cumulative Stats'!D162","v":82},{"$f":"'[7]Cumulative Stats'!E162","v":41},{"$f":"'[7]Cumulative Stats'!F162","v":41},{"$f":"'[7]Cumulative Stats'!G162","v":0},null,null,{"$f":"'[12]Cumulative Stats'!A176","v":"Mebane"},"SEA",{"$f":"'[12]Cumulative Stats'!C176","v":5.5}]
[{"$f":"'[1]Cumulative Stats'!A161","v":"Okeafor"},"ARI",{"$f":"'[1]Cumulative Stats'!C161","v":2},{"$f":"'[1]Cumulative Stats'!D161","v":77},{"$f":"'[1]Cumulative Stats'!E161","v":38.5},{"$f":"'[1]Cumulative Stats'!F161","v":41},{"$f":"'[1]Cumulative Stats'!G161","v":0},null,null,{"$f":"'[14]Cumulative Stats'!A176","v":"Tinoisamoa"},"STL",{"$f":"'[14]Cumulative Stats'!C176","v":5.5}]
[{"$f":"'[1]Cumulative Stats'!A160","v":"Rodgers-Cromartie"},"ARI",{"$f":"'[1]Cumulative Stats'!C160","v":2},{"$f":"'[1]Cumulative Stats'!D160","v":59},{"$f":"'[1]Cumulative Stats'!E160","v":29.5},{"$f":"'[1]Cumulative Stats'!F160","v":59},{"$f":"'[1]Cumulative Stats'!G160","v":1},null,null,{"$f":"'[15]Cumulative Stats'!A176","v":"Wilkerson"},"TBB",{"$f":"'[15]Cumulative Stats'!C176","v":5.5}]
[{"$f":"'[7]Cumulative Stats'!A161","v":"Collins"},"GBP",{"$f":"'[7]Cumulative Stats'!C161","v":2},{"$f":"'[7]Cumulative Stats'!D161","v":57},{"$f":"'[7]Cumulative Stats'!E161","v":28.5},{"$f":"'[7]Cumulative Stats'!F161","v":45},{"$f":"'[7]Cumulative Stats'!G161","v":2},null,null,{"$f":"'[6]Cumulative Stats'!A176","v":"Avril"},"DET",{"$f":"'[6]Cumulative Stats'!C176","v":5}]
[{"$f":"'[8]Cumulative Stats'!A162","v":"Sapp"},"MIN",{"$f":"'[8]Cumulative Stats'!C162","v":2},{"$f":"'[8]Cumulative Stats'!D162","v":32},{"$f":"'[8]Cumulative Stats'!E162","v":16},{"$f":"'[8]Cumulative Stats'!F162","v":16},{"$f":"'[8]Cumulative Stats'!G162","v":0},null,null,{"$f":"'[9]Cumulative Stats'!A176","v":"Clancy"},"NOS",{"$f":"'[9]Cumulative Stats'!C176","v":5}]
[{"$f":"'[8]Cumulative Stats'!A164","v":"Sharper"},"MIN",{"$f":"'[8]Cumulative Stats'!C164","v":2},{"$f":"'[8]Cumulative Stats'!D164","v":29},{"$f":"'[8]Cumulative Stats'!E164","v":14.5},{"$f":"'[8]Cumulative Stats'!F164","v":16},{"$f":"'[8]Cumulative Stats'!G164","v":0},null,null,{"$f":"'[1]Cumulative Stats'!A178","v":"Haggans"},"ARI",{"$f":"'[1]Cumulative Stats'!C178","v":5}]
[{"$f":"'[3]Cumulative Stats'!A162","v":"Marshall"},"CAR",{"$f":"'[3]Cumulative Stats'!C162","v":2},{"$f":"'[3]Cumulative Stats'!D162","v":26},{"$f":"'[3]Cumulative Stats'!E162","v":13},{"$f":"'[3]Cumulative Stats'!F162","v":13},{"$f":"'[3]Cumulative Stats'!G162","v":0},null,null,{"$f":"'[13]Cumulative Stats'!A176","v":"Lewis, M"},"SFO",{"$f":"'[13]Cumulative Stats'!C176","v":5}]
[{"$f":"'[4]Cumulative Stats'!A160","v":"Urlacher"},"CHI",{"$f":"'[4]Cumulative Stats'!C160","v":2},{"$f":"'[4]Cumulative Stats'!D160","v":26},{"$f":"'[4]Cumulative Stats'!E160","v":13},{"$f":"'[4]Cumulative Stats'!F160","v":13},{"$f":"'[4]Cumulative Stats'!G160","v":0},null,null,{"$f":"'[15]Cumulative Stats'!A179","v":"Ruud"},"TBB",{"$f":"'[15]Cumulative Stats'!C179","v":5}]
[{"$f":"'[4]Cumulative Stats'!A159","v":"Tillman"},"CHI",{"$f":"'[4]Cumulative Stats'!C159","v":2},{"$f":"'[4]Cumulative Stats'!D159","v":20},{"$f":"'[4]Cumulative Stats'!E159","v":10},{"$f":"'[4]Cumulative Stats'!F159","v":10},{"$f":"'[4]Cumulative Stats'!G159","v":0},null,null,{"$f":"'[1]Cumulative Stats'!A177","v":"Smith, A"},"ARI",{"$f":"'[1]Cumulative Stats'!C177","v":5}]
[{"$f":"'[16]Cumulative Stats'!A163","v":"Landry"},"WAS",{"$f":"'[16]Cumulative Stats'!C163","v":2},{"$f":"'[16]Cumulative Stats'!D163","v":19},{"$f":"'[16]Cumulative Stats'!E163","v":9.5},{"$f":"'[16]Cumulative Stats'!F163","v":13},{"$f":"'[16]Cumulative Stats'!G163","v":0},null,null,{"$f":"'[15]Cumulative Stats'!A178","v":"White"},"TBB",{"$f":"'[15]Cumulative Stats'!C178","v":5}]
[{"$f":"'[8]Cumulative Stats'!A165","v":"Gordon"},"MIN",{"$f":"'[8]Cumulative Stats'!C165","v":2},{"$f":"'[8]Cumulative Stats'!D165","v":10},{"$f":"'[8]Cumulative Stats'!E165","v":5},{"$f":"'[8]Cumulative Stats'!F165","v":10},{"$f":"'[8]Cumulative Stats'!G165","v":0},null,null,{"$f":"'[14]Cumulative Stats'!A177","v":"Long"},"STL",{"$f":"'[14]Cumulative Stats'!C177","v":4.5}]
[{"$f":"'[14]Cumulative Stats'!A160","v":"Bartell"},"STL",{"$f":"'[14]Cumulative Stats'!C160","v":2},{"$f":"'[14]Cumulative Stats'!D160","v":7},{"$f":"'[14]Cumulative Stats'!E160","v":3.5},{"$f":"'[14]Cumulative Stats'!F160","v":5},{"$f":"'[14]Cumulative Stats'!G160","v":0},null,null,{"$f":"'[12]Cumulative Stats'!A177","v":"Tapp"},"SEA",{"$f":"'[12]Cumulative Stats'!C177","v":4.5}]
[{"$f":"'[5]Cumulative Stats'!A160","v":"Henry"},"DAL",{"$f":"'[5]Cumulative Stats'!C160","v":2},{"$f":"'[5]Cumulative Stats'!D160","v":6},{"$f":"'[5]Cumulative Stats'!E160","v":3},{"$f":"'[5]Cumulative Stats'!F160","v":6},{"$f":"'[5]Cumulative Stats'!G160","v":0},null,null,{"$f":"'[10]Cumulative Stats'!A177","v":"Tollefson"},"NYG",{"$f":"'[10]Cumulative Stats'!C177","v":4.5}]
[{"$f":"'[15]Cumulative Stats'!A162","v":"Talib"},"TBB",{"$f":"'[15]Cumulative Stats'!C162","v":2},{"$f":"'[15]Cumulative Stats'!D162","v":6},{"$f":"'[15]Cumulative Stats'!E162","v":3},{"$f":"'[15]Cumulative Stats'!F162","v":4},{"$f":"'[15]Cumulative Stats'!G162","v":0},null,null,{"$f":"'[8]Cumulative Stats'!A176","v":"Williams, P"},"MIN",{"$f":"'[8]Cumulative Stats'!C176","v":4.5}]
[{"$f":"'[2]Cumulative Stats'!A162","v":"Foxworth"},"ATL",{"$f":"'[2]Cumulative Stats'!C162","v":2},{"$f":"'[2]Cumulative Stats'!D162","v":4},{"$f":"'[2]Cumulative Stats'!E162","v":2},{"$f":"'[2]Cumulative Stats'!F162","v":2},{"$f":"'[2]Cumulative Stats'!G162","v":0},null,null,{"$f":"'[16]Cumulative Stats'!A175","v":"Carter"},"WAS",{"$f":"'[16]Cumulative Stats'!C175","v":4}]
[{"$f":"'[16]Cumulative Stats'!A164","v":"Hall"},"WAS",{"$f":"'[16]Cumulative Stats'!C164","v":2},{"$f":"'[16]Cumulative Stats'!D164","v":4},{"$f":"'[16]Cumulative Stats'!E164","v":2},{"$f":"'[16]Cumulative Stats'!F164","v":2},{"$f":"'[16]Cumulative Stats'!G164","v":0},null,null,{"$f":"'[6]Cumulative Stats'!A177","v":"DeVries"},"DET",{"$f":"'[6]Cumulative Stats'!C177","v":4}]
[{"$f":"'[13]Cumulative Stats'!A162","v":"Brown"},"SFO",{"$f":"'[13]Cumulative Stats'!C162","v":2},{"$f":"'[13]Cumulative Stats'!D162","v":1},{"$f":"'[13]Cumulative Stats'!E162","v":0.5},{"$f":"'[13]Cumulative Stats'!F162","v":2},{"$f":"'[13]Cumulative Stats'!G162","v":0},null,null,{"$f":"'[6]Cumulative Stats'!A178","v":"Lenon"},"DET",{"$f":"'[6]Cumulative Stats'!C178","v":4}]
[{"$f":"'[10]Cumulative Stats'!A161","v":"Ross"},"NYG",{"$f":"'[10]Cumulative Stats'!C161","v":2},{"$f":"'[10]Cumulative Stats'!D161","v":0},{"$f":"'[10]Cumulative Stats'!E161","v":0},{"$f":"'[10]Cumulative Stats'!F161","v":0},{"$f":"'[10]Cumulative Stats'!G161","v":0},null,null,{"$f":"'[12]Cumulative Stats'!A178","v":"Bernard, R"},"SEA",{"$f":"'[12]Cumulative Stats'!C178","v":3.5}]
[{"$f":"'[8]Cumulative Stats'!A163","v":"Williams, M"},"MIN",{"$f":"'[8]Cumulative Stats'!C163","v":2},{"$f":"'[8]Cumulative Stats'!D163","v":0},{"$f":"'[8]Cumulative Stats'!E163","v":0},{"$f":"'[8]Cumulative Stats'!F163","v":0},{"$f":"'[8]Cumulative Stats'!G163","v":0},null,null,{"$f":"'[5]Cumulative Stats'!A178","v":"Canty"},"DAL",{"$f":"'[5]Cumulative Stats'!C178","v":3.5}]
[{"$f":"'[4]Cumulative Stats'!A162","v":"McBride"},"CHI",{"$f":"'[4]Cumulative Stats'!C162","v":2},{"$f":"'[4]Cumulative Stats'!D162","v":0},{"$f":"'[4]Cumulative Stats'!E162","v":0},{"$f":"'[4]Cumulative Stats'!F162","v":0},{"$f":"'[4]Cumulative Stats'!G162","v":0},null,null,{"$f":"'[11]Cumulative Stats'!A178","v":"Clemons"},"PHI",{"$f":"'[11]Cumulative Stats'!C178","v":3.5}]
[{"$f":"'[4]Cumulative Stats'!A161","v":"Brown, M"},"CHI",{"$f":"'[4]Cumulative Stats'!C161","v":2},{"$f":"'[4]Cumulative Stats'!D161","v":0},{"$f":"'[4]Cumulative Stats'!E161","v":0},{"$f":"'[4]Cumulative Stats'!F161","v":0},{"$f":"'[4]Cumulative Stats'!G161","v":0},null,null,{"$f":"'[3]Cumulative Stats'!A176","v":"Davis"},"CAR",{"$f":"'[3]Cumulative Stats'!C176","v":3.5}]
[{"$f":"'[4]Cumulative Stats'!A163","v":"Vasher"},"CHI",{"$f":"'[4]Cumulative Stats'!C163","v":2},{"$f":"'[4]Cumulative Stats'!D163","v":-1},{"$f":"'[4]Cumulative Stats'!E163","v":-0.5},{"$f":"'[4]Cumulative Stats'!F163","v":0},{"$f":"'[4]Cumulative Stats'!G163","v":0},null,null,{"$f":"'[11]Cumulative Stats'!A179","v":"Gaither"},"PHI",{"$f":"'[11]Cumulative Stats'!C179","v":3.5}]
[{"$f":"'[16]Cumulative Stats'!A165","v":"Smoot"},"WAS",{"$f":"'[16]Cumulative Stats'!C165","v":2},{"$f":"'[16]Cumulative Stats'!D165","v":-1},{"$f":"'[16]Cumulative Stats'!E165","v":-0.5},{"$f":"'[16]Cumulative Stats'!F165","v":0},{"$f":"'[16]Cumulative Stats'!G165","v":0},null,null,{"$f":"'[6]Cumulative Stats'!A179","v":"Smith, C"},"DET",{"$f":"'[6]Cumulative Stats'!C179","v":3.5}]
[{"$f":"'[4]Cumulative Stats'!A165","v":"Manning"},"CHI",{"$f":"'[4]Cumulative Stats'!C165","v":1},{"$f":"'[4]Cumulative Stats'!D165","v":41},{"$f":"'[4]Cumulative Stats'!E165","v":41},{"$f":"'[4]Cumulative Stats'!F165","v":41},{"$f":"'[4]Cumulative Stats'!G165","v":0},null,null,{"$f":"'[10]Cumulative Stats'!A178","v":"Wynn"},"NYG",{"$f":"'[10]Cumulative Stats'!C178","v":3.5}]
[{"$f":"'[5]Cumulative Stats'!A161","v":"Jenkins"},"DAL",{"$f":"'[5]Cumulative Stats'!C161","v":1},{"$f":"'[5]Cumulative Stats'!D161","v":27},{"$f":"'[5]Cumulative Stats'!E161","v":27},{"$f":"'[5]Cumulative Stats'!F161","v":27},{"$f":"'[5]Cumulative Stats'!G161","v":0},null,null,{"$f":"'[16]Cumulative Stats'!A176","v":"Alexander, L"},"WAS",{"$f":"'[16]Cumulative Stats'!C176","v":3}]
[{"$f":"'[9]Cumulative Stats'!A164","v":"McKenzie"},"NOS",{"$f":"'[9]Cumulative Stats'!C164","v":1},{"$f":"'[9]Cumulative Stats'!D164","v":27},{"$f":"'[9]Cumulative Stats'!E164","v":27},{"$f":"'[9]Cumulative Stats'!F164","v":27},{"$f":"'[9]Cumulative Stats'!G164","v":0},null,null,{"$f":"'[1]Cumulative Stats'!A179","v":"Berry"},"ARI",{"$f":"'[1]Cumulative Stats'!C179","v":3}]
[{"$f":"'[10]Cumulative Stats'!A163","v":"Madison"},"NYG",{"$f":"'[10]Cumulative Stats'!C163","v":1},{"$f":"'[10]Cumulative Stats'!D163","v":19},{"$f":"'[10]Cumulative Stats'!E163","v":19},{"$f":"'[10]Cumulative Stats'!F163","v":19},{"$f":"'[10]Cumulative Stats'!G163","v":0},null,null,{"$f":"'[2]Cumulative Stats'!A176","v":"Biemann"},"ATL",{"$f":"'[2]Cumulative Stats'!C176","v":3}]
[{"$f":"'[10]Cumulative Stats'!A164","v":"Kehl"},"NYG",{"$f":"'[10]Cumulative Stats'!C164","v":1},{"$f":"'[10]Cumulative Stats'!D164","v":19},{"$f":"'[10]Cumulative Stats'!E164","v":19},{"$f":"'[10]Cumulative Stats'!F164","v":19},{"$f":"'[10]Cumulative Stats'!G164","v":0},null,null,{"$f":"'[11]Cumulative Stats'!A181","v":"Bradley"},"PHI",{"$f":"'[11]Cumulative Stats'!C181","v":3}]
[{"$f":"'[11]Cumulative Stats'!A164","v":"Bradley"},"PHI",{"$f":"'[11]Cumulative Stats'!C164","v":1},{"$f":"'[11]Cumulative Stats'!D164","v":19},{"$f":"'[11]Cumulative Stats'!E164","v":19},{"$f":"'[11]Cumulative Stats'!F164","v":19},{"$f":"'[11]Cumulative Stats'!G164","v":0},null,null,{"$f":"'[11]Cumulative Stats'!A182","v":"Brown, S"},"PHI",{"$f":"'[11]Cumulative Stats'!C182","v":3}]
[{"$f":"'[3]Cumulative Stats'!A163","v":"Godfrey"},"CAR",{"$f":"'[3]Cumulative Stats'!C163","v":1},{"$f":"'[3]Cumulative Stats'!D163","v":16},{"$f":"'[3]Cumulative Stats'!E163","v":16},{"$f":"'[3]Cumulative Stats'!F163","v":16},{"$f":"'[3]Cumulative Stats'!G163","v":0},null,null,{"$f":"'[11]Cumulative Stats'!A180","v":"Bunkley"},"PHI",{"$f":"'[11]Cumulative Stats'!C180","v":3}]
[{"$f":"'[11]Cumulative Stats'!A162","v":"Parker"},"PHI",{"$f":"'[11]Cumulative Stats'!C162","v":1},{"$f":"'[11]Cumulative Stats'!D162","v":15},{"$f":"'[11]Cumulative Stats'!E162","v":15},{"$f":"'[11]Cumulative Stats'!F162","v":15},{"$f":"'[11]Cumulative Stats'!G162","v":1},null,null,{"$f":"'[8]Cumulative Stats'!A178","v":"Edwards"},"MIN",{"$f":"'[8]Cumulative Stats'!C178","v":3}]
[{"$f":"'[8]Cumulative Stats'!A166","v":"Johnson, T"},"MIN",{"$f":"'[8]Cumulative Stats'!C166","v":1},{"$f":"'[8]Cumulative Stats'!D166","v":10},{"$f":"'[8]Cumulative Stats'!E166","v":10},{"$f":"'[8]Cumulative Stats'!F166","v":10},{"$f":"'[8]Cumulative Stats'!G166","v":0},null,null,{"$f":"'[9]Cumulative Stats'!A177","v":"Ellis"},"NOS",{"$f":"'[9]Cumulative Stats'!C177","v":3}]
[{"$f":"'[14]Cumulative Stats'!A162","v":"Wade"},"STL",{"$f":"'[14]Cumulative Stats'!C162","v":1},{"$f":"'[14]Cumulative Stats'!D162","v":10},{"$f":"'[14]Cumulative Stats'!E162","v":10},{"$f":"'[14]Cumulative Stats'!F162","v":10},{"$f":"'[14]Cumulative Stats'!G162","v":0},null,null,{"$f":"'[8]Cumulative Stats'!A177","v":"Greenway"},"MIN",{"$f":"'[8]Cumulative Stats'!C177","v":3}]
[{"$f":"'[1]Cumulative Stats'!A162","v":"Green"},"ARI",{"$f":"'[1]Cumulative Stats'!C162","v":1},{"$f":"'[1]Cumulative Stats'!D162","v":10},{"$f":"'[1]Cumulative Stats'!E162","v":10},{"$f":"'[1]Cumulative Stats'!F162","v":10},{"$f":"'[1]Cumulative Stats'!G162","v":0},null,null,{"$f":"'[5]Cumulative Stats'!A179","v":"Hamlin"},"DAL",{"$f":"'[5]Cumulative Stats'!C179","v":3}]
[{"$f":"'[2]Cumulative Stats'!A163","v":"Milloy"},"ATL",{"$f":"'[2]Cumulative Stats'!C163","v":1},{"$f":"'[2]Cumulative Stats'!D163","v":7},{"$f":"'[2]Cumulative Stats'!E163","v":7},{"$f":"'[2]Cumulative Stats'!F163","v":7},{"$f":"'[2]Cumulative Stats'!G163","v":1},null,null,{"$f":"'[8]Cumulative Stats'!A181","v":"Harris"},"MIN",{"$f":"'[8]Cumulative Stats'!C181","v":3}]
[{"$f":"'[15]Cumulative Stats'!A163","v":"Adams"},"TBB",{"$f":"'[15]Cumulative Stats'!C163","v":1},{"$f":"'[15]Cumulative Stats'!D163","v":6},{"$f":"'[15]Cumulative Stats'!E163","v":6},{"$f":"'[15]Cumulative Stats'!F163","v":6},{"$f":"'[15]Cumulative Stats'!G163","v":0},null,null,{"$f":"'[1]Cumulative Stats'!A181","v":"Hayes"},"ARI",{"$f":"'[1]Cumulative Stats'!C181","v":3}]
[{"$f":"'[4]Cumulative Stats'!A166","v":"Graham"},"CHI",{"$f":"'[4]Cumulative Stats'!C166","v":1},{"$f":"'[4]Cumulative Stats'!D166","v":4},{"$f":"'[4]Cumulative Stats'!E166","v":4},{"$f":"'[4]Cumulative Stats'!F166","v":4},{"$f":"'[4]Cumulative Stats'!G166","v":0},null,null,{"$f":"'[7]Cumulative Stats'!A175","v":"Hunter"},"GBP",{"$f":"'[7]Cumulative Stats'!C175","v":3}]
[{"$f":"'[7]Cumulative Stats'!A163","v":"Bigby"},"GBP",{"$f":"'[7]Cumulative Stats'!C163","v":1},{"$f":"'[7]Cumulative Stats'!D163","v":4},{"$f":"'[7]Cumulative Stats'!E163","v":4},{"$f":"'[7]Cumulative Stats'!F163","v":4},{"$f":"'[7]Cumulative Stats'!G163","v":0},null,null,{"$f":"'[11]Cumulative Stats'!A183","v":"Klecko"},"PHI",{"$f":"'[11]Cumulative Stats'!C183","v":3}]
[{"$f":"'[4]Cumulative Stats'!A164","v":"Briggs"},"CHI",{"$f":"'[4]Cumulative Stats'!C164","v":1},{"$f":"'[4]Cumulative Stats'!D164","v":4},{"$f":"'[4]Cumulative Stats'!E164","v":4},{"$f":"'[4]Cumulative Stats'!F164","v":4},{"$f":"'[4]Cumulative Stats'!G164","v":0},null,null,{"$f":"'[1]Cumulative Stats'!A180","v":"LaBoy"},"ARI",{"$f":"'[1]Cumulative Stats'!C180","v":3}]
[{"$f":"'[10]Cumulative Stats'!A162","v":"Webster"},"NYG",{"$f":"'[10]Cumulative Stats'!C162","v":1},{"$f":"'[10]Cumulative Stats'!D162","v":4},{"$f":"'[10]Cumulative Stats'!E162","v":4},{"$f":"'[10]Cumulative Stats'!F162","v":4},{"$f":"'[10]Cumulative Stats'!G162","v":0},null,null,{"$f":"'[16]Cumulative Stats'!A177","v":"Montgomery, A"},"WAS",{"$f":"'[16]Cumulative Stats'!C177","v":3}]
[{"$f":"'[10]Cumulative Stats'!A165","v":"Phillips"},"NYG",{"$f":"'[10]Cumulative Stats'!C165","v":1},{"$f":"'[10]Cumulative Stats'!D165","v":2},{"$f":"'[10]Cumulative Stats'!E165","v":2},{"$f":"'[10]Cumulative Stats'!F165","v":2},{"$f":"'[10]Cumulative Stats'!G165","v":0},null,null,{"$f":"'[6]Cumulative Stats'!A180","v":"Nece"},"DET",{"$f":"'[6]Cumulative Stats'!C180","v":3}]
[{"$f":"'[6]Cumulative Stats'!A160","v":"Bodden"},"DET",{"$f":"'[6]Cumulative Stats'!C160","v":1},{"$f":"'[6]Cumulative Stats'!D160","v":2},{"$f":"'[6]Cumulative Stats'!E160","v":2},{"$f":"'[6]Cumulative Stats'!F160","v":2},{"$f":"'[6]Cumulative Stats'!G160","v":0},null,null,{"$f":"'[10]Cumulative Stats'!A179","v":"Pierce"},"NYG",{"$f":"'[10]Cumulative Stats'!C179","v":3}]
[{"$f":"'[11]Cumulative Stats'!A163","v":"Dawkins"},"PHI",{"$f":"'[11]Cumulative Stats'!C163","v":1},{"$f":"'[11]Cumulative Stats'!D163","v":1},{"$f":"'[11]Cumulative Stats'!E163","v":1},{"$f":"'[11]Cumulative Stats'!F163","v":1},{"$f":"'[11]Cumulative Stats'!G163","v":0},null,null,{"$f":"'[8]Cumulative Stats'!A179","v":"Robison"},"MIN",{"$f":"'[8]Cumulative Stats'!C179","v":3}]
[{"$f":"'[16]Cumulative Stats'!A166","v":"Griffin"},"WAS",{"$f":"'[16]Cumulative Stats'!C166","v":1},{"$f":"'[16]Cumulative Stats'!D166","v":0},{"$f":"'[16]Cumulative Stats'!E166","v":0},{"$f":"'[16]Cumulative Stats'!F166","v":0},{"$f":"'[16]Cumulative Stats'!G166","v":0},null,null,{"$f":"'[6]Cumulative Stats'!A181","v":"Sims"},"DET",{"$f":"'[6]Cumulative Stats'!C181","v":3}]
[{"$f":"'[4]Cumulative Stats'!A168","v":"Brown, A"},"CHI",{"$f":"'[4]Cumulative Stats'!C168","v":1},{"$f":"'[4]Cumulative Stats'!D168","v":0},{"$f":"'[4]Cumulative Stats'!E168","v":0},{"$f":"'[4]Cumulative Stats'!F168","v":0},{"$f":"'[4]Cumulative Stats'!G168","v":0},null,null,{"$f":"'[9]Cumulative Stats'!A178","v":"Smith"},"NOS",{"$f":"'[9]Cumulative Stats'!C178","v":3}]
[{"$f":"'[11]Cumulative Stats'!A165","v":"Sheppard"},"PHI",{"$f":"'[11]Cumulative Stats'!C165","v":1},{"$f":"'[11]Cumulative Stats'!D165","v":0},{"$f":"'[11]Cumulative Stats'!E165","v":0},{"$f":"'[11]Cumulative Stats'!F165","v":0},{"$f":"'[11]Cumulative Stats'!G165","v":0},null,null,{"$f":"'[13]Cumulative Stats'!A177","v":"Spikes"},"SFO",{"$f":"'[13]Cumulative Stats'!C177","v":3}]
[{"$f":"'[4]Cumulative Stats'!A167","v":"Ogunleye"},"CHI",{"$f":"'[4]Cumulative Stats'!C167","v":1},{"$f":"'[4]Cumulative Stats'!D167","v":0},{"$f":"'[4]Cumulative Stats'!E167","v":0},{"$f":"'[4]Cumulative Stats'!F167","v":0},{"$f":"'[4]Cumulative Stats'!G167","v":0},null,null,{"$f":"'[8]Cumulative Stats'!A180","v":"Wyms"},"MIN",{"$f":"'[8]Cumulative Stats'!C180","v":3}]
[{"$f":"'[14]Cumulative Stats'!A161","v":"Craft"},"STL",{"$f":"'[14]Cumulative Stats'!C161","v":1},{"$f":"'[14]Cumulative Stats'!D161","v":0},{"$f":"'[14]Cumulative Stats'!E161","v":0},{"$f":"'[14]Cumulative Stats'!F161","v":0},{"$f":"'[14]Cumulative Stats'!G161","v":0},null,null,{"$f":"'[14]Cumulative Stats'!A178","v":"Adeyanju"},"STL",{"$f":"'[14]Cumulative Stats'!C178","v":2.5}]
[{"$f":"'[6]Cumulative Stats'!A161","v":"Smith, C"},"DET",{"$f":"'[6]Cumulative Stats'!C161","v":1},{"$f":"'[6]Cumulative Stats'!D161","v":-1},{"$f":"'[6]Cumulative Stats'!E161","v":-1},{"$f":"'[6]Cumulative Stats'!F161","v":0},{"$f":"'[6]Cumulative Stats'!G161","v":0},null,null,{"$f":"'[10]Cumulative Stats'!A180","v":"Alford"},"NYG",{"$f":"'[10]Cumulative Stats'!C180","v":2.5}]
[{"$f":"'[12]Cumulative Stats'!A161","v":"Trufant"},"SEA",{"$f":"'[12]Cumulative Stats'!C161","v":1},{"$f":"'[12]Cumulative Stats'!D161","v":-1},{"$f":"'[12]Cumulative Stats'!E161","v":-1},{"$f":"'[12]Cumulative Stats'!F161","v":0},{"$f":"'[12]Cumulative Stats'!G161","v":0},null,null,{"$f":"'[4]Cumulative Stats'!A177","v":"Anderson"},"CHI",{"$f":"'[4]Cumulative Stats'!C177","v":2.5}]
[null,null,null,null,null,null,null,null,null,{"$f":"'[4]Cumulative Stats'!A176","v":"Idonije"},"CHI",{"$f":"'[4]Cumulative Stats'!C176","v":2.5}]
[null,null,null,null,null,null,null,null,null,{"$f":"'[3]Cumulative Stats'!A177","v":"Lewis"},"CAR",{"$f":"'[3]Cumulative Stats'!C177","v":2.5}]
[null,null,null,null,null,null,null,null,null,{"$f":"'[6]Cumulative Stats'!A182","v":"Moore, L"},"DET",{"$f":"'[6]Cumulative Stats'!C182","v":2.5}]
[null,null,null,null,null,null,null,null,null,{"$f":"'[1]Cumulative Stats'!A182","v":"Wilson"},"ARI",{"$f":"'[1]Cumulative Stats'!C182","v":2.5}]
[null,null,null,null,null,null,null,null,null,{"$f":"'[11]Cumulative Stats'!A185","v":"Abiamiri"},"PHI",{"$f":"'[11]Cumulative Stats'!C185","v":2}]
[null,null,null,null,null,null,null,null,null,{"$f":"'[2]Cumulative Stats'!A177","v":"Babineaux"},"ATL",{"$f":"'[2]Cumulative Stats'!C177","v":2}]
[null,null,null,null,null,null,null,null,null,{"$f":"'[14]Cumulative Stats'!A180","v":"Bartell"},"STL",{"$f":"'[14]Cumulative Stats'!C180","v":2}]
[null,null,null,null,null,null,null,null,null,{"$f":"'[10]Cumulative Stats'!A182","v":"Blackburn"},"NYG",{"$f":"'[10]Cumulative Stats'!C182","v":2}]
[null,null,null,null,null,null,null,null,null,{"$f":"'[3]Cumulative Stats'!A178","v":"Brayton"},"CAR",{"$f":"'[3]Cumulative Stats'!C178","v":2}]
[null,null,null,null,null,null,null,null,null,{"$f":"'[14]Cumulative Stats'!A181","v":"Brown, F"},"STL",{"$f":"'[14]Cumulative Stats'!C181","v":2}]
[null,null,null,null,null,null,null,null,null,{"$f":"'[10]Cumulative Stats'!A181","v":"Cofield"},"NYG",{"$f":"'[10]Cumulative Stats'!C181","v":2}]
[null,null,null,null,null,null,null,null,null,{"$f":"'[14]Cumulative Stats'!A179","v":"Craft"},"STL",{"$f":"'[14]Cumulative Stats'!C179","v":2}]
[null,null,null,null,null,null,null,null,null,{"$f":"'[6]Cumulative Stats'!A183","v":"Darby"},"DET",{"$f":"'[6]Cumulative Stats'!C183","v":2}]
[null,null,null,null,null,null,null,null,null,{"$f":"'[11]Cumulative Stats'!A184","v":"Gocong"},"PHI",{"$f":"'[11]Cumulative Stats'!C184","v":2}]
[null,null,null,null,null,null,null,null,null,{"$f":"'[15]Cumulative Stats'!A181","v":"Hovan"},"TBB",{"$f":"'[15]Cumulative Stats'!C181","v":2}]
[null,null,null,null,null,null,null,null,null,{"$f":"'[12]Cumulative Stats'!A179","v":"Jackson"},"SEA",{"$f":"'[12]Cumulative Stats'!C179","v":2}]
[null,null,null,null,null,null,null,null,null,{"$f":"'[2]Cumulative Stats'!A178","v":"Jackson, G"},"ATL",{"$f":"'[2]Cumulative Stats'!C178","v":2}]
[null,null,null,null,null,null,null,null,null,{"$f":"'[8]Cumulative Stats'!A183","v":"Leber"},"MIN",{"$f":"'[8]Cumulative Stats'!C183","v":2}]
[null,null,null,null,null,null,null,null,null,{"$f":"'[16]Cumulative Stats'!A178","v":"McIntosh"},"WAS",{"$f":"'[16]Cumulative Stats'!C178","v":2}]
[null,null,null,null,null,null,null,null,null,{"$f":"'[7]Cumulative Stats'!A176","v":"Montgomery"},"GBP",{"$f":"'[7]Cumulative Stats'!C176","v":2}]
[null,null,null,null,null,null,null,null,null,{"$f":"'[14]Cumulative Stats'!A182","v":"Moore"},"STL",{"$f":"'[14]Cumulative Stats'!C182","v":2}]
[null,null,null,null,null,null,null,null,null,{"$f":"'[4]Cumulative Stats'!A178","v":"Ogunleye"},"CHI",{"$f":"'[4]Cumulative Stats'!C178","v":2}]
[null,null,null,null,null,null,null,null,null,{"$f":"'[7]Cumulative Stats'!A177","v":"Pickett"},"GBP",{"$f":"'[7]Cumulative Stats'!C177","v":2}]
[null,null,null,null,null,null,null,null,null,{"$f":"'[9]Cumulative Stats'!A179","v":"Shanle"},"NOS",{"$f":"'[9]Cumulative Stats'!C179","v":2}]
[null,null,null,null,null,null,null,null,null,{"$f":"'[15]Cumulative Stats'!A180","v":"Sims"},"TBB",{"$f":"'[15]Cumulative Stats'!C180","v":2}]
[null,null,null,null,null,null,null,null,null,{"$f":"'[13]Cumulative Stats'!A178","v":"Sopoaga"},"SFO",{"$f":"'[13]Cumulative Stats'!C178","v":2}]
[null,null,null,null,null,null,null,null,null,{"$f":"'[5]Cumulative Stats'!A180","v":"Spencer"},"DAL",{"$f":"'[5]Cumulative Stats'!C180","v":2}]
[null,null,null,null,null,null,null,null,null,{"$f":"'[8]Cumulative Stats'!A182","v":"Winfield"},"MIN",{"$f":"'[8]Cumulative Stats'!C182","v":2}]
[null,null,null,null,null,null,null,null,null,{"$f":"'[14]Cumulative Stats'!A183","v":"Witherspoon"},"STL",{"$f":"'[14]Cumulative Stats'!C183","v":2}]
[null,null,null,null,null,null,null,null,null,{"$f":"'[3]Cumulative Stats'!A179","v":"Diggs"},"CAR",{"$f":"'[3]Cumulative Stats'!C179","v":1.5}]
[null,null,null,null,null,null,null,null,null,{"$f":"'[16]Cumulative Stats'!A179","v":"Evans"},"WAS",{"$f":"'[16]Cumulative Stats'!C179","v":1.5}]
[null,null,null,null,null,null,null,null,null,{"$f":"'[9]Cumulative Stats'!A180","v":"Grant"},"NOS",{"$f":"'[9]Cumulative Stats'!C180","v":1.5}]
[null,null,null,null,null,null,null,null,null,{"$f":"'[13]Cumulative Stats'!A179","v":"Green"},"SFO",{"$f":"'[13]Cumulative Stats'!C179","v":1.5}]
[null,null,null,null,null,null,null,null,null,{"$f":"'[5]Cumulative Stats'!A181","v":"Henry"},"DAL",{"$f":"'[5]Cumulative Stats'!C181","v":1.5}]
[null,null,null,null,null,null,null,null,null,{"$f":"'[11]Cumulative Stats'!A186","v":"Mikell"},"PHI",{"$f":"'[11]Cumulative Stats'!C186","v":1.5}]
[null,null,null,null,null,null,null,null,null,{"$f":"'[1]Cumulative Stats'!A183","v":"Robinson"},"ARI",{"$f":"'[1]Cumulative Stats'!C183","v":1.5}]
[null,null,null,null,null,null,null,null,null,{"$f":"'[9]Cumulative Stats'!A181","v":"Vilma"},"NOS",{"$f":"'[9]Cumulative Stats'!C181","v":1.5}]
[null,null,null,null,null,null,null,null,null,{"$f":"'[2]Cumulative Stats'!A179","v":"Anderson"},"ATL",{"$f":"'[2]Cumulative Stats'!C179","v":1}]
[null,null,null,null,null,null,null,null,null,{"$f":"'[7]Cumulative Stats'!A181","v":"Bishop"},"GBP",{"$f":"'[7]Cumulative Stats'!C181","v":1}]
[null,null,null,null,null,null,null,null,null,{"$f":"'[4]Cumulative Stats'!A179","v":"Briggs"},"CHI",{"$f":"'[4]Cumulative Stats'!C179","v":1}]
[null,null,null,null,null,null,null,null,null,{"$f":"'[7]Cumulative Stats'!A182","v":"Chillar"},"GBP",{"$f":"'[7]Cumulative Stats'!C182","v":1}]
[null,null,null,null,null,null,null,null,null,{"$f":"'[11]Cumulative Stats'!A187","v":"Demps"},"PHI",{"$f":"'[11]Cumulative Stats'!C187","v":1}]
[null,null,null,null,null,null,null,null,null,{"$f":"'[13]Cumulative Stats'!A180","v":"Franklin"},"SFO",{"$f":"'[13]Cumulative Stats'!C180","v":1}]
[null,null,null,null,null,null,null,null,null,{"$f":"'[9]Cumulative Stats'!A182","v":"Gay"},"NOS",{"$f":"'[9]Cumulative Stats'!C182","v":1}]
[null,null,null,null,null,null,null,null,null,{"$f":"'[14]Cumulative Stats'!A185","v":"Glover"},"STL",{"$f":"'[14]Cumulative Stats'!C185","v":1}]
[null,null,null,null,null,null,null,null,null,{"$f":"'[12]Cumulative Stats'!A181","v":"Green"},"SEA",{"$f":"'[12]Cumulative Stats'!C181","v":1}]
[null,null,null,null,null,null,null,null,null,{"$f":"'[16]Cumulative Stats'!A180","v":"Griffin"},"WAS",{"$f":"'[16]Cumulative Stats'!C180","v":1}]
[null,null,null,null,null,null,null,null,null,{"$f":"'[13]Cumulative Stats'!A181","v":"Harris"},"SFO",{"$f":"'[13]Cumulative Stats'!C181","v":1}]
[null,null,null,null,null,null,null,null,null,{"$f":"'[5]Cumulative Stats'!A182","v":"Hatcher"},"DAL",{"$f":"'[5]Cumulative Stats'!C182","v":1}]
[null,null,null,null,null,null,null,null,null,{"$f":"'[7]Cumulative Stats'!A178","v":"Hawk"},"GBP",{"$f":"'[7]Cumulative Stats'!C178","v":1}]
[null,null,null,null,null,null,null,null,null,{"$f":"'[12]Cumulative Stats'!A182","v":"Hill"},"SEA",{"$f":"'[12]Cumulative Stats'!C182","v":1}]
[null,null,null,null,null,null,null,null,null,{"$f":"'[7]Cumulative Stats'!A180","v":"Jenkins"},"GBP",{"$f":"'[7]Cumulative Stats'!C180","v":1}]
[null,null,null,null,null,null,null,null,null,{"$f":"'[14]Cumulative Stats'!A184","v":"Manning"},"STL",{"$f":"'[14]Cumulative Stats'!C184","v":1}]
[null,null,null,null,null,null,null,null,null,{"$f":"'[2]Cumulative Stats'!A180","v":"Moorehead"},"ATL",{"$f":"'[2]Cumulative Stats'!C180","v":1}]
[null,null,null,null,null,null,null,null,null,{"$f":"'[6]Cumulative Stats'!A184","v":"Pearson"},"DET",{"$f":"'[6]Cumulative Stats'!C184","v":1}]
[null,null,null,null,null,null,null,null,null,{"$f":"'[9]Cumulative Stats'!A183","v":"Reis"},"NOS",{"$f":"'[9]Cumulative Stats'!C183","v":1}]
[null,null,null,null,null,null,null,null,null,{"$f":"'[5]Cumulative Stats'!A183","v":"Scandrick"},"DAL",{"$f":"'[5]Cumulative Stats'!C183","v":1}]
[null,null,null,null,null,null,null,null,null,{"$f":"'[5]Cumulative Stats'!A184","v":"Spears"},"DAL",{"$f":"'[5]Cumulative Stats'!C184","v":1}]
[null,null,null,null,null,null,null,null,null,{"$f":"'[16]Cumulative Stats'!A181","v":"Springs"},"WAS",{"$f":"'[16]Cumulative Stats'!C181","v":1}]
[null,null,null,null,null,null,null,null,null,{"$f":"'[12]Cumulative Stats'!A180","v":"Terrill"},"SEA",{"$f":"'[12]Cumulative Stats'!C180","v":1}]
[null,null,null,null,null,null,null,null,null,{"$f":"'[5]Cumulative Stats'!A185","v":"Thomas, Z"},"DAL",{"$f":"'[5]Cumulative Stats'!C185","v":1}]
[null,null,null,null,null,null,null,null,null,{"$f":"'[12]Cumulative Stats'!A183","v":"Wilson"},"SEA",{"$f":"'[12]Cumulative Stats'!C183","v":1}]
[null,null,null,null,null,null,null,null,null,{"$f":"'[7]Cumulative Stats'!A179","v":"Woodson"},"GBP",{"$f":"'[7]Cumulative Stats'!C179","v":1}]
[null,null,null,null,null,null,null,null,null,{"$f":"'[9]Cumulative Stats'!A184","v":"Young, B"},"NOS",{"$f":"'[9]Cumulative Stats'!C184","v":1}]
[null,null,null,null,null,null,null,null,null,{"$f":"'[4]Cumulative Stats'!A180","v":"Harrison"},"CHI",{"$f":"'[4]Cumulative Stats'!C180","v":0.5}]
[null,null,null,null,null,null,null,null,null,{"$f":"'[4]Cumulative Stats'!A181","v":"Hillenmeyer"},"CHI",{"$f":"'[4]Cumulative Stats'!C181","v":0.5}]
[null,null,null,null,null,null,null,null,null,{"$f":"'[15]Cumulative Stats'!A182","v":"Jackson, T"},"TBB",{"$f":"'[15]Cumulative Stats'!C182","v":0.5}]
[null,null,null,null,null,null,null,null,null,{"$f":"'[10]Cumulative Stats'!A183","v":"Johnson, M"},"NYG",{"$f":"'[10]Cumulative Stats'!C183","v":0.5}]
[null,null,null,null,null,null,null,null,null,{"$f":"'[3]Cumulative Stats'!A180","v":"Marshall"},"CAR",{"$f":"'[3]Cumulative Stats'!C180","v":0.5}]
[null,null,null,null,null,null,null,null,null,{"$f":"'[2]Cumulative Stats'!A181","v":"Nicholas"},"ATL",{"$f":"'[2]Cumulative Stats'!C181","v":0.5}]
[null,null,null,null,null,null,null,null,null,{"$f":"'[10]Cumulative Stats'!A184","v":"Webster"},"NYG",{"$f":"'[10]Cumulative Stats'!C184","v":0.5}]

{"sheet":"NFC LEADERS","index":9,"n_rows":30,"n_cols":30,"rows_kept":30,"cut":false,"hidden":false,"merged":[]}
["2008 NFL Replay - NFC Leaders",null,null,null,null,null,null,null,null,null,null,null,null,null,null,null,null,null,null,"2008 NFL Replay - NFC "]
[]
["Leaders through Week",null,17,null,null,null,null,null,null,null,null,null,null,null,null,null,null,null,null,"Total Offense/Defense through Week:",null,null,{"$f":"+C3","v":17}]
[]
[null,null,null,null,"Pct","Yards ",null,null,"Had","Pct ","Pct","Avg.",null,null,null,null,null,null,null,null,"Replay","Replay",null,null,null,null,"Replay","Replay"]
["Passing:","     ","Att","Com","Com","Gained","TD","Long","Int.","TD","Int","Gain","YPC","Rating","Sks",null,null,null,null,"OFFENSE","Rushing","Passing","Total","Average",null,"DEFENSE","Rushing","Passing","Total","Average"]
[{"$f":"+Passing!A3","v":"Brees"},{"$f":"+Passing!B3","v":"NOS"},{"$f":"+Passing!C3","v":647},{"$f":"+Passing!D3","v":413},{"$f":"+Passing!E3","v":63.833075734157653},{"$f":"+Passing!F3","v":5058},{"$f":"+Passing!G3","v":46},{"$f":"+Passing!H3","v":79},{"$f":"+Passing!I3","v":11},{"$f":"+Passing!J3","v":7.1097372488408039},{"$f":"+Passing!K3","v":1.7001545595054095},{"$f":"+Passing!L3","v":7.8176197836166921},{"$f":"+F7/D7","v":12.246973365617434},{"$f":"+Passing!M3","v":104.46612570839773},{"$f":"+Passing!N3","v":19},null,null,null,null,{"$f":"+'Team Offense'!X6","v":"New Orleans"},{"$f":"+'Team Offense'!Y6","v":1568},{"$f":"+'Team Offense'!Z6","v":4916},{"$f":"+'Team Offense'!AA6","v":6484},{"$f":"+'Team Offense'!AB6","v":405.25},null,{"$f":"+'Team Defense'!X6","v":"New York"},{"$f":"+'Team Defense'!Y6","v":1178},{"$f":"+'Team Defense'!Z6","v":2549},{"$f":"+'Team Defense'!AA6","v":3727},{"$f":"+'Team Defense'!AB6","v":232.9375}]
[{"$f":"+Passing!A4","v":"Ryan"},{"$f":"+Passing!B4","v":"ATL"},{"$f":"+Passing!C4","v":462},{"$f":"+Passing!D4","v":277},{"$f":"+Passing!E4","v":59.95670995670995},{"$f":"+Passing!F4","v":3707},{"$f":"+Passing!G4","v":26},{"$f":"+Passing!H4","v":61},{"$f":"+Passing!I4","v":8},{"$f":"+Passing!J4","v":5.6277056277056277},{"$f":"+Passing!K4","v":1.7316017316017316},{"$f":"+Passing!L4","v":8.0238095238095237},{"$f":"+F8/D8","v":13.382671480144404},{"$f":"+Passing!M4","v":97.023809523809518},{"$f":"+Passing!N4","v":24},null,null,null,null,{"$f":"+'Team Offense'!X7","v":"Carolina"},{"$f":"+'Team Offense'!Y7","v":2763},{"$f":"+'Team Offense'!Z7","v":3551},{"$f":"+'Team Offense'!AA7","v":6314},{"$f":"+'Team Offense'!AB7","v":394.625},null,{"$f":"+'Team Defense'!X7","v":"Philadelphia"},{"$f":"+'Team Defense'!Y7","v":1672},{"$f":"+'Team Defense'!Z7","v":2290},{"$f":"+'Team Defense'!AA7","v":3962},{"$f":"+'Team Defense'!AB7","v":247.625}]
[{"$f":"+Passing!A5","v":"Warner"},{"$f":"+Passing!B5","v":"ARI"},{"$f":"+Passing!C5","v":567},{"$f":"+Passing!D5","v":376},{"$f":"+Passing!E5","v":66.313932980599645},{"$f":"+Passing!F5","v":4245},{"$f":"+Passing!G5","v":25},{"$f":"+Passing!H5","v":83},{"$f":"+Passing!I5","v":12},{"$f":"+Passing!J5","v":4.409171075837742},{"$f":"+Passing!K5","v":2.1164021164021163},{"$f":"+Passing!L5","v":7.4867724867724865},11.289893617021276,{"$f":"+Passing!M5","v":94.418724279835374},{"$f":"+Passing!N5","v":39},null,null,null,null,{"$f":"+'Team Offense'!X8","v":"Atlanta"},{"$f":"+'Team Offense'!Y8","v":2267},{"$f":"+'Team Offense'!Z8","v":3563},{"$f":"+'Team Offense'!AA8","v":5830},{"$f":"+'Team Offense'!AB8","v":364.375},null,{"$f":"+'Team Defense'!X8","v":"Carolina"},{"$f":"+'Team Defense'!Y8","v":1615},{"$f":"+'Team Defense'!Z8","v":2663},{"$f":"+'Team Defense'!AA8","v":4278},{"$f":"+'Team Defense'!AB8","v":267.375}]
[{"$f":"+Passing!A6","v":"McNabb"},{"$f":"+Passing!B6","v":"PHI"},{"$f":"+Passing!C6","v":569},{"$f":"+Passing!D6","v":352},{"$f":"+Passing!E6","v":61.862917398945513},{"$f":"+Passing!F6","v":3950},{"$f":"+Passing!G6","v":27},{"$f":"+Passing!H6","v":67},{"$f":"+Passing!I6","v":12},{"$f":"+Passing!J6","v":4.7451669595782073},{"$f":"+Passing!K6","v":2.1089630931458698},{"$f":"+Passing!L6","v":6.9420035149384889},11.221590909090908,{"$f":"+Passing!M6","v":89.590656121851183},{"$f":"+Passing!N6","v":30},null,null,null,null,{"$f":"+'Team Offense'!X9","v":"Minnesota"},{"$f":"+'Team Offense'!Y9","v":2627},{"$f":"+'Team Offense'!Z9","v":3027},{"$f":"+'Team Offense'!AA9","v":5654},{"$f":"+'Team Offense'!AB9","v":353.375},null,{"$f":"+'Team Defense'!X9","v":"Minnesota"},{"$f":"+'Team Defense'!Y9","v":1566},{"$f":"+'Team Defense'!Z9","v":2934},{"$f":"+'Team Defense'!AA9","v":4500},{"$f":"+'Team Defense'!AB9","v":281.25}]
[{"$f":"+Passing!A7","v":"Romo"},{"$f":"+Passing!B7","v":"DAL"},{"$f":"+Passing!C7","v":442},{"$f":"+Passing!D7","v":256},{"$f":"+Passing!E7","v":57.918552036199102},{"$f":"+Passing!F7","v":3280},{"$f":"+Passing!G7","v":27},{"$f":"+Passing!H7","v":80},{"$f":"+Passing!I7","v":14},{"$f":"+Passing!J7","v":6.1085972850678729},{"$f":"+Passing!K7","v":3.1674208144796379},{"$f":"+Passing!L7","v":7.4208144796380093},12.8125,{"$f":"+Passing!M7","v":88.433257918552044},{"$f":"+Passing!N7","v":19},null,null,null,null,{"$f":"+'Team Offense'!X10","v":"New York"},{"$f":"+'Team Offense'!Y10","v":2677},{"$f":"+'Team Offense'!Z10","v":2967},{"$f":"+'Team Offense'!AA10","v":5644},{"$f":"+'Team Offense'!AB10","v":352.75},null,{"$f":"+'Team Defense'!X10","v":"Washington"},{"$f":"+'Team Defense'!Y10","v":1801},{"$f":"+'Team Defense'!Z10","v":3009},{"$f":"+'Team Defense'!AA10","v":4810},{"$f":"+'Team Defense'!AB10","v":300.625}]
[{"$f":"+Passing!A8","v":"Delhomme"},{"$f":"+Passing!B8","v":"CAR"},{"$f":"+Passing!C8","v":470},{"$f":"+Passing!D8","v":278},{"$f":"+Passing!E8","v":59.148936170212764},{"$f":"+Passing!F8","v":3680},{"$f":"+Passing!G8","v":23},{"$f":"+Passing!H8","v":60},{"$f":"+Passing!I8","v":15},{"$f":"+Passing!J8","v":4.8936170212765955},{"$f":"+Passing!K8","v":3.1914893617021276},{"$f":"+Passing!L8","v":7.8297872340425529},13.237410071942445,{"$f":"+Passing!M8","v":87.012411347517727},{"$f":"+Passing!N8","v":24},null,null,null,null,{"$f":"+'Team Offense'!X11","v":"Philadelphia"},{"$f":"+'Team Offense'!Y11","v":1733},{"$f":"+'Team Offense'!Z11","v":3811},{"$f":"+'Team Offense'!AA11","v":5544},{"$f":"+'Team Offense'!AB11","v":346.5},null,{"$f":"+'Team Defense'!X11","v":"Dallas"},{"$f":"+'Team Defense'!Y11","v":1883},{"$f":"+'Team Defense'!Z11","v":2995},{"$f":"+'Team Defense'!AA11","v":4878},{"$f":"+'Team Defense'!AB11","v":304.875}]
[{"$f":"+Passing!A9","v":"Garcia"},{"$f":"+Passing!B9","v":"TBB"},{"$f":"+Passing!C9","v":442},{"$f":"+Passing!D9","v":281},{"$f":"+Passing!E9","v":63.574660633484157},{"$f":"+Passing!F9","v":2868},{"$f":"+Passing!G9","v":14},{"$f":"+Passing!H9","v":47},{"$f":"+Passing!I9","v":7},{"$f":"+Passing!J9","v":3.1674208144796379},{"$f":"+Passing!K9","v":1.5837104072398189},{"$f":"+Passing!L9","v":6.4886877828054299},10.206405693950177,{"$f":"+Passing!M9","v":86.057692307692307},{"$f":"+Passing!N9","v":36},null,null,null,null,{"$f":"+'Team Offense'!X12","v":"Arizona"},{"$f":"+'Team Offense'!Y12","v":1200},{"$f":"+'Team Offense'!Z12","v":4282},{"$f":"+'Team Offense'!AA12","v":5482},{"$f":"+'Team Offense'!AB12","v":342.625},null,{"$f":"+'Team Defense'!X12","v":"San Francisco"},{"$f":"+'Team Defense'!Y12","v":1910},{"$f":"+'Team Defense'!Z12","v":2985},{"$f":"+'Team Defense'!AA12","v":4895},{"$f":"+'Team Defense'!AB12","v":305.9375}]
[{"$f":"+Passing!A10","v":"Wallace, S"},{"$f":"+Passing!B10","v":"SEA"},{"$f":"+Passing!C10","v":264},{"$f":"+Passing!D10","v":143},{"$f":"+Passing!E10","v":54.166666666666664},{"$f":"+Passing!F10","v":1529},{"$f":"+Passing!G10","v":7},{"$f":"+Passing!H10","v":62},{"$f":"+Passing!I10","v":0},{"$f":"+Passing!J10","v":2.6515151515151514},{"$f":"+Passing!K10","v":0},{"$f":"+Passing!L10","v":5.791666666666667},10.692307692307692,{"$f":"+Passing!M10","v":80.192550505050505},{"$f":"+Passing!N10","v":15},null,null,null,null,{"$f":"+'Team Offense'!X13","v":"Dallas"},{"$f":"+'Team Offense'!Y13","v":1838},{"$f":"+'Team Offense'!Z13","v":3524},{"$f":"+'Team Offense'!AA13","v":5362},{"$f":"+'Team Offense'!AB13","v":335.125},null,{"$f":"+'Team Defense'!X13","v":"Atlanta"},{"$f":"+'Team Defense'!Y13","v":1885},{"$f":"+'Team Defense'!Z13","v":3053},{"$f":"+'Team Defense'!AA13","v":4938},{"$f":"+'Team Defense'!AB13","v":308.625}]
[{"$f":"+Passing!A11","v":"Hill, S"},{"$f":"+Passing!B11","v":"SFO"},{"$f":"+Passing!C11","v":285},{"$f":"+Passing!D11","v":164},{"$f":"+Passing!E11","v":57.543859649122808},{"$f":"+Passing!F11","v":2121},{"$f":"+Passing!G11","v":13},{"$f":"+Passing!H11","v":79},{"$f":"+Passing!I11","v":11},{"$f":"+Passing!J11","v":4.5614035087719298},{"$f":"+Passing!K11","v":3.8596491228070176},{"$f":"+Passing!L11","v":7.4421052631578943},12.932926829268293,{"$f":"+Passing!M11","v":80.168128654970772},{"$f":"+Passing!N11","v":20},null,null,null,null,{"$f":"+'Team Offense'!X14","v":"Tampa By"},{"$f":"+'Team Offense'!Y14","v":1753},{"$f":"+'Team Offense'!Z14","v":3333},{"$f":"+'Team Offense'!AA14","v":5086},{"$f":"+'Team Offense'!AB14","v":317.875},null,{"$f":"+'Team Defense'!X14","v":"Tampa By"},{"$f":"+'Team Defense'!Y14","v":1739},{"$f":"+'Team Defense'!Z14","v":3269},{"$f":"+'Team Defense'!AA14","v":5008},{"$f":"+'Team Defense'!AB14","v":313}]
[{"$f":"+Passing!A12","v":"Orlovsky"},{"$f":"+Passing!B12","v":"DET"},{"$f":"+Passing!C12","v":278},{"$f":"+Passing!D12","v":166},{"$f":"+Passing!E12","v":59.712230215827333},{"$f":"+Passing!F12","v":1784},{"$f":"+Passing!G12","v":11},{"$f":"+Passing!H12","v":52},{"$f":"+Passing!I12","v":8},{"$f":"+Passing!J12","v":3.9568345323741005},{"$f":"+Passing!K12","v":2.877697841726619},{"$f":"+Passing!L12","v":6.4172661870503598},10.746987951807229,{"$f":"+Passing!M12","v":79.781175059952034},{"$f":"+Passing!N12","v":15},null,null,null,null,{"$f":"+'Team Offense'!X15","v":"Green Bay"},{"$f":"+'Team Offense'!Y15","v":1687},{"$f":"+'Team Offense'!Z15","v":3089},{"$f":"+'Team Offense'!AA15","v":4776},{"$f":"+'Team Offense'!AB15","v":298.5},null,{"$f":"+'Team Defense'!X15","v":"New Orleans"},{"$f":"+'Team Defense'!Y15","v":1909},{"$f":"+'Team Defense'!Z15","v":3182},{"$f":"+'Team Defense'!AA15","v":5091},{"$f":"+'Team Defense'!AB15","v":318.1875}]
[null,null,null,null,null,null,null,null,null,null,null,null,null,null,null,null,null,null,null,{"$f":"+'Team Offense'!X16","v":"San Francisco"},{"$f":"+'Team Offense'!Y16","v":1614},{"$f":"+'Team Offense'!Z16","v":3156},{"$f":"+'Team Offense'!AA16","v":4770},{"$f":"+'Team Offense'!AB16","v":298.125},null,{"$f":"+'Team Defense'!X16","v":"Chicago"},{"$f":"+'Team Defense'!Y16","v":1651},{"$f":"+'Team Defense'!Z16","v":3508},{"$f":"+'Team Defense'!AA16","v":5159},{"$f":"+'Team Defense'!AB16","v":322.4375}]
["Rushing:",null,"Att ","Yards","Avg.","Long ","TD",null,"Interceptions:",null,null,null,"Int","Yards","Avg","Long","TD",null,null,{"$f":"+'Team Offense'!X17","v":"Washington"},{"$f":"+'Team Offense'!Y17","v":2044},{"$f":"+'Team Offense'!Z17","v":2451},{"$f":"+'Team Offense'!AA17","v":4495},{"$f":"+'Team Offense'!AB17","v":280.9375},null,{"$f":"+'Team Defense'!X17","v":"Arizona"},{"$f":"+'Team Defense'!Y17","v":2244},{"$f":"+'Team Defense'!Z17","v":2954},{"$f":"+'Team Defense'!AA17","v":5198},{"$f":"+'Team Defense'!AB17","v":324.875}]
[{"$f":"+'Rush - Rec'!A2","v":"Peterson"},{"$f":"+'Rush - Rec'!B2","v":"MIN"},{"$f":"+'Rush - Rec'!C2","v":356},{"$f":"+'Rush - Rec'!D2","v":1931},{"$f":"+'Rush - Rec'!E2","v":5.4241573033707864},{"$f":"+'Rush - Rec'!F2","v":67},{"$f":"+'Rush - Rec'!G2","v":13},null,{"$f":"+'Int - Sack'!A2","v":"Atogwe"},null,null,{"$f":"+'Int - Sack'!B2","v":"STL"},{"$f":"+'Int - Sack'!C2","v":9},{"$f":"+'Int - Sack'!D2","v":142},{"$f":"+'Int - Sack'!E2","v":15.777777777777779},{"$f":"+'Int - Sack'!F2","v":23},{"$f":"+'Int - Sack'!G2","v":1},null,null,{"$f":"+'Team Offense'!X18","v":"Detroit"},{"$f":"+'Team Offense'!Y18","v":1331},{"$f":"+'Team Offense'!Z18","v":3109},{"$f":"+'Team Offense'!AA18","v":4440},{"$f":"+'Team Offense'!AB18","v":277.5},null,{"$f":"+'Team Defense'!X18","v":"Green Bay"},{"$f":"+'Team Defense'!Y18","v":2008},{"$f":"+'Team Defense'!Z18","v":3682},{"$f":"+'Team Defense'!AA18","v":5690},{"$f":"+'Team Defense'!AB18","v":355.625}]
[{"$f":"+'Rush - Rec'!A3","v":"Turner"},{"$f":"+'Rush - Rec'!B3","v":"ATL"},{"$f":"+'Rush - Rec'!C3","v":365},{"$f":"+'Rush - Rec'!D3","v":1760},{"$f":"+'Rush - Rec'!E3","v":4.8219178082191778},{"$f":"+'Rush - Rec'!F3","v":69},{"$f":"+'Rush - Rec'!G3","v":16},null,{"$f":"+'Int - Sack'!A3","v":"Woodson"},null,null,{"$f":"+'Int - Sack'!B3","v":"GBP"},{"$f":"+'Int - Sack'!C3","v":7},{"$f":"+'Int - Sack'!D3","v":119},{"$f":"+'Int - Sack'!E3","v":17},{"$f":"+'Int - Sack'!F3","v":27},{"$f":"+'Int - Sack'!G3","v":0},null,null,{"$f":"+'Team Offense'!X19","v":"St. Louis"},{"$f":"+'Team Offense'!Y19","v":1319},{"$f":"+'Team Offense'!Z19","v":2762},{"$f":"+'Team Offense'!AA19","v":4081},{"$f":"+'Team Offense'!AB19","v":255.0625},null,{"$f":"+'Team Defense'!X19","v":"St. Louis"},{"$f":"+'Team Defense'!Y19","v":2290},{"$f":"+'Team Defense'!Z19","v":3643},{"$f":"+'Team Defense'!AA19","v":5933},{"$f":"+'Team Defense'!AB19","v":370.8125}]
[{"$f":"+'Rush - Rec'!A4","v":"Williams, D"},{"$f":"+'Rush - Rec'!B4","v":"CAR"},{"$f":"+'Rush - Rec'!C4","v":281},{"$f":"+'Rush - Rec'!D4","v":1754},{"$f":"+'Rush - Rec'!E4","v":6.2419928825622772},{"$f":"+'Rush - Rec'!F4","v":69},{"$f":"+'Rush - Rec'!G4","v":18},null,{"$f":"+'Int - Sack'!A4","v":"Buchanon"},null,null,{"$f":"+'Int - Sack'!B4","v":"TBB"},{"$f":"+'Int - Sack'!C4","v":6},{"$f":"+'Int - Sack'!D4","v":124},{"$f":"+'Int - Sack'!E4","v":20.666666666666668},{"$f":"+'Int - Sack'!F4","v":31},{"$f":"+'Int - Sack'!G4","v":1},null,null,{"$f":"+'Team Offense'!X20","v":"Chicago"},{"$f":"+'Team Offense'!Y20","v":1564},{"$f":"+'Team Offense'!Z20","v":2489},{"$f":"+'Team Offense'!AA20","v":4053},{"$f":"+'Team Offense'!AB20","v":253.3125},null,{"$f":"+'Team Defense'!X20","v":"Seattle"},{"$f":"+'Team Defense'!Y20","v":2089},{"$f":"+'Team Defense'!Z20","v":3890},{"$f":"+'Team Defense'!AA20","v":5979},{"$f":"+'Team Defense'!AB20","v":373.6875}]
[{"$f":"+'Rush - Rec'!A5","v":"Portis"},{"$f":"+'Rush - Rec'!B5","v":"WAS"},{"$f":"+'Rush - Rec'!C5","v":342},{"$f":"+'Rush - Rec'!D5","v":1444},{"$f":"+'Rush - Rec'!E5","v":4.2222222222222223},{"$f":"+'Rush - Rec'!F5","v":38},{"$f":"+'Rush - Rec'!G5","v":10},null,{"$f":"+'Int - Sack'!A5","v":"Nece"},null,null,{"$f":"+'Int - Sack'!B5","v":"DET"},{"$f":"+'Int - Sack'!C5","v":6},{"$f":"+'Int - Sack'!D5","v":113},{"$f":"+'Int - Sack'!E5","v":18.833333333333332},{"$f":"+'Int - Sack'!F5","v":23},{"$f":"+'Int - Sack'!G5","v":1},null,null,{"$f":"+'Team Offense'!X21","v":"Seattle"},{"$f":"+'Team Offense'!Y21","v":1700},{"$f":"+'Team Offense'!Z21","v":2209},{"$f":"+'Team Offense'!AA21","v":3909},{"$f":"+'Team Offense'!AB21","v":244.3125},null,{"$f":"+'Team Defense'!X21","v":"Detroit"},{"$f":"+'Team Defense'!Y21","v":2585},{"$f":"+'Team Defense'!Z21","v":3728},{"$f":"+'Team Defense'!AA21","v":6313},{"$f":"+'Team Defense'!AB21","v":394.5625}]
[{"$f":"+'Rush - Rec'!A6","v":"Ward"},{"$f":"+'Rush - Rec'!B6","v":"NYG"},{"$f":"+'Rush - Rec'!C6","v":217},{"$f":"+'Rush - Rec'!D6","v":1212},{"$f":"+'Rush - Rec'!E6","v":5.5852534562211984},{"$f":"+'Rush - Rec'!F6","v":32},{"$f":"+'Rush - Rec'!G6","v":9},null,{"$f":"+'Int - Sack'!A6","v":"Beason"},null,null,{"$f":"+'Int - Sack'!B6","v":"CAR"},{"$f":"+'Int - Sack'!C6","v":6},{"$f":"+'Int - Sack'!D6","v":57},{"$f":"+'Int - Sack'!E6","v":9.5},{"$f":"+'Int - Sack'!F6","v":46},{"$f":"+'Int - Sack'!G6","v":0}]
[]
["Receiving:",null,"Rec","Yards","Avg.","Long ","TD",null,"Sacks:",null,null,null,"No."]
[{"$f":"+'Rush - Rec'!J2","v":"White"},{"$f":"+'Rush - Rec'!K2","v":"ATL"},{"$f":"+'Rush - Rec'!L2","v":102},{"$f":"+'Rush - Rec'!M2","v":1571},{"$f":"+'Rush - Rec'!N2","v":15.401960784313726},{"$f":"+'Rush - Rec'!O2","v":57},{"$f":"+'Rush - Rec'!P2","v":14},null,{"$f":"+'Int - Sack'!J2","v":"Ware"},null,null,{"$f":"+'Int - Sack'!K2","v":"DAL"},{"$f":"+'Int - Sack'!L2","v":22.5}]
[{"$f":"+'Rush - Rec'!J3","v":"Bryant, A"},{"$f":"+'Rush - Rec'!K3","v":"TBB"},{"$f":"+'Rush - Rec'!L3","v":99},{"$f":"+'Rush - Rec'!M3","v":1318},{"$f":"+'Rush - Rec'!N3","v":13.313131313131313},{"$f":"+'Rush - Rec'!O3","v":35},{"$f":"+'Rush - Rec'!P3","v":6},null,{"$f":"+'Int - Sack'!J3","v":"Allen, J"},null,null,{"$f":"+'Int - Sack'!K3","v":"MIN"},{"$f":"+'Int - Sack'!L3","v":22}]
[{"$f":"+'Rush - Rec'!J4","v":"Fitzgerald"},{"$f":"+'Rush - Rec'!K4","v":"ARI"},{"$f":"+'Rush - Rec'!L4","v":96},{"$f":"+'Rush - Rec'!M4","v":1366},{"$f":"+'Rush - Rec'!N4","v":14.229166666666666},{"$f":"+'Rush - Rec'!O4","v":76},{"$f":"+'Rush - Rec'!P4","v":9},null,{"$f":"+'Int - Sack'!J4","v":"Abraham"},null,null,{"$f":"+'Int - Sack'!K4","v":"ATL"},{"$f":"+'Int - Sack'!L4","v":18.5}]
[{"$f":"+'Rush - Rec'!J5","v":"Smith, St"},{"$f":"+'Rush - Rec'!K5","v":"CAR"},{"$f":"+'Rush - Rec'!L5","v":94},{"$f":"+'Rush - Rec'!M5","v":1523},{"$f":"+'Rush - Rec'!N5","v":16.202127659574469},{"$f":"+'Rush - Rec'!O5","v":36},{"$f":"+'Rush - Rec'!P5","v":10},null,{"$f":"+'Int - Sack'!J5","v":"Peppers"},null,null,{"$f":"+'Int - Sack'!K5","v":"CAR"},{"$f":"+'Int - Sack'!L5","v":16.5}]
[{"$f":"+'Rush - Rec'!J6","v":"Johnson, C"},{"$f":"+'Rush - Rec'!K6","v":"DET"},{"$f":"+'Rush - Rec'!L6","v":92},{"$f":"+'Rush - Rec'!M6","v":1427},{"$f":"+'Rush - Rec'!N6","v":15.510869565217391},{"$f":"+'Rush - Rec'!O6","v":75},{"$f":"+'Rush - Rec'!P6","v":13},null,{"$f":"+'Int - Sack'!J6","v":"Smith, J"},null,null,{"$f":"+'Int - Sack'!K6","v":"SFO"},{"$f":"+'Int - Sack'!L6","v":15}]